Back to Multiple platform build/check report for BioC 3.8 |
|
This page was generated on 2019-04-16 12:00:32 -0400 (Tue, 16 Apr 2019).
Package 548/1649 | Hostname | OS / Arch | INSTALL | BUILD | CHECK | BUILD BIN | ||||||
flowTime 1.6.1 R. Clay Wright
| malbec1 | Linux (Ubuntu 16.04.6 LTS) / x86_64 | OK | OK | OK | ![]() | ||||||
merida1 | OS X 10.11.6 El Capitan / x86_64 | OK | OK | [ OK ] | OK | ![]() |
Package: flowTime |
Version: 1.6.1 |
Command: /Library/Frameworks/R.framework/Versions/Current/Resources/bin/R CMD check --install=check:flowTime.install-out.txt --library=/Library/Frameworks/R.framework/Versions/Current/Resources/library --no-vignettes --timings flowTime_1.6.1.tar.gz |
StartedAt: 2019-04-15 23:59:49 -0400 (Mon, 15 Apr 2019) |
EndedAt: 2019-04-16 00:00:52 -0400 (Tue, 16 Apr 2019) |
EllapsedTime: 62.4 seconds |
RetCode: 0 |
Status: OK |
CheckDir: flowTime.Rcheck |
Warnings: 0 |
############################################################################## ############################################################################## ### ### Running command: ### ### /Library/Frameworks/R.framework/Versions/Current/Resources/bin/R CMD check --install=check:flowTime.install-out.txt --library=/Library/Frameworks/R.framework/Versions/Current/Resources/library --no-vignettes --timings flowTime_1.6.1.tar.gz ### ############################################################################## ############################################################################## * using log directory ‘/Users/biocbuild/bbs-3.8-bioc/meat/flowTime.Rcheck’ * using R version 3.5.3 (2019-03-11) * using platform: x86_64-apple-darwin15.6.0 (64-bit) * using session charset: UTF-8 * using option ‘--no-vignettes’ * checking for file ‘flowTime/DESCRIPTION’ ... OK * this is package ‘flowTime’ version ‘1.6.1’ * checking package namespace information ... OK * checking package dependencies ... OK * checking if this is a source package ... OK * checking if there is a namespace ... OK * checking for hidden files and directories ... OK * checking for portable file names ... OK * checking for sufficient/correct file permissions ... OK * checking whether package ‘flowTime’ can be installed ... OK * checking installed package size ... OK * checking package directory ... OK * checking ‘build’ directory ... OK * checking DESCRIPTION meta-information ... OK * checking top-level files ... OK * checking for left-over files ... OK * checking index information ... OK * checking package subdirectories ... OK * checking R files for non-ASCII characters ... OK * checking R files for syntax errors ... OK * checking whether the package can be loaded ... OK * checking whether the package can be loaded with stated dependencies ... OK * checking whether the package can be unloaded cleanly ... OK * checking whether the namespace can be loaded with stated dependencies ... OK * checking whether the namespace can be unloaded cleanly ... OK * checking dependencies in R code ... OK * checking S3 generic/method consistency ... OK * checking replacement functions ... OK * checking foreign function calls ... OK * checking R code for possible problems ... OK * checking Rd files ... OK * checking Rd metadata ... OK * checking Rd cross-references ... OK * checking for missing documentation entries ... OK * checking for code/documentation mismatches ... OK * checking Rd \usage sections ... OK * checking Rd contents ... OK * checking for unstated dependencies in examples ... OK * checking contents of ‘data’ directory ... OK * checking data for non-ASCII characters ... OK * checking data for ASCII and uncompressed saves ... OK * checking files in ‘vignettes’ ... OK * checking examples ... OK * checking for unstated dependencies in vignettes ... OK * checking package vignettes in ‘inst/doc’ ... OK * checking running R code from vignettes ... SKIPPED * checking re-building of vignette outputs ... SKIPPED * checking PDF version of manual ... OK * DONE Status: OK
flowTime.Rcheck/00install.out
############################################################################## ############################################################################## ### ### Running command: ### ### /Library/Frameworks/R.framework/Versions/Current/Resources/bin/R CMD INSTALL flowTime ### ############################################################################## ############################################################################## * installing to library ‘/Library/Frameworks/R.framework/Versions/3.5/Resources/library’ * installing *source* package ‘flowTime’ ... ** R ** data *** moving datasets to lazyload DB ** inst ** byte-compile and prepare package for lazy loading ** help *** installing help indices ** building package indices ** installing vignettes ** testing if installed package can be loaded * DONE (flowTime)
flowTime.Rcheck/flowTime-Ex.timings
name | user | system | elapsed | |
addbs | 1.201 | 0.057 | 1.272 | |
addnorm | 1.157 | 0.011 | 1.177 | |
annotateFlowSet | 0.394 | 0.013 | 0.414 | |
createAnnotation | 0.496 | 0.010 | 0.511 | |
flsummary | 0.557 | 0.011 | 0.570 | |
getTime | 0.519 | 0.007 | 0.532 | |
loadGates | 0.003 | 0.001 | 0.004 | |
ploidy | 0.523 | 0.005 | 0.573 | |
polygate | 0.009 | 0.000 | 0.009 | |
qaGating | 0.528 | 0.008 | 0.538 | |
read.plateSet | 1.163 | 0.015 | 1.216 | |
saveGates | 0.004 | 0.002 | 0.006 | |
steadyState | 2.189 | 0.432 | 2.732 | |
summarizeFlow | 0.504 | 0.012 | 0.517 | |