Back to Multiple platform build/check report for BioC 3.8 |
|
This page was generated on 2019-04-16 11:54:34 -0400 (Tue, 16 Apr 2019).
Package 551/1649 | Hostname | OS / Arch | INSTALL | BUILD | CHECK | BUILD BIN | ||||||
flowUtils 1.46.1 Josef Spidlen
| malbec1 | Linux (Ubuntu 16.04.6 LTS) / x86_64 | OK | OK | OK | ![]() | ||||||
merida1 | OS X 10.11.6 El Capitan / x86_64 | OK | OK | OK | [ OK ] | ![]() |
Package: flowUtils |
Version: 1.46.1 |
Command: rm -rf flowUtils.buildbin-libdir && mkdir flowUtils.buildbin-libdir && /Users/biocbuild/BBS/utils/build-universal.sh flowUtils_1.46.1.tar.gz /Library/Frameworks/R.framework/Versions/Current/Resources/bin/R flowUtils.buildbin-libdir |
StartedAt: 2019-04-16 04:04:17 -0400 (Tue, 16 Apr 2019) |
EndedAt: 2019-04-16 04:05:03 -0400 (Tue, 16 Apr 2019) |
EllapsedTime: 45.8 seconds |
RetCode: 0 |
Status: OK |
PackageFile: flowUtils_1.46.1.tgz |
PackageFileSize: 522.2 KiB |
############################################################################## ############################################################################## ### ### Running command: ### ### rm -rf flowUtils.buildbin-libdir && mkdir flowUtils.buildbin-libdir && /Users/biocbuild/BBS/utils/build-universal.sh flowUtils_1.46.1.tar.gz /Library/Frameworks/R.framework/Versions/Current/Resources/bin/R flowUtils.buildbin-libdir ### ############################################################################## ############################################################################## >>>>>>> >>>>>>> INSTALLATION WITH 'R CMD INSTALL --preclean --no-multiarch --library=flowUtils.buildbin-libdir flowUtils_1.46.1.tar.gz' >>>>>>> * installing *source* package ‘flowUtils’ ... ** R ** inst ** byte-compile and prepare package for lazy loading ** help *** installing help indices ** building package indices ** installing vignettes ** testing if installed package can be loaded * DONE (flowUtils)