Back to Multiple platform build/check report for BioC 3.8 |
|
This page was generated on 2019-04-16 11:54:53 -0400 (Tue, 16 Apr 2019).
Package 805/1649 | Hostname | OS / Arch | INSTALL | BUILD | CHECK | BUILD BIN | ||||||
iterativeBMAsurv 1.40.0 Ka Yee Yeung
| malbec1 | Linux (Ubuntu 16.04.6 LTS) / x86_64 | OK | OK | OK | ![]() | ||||||
merida1 | OS X 10.11.6 El Capitan / x86_64 | OK | OK | [ OK ] | OK | ![]() |
Package: iterativeBMAsurv |
Version: 1.40.0 |
Command: /Library/Frameworks/R.framework/Versions/Current/Resources/bin/R CMD check --install=check:iterativeBMAsurv.install-out.txt --library=/Library/Frameworks/R.framework/Versions/Current/Resources/library --no-vignettes --timings iterativeBMAsurv_1.40.0.tar.gz |
StartedAt: 2019-04-16 00:48:37 -0400 (Tue, 16 Apr 2019) |
EndedAt: 2019-04-16 00:50:32 -0400 (Tue, 16 Apr 2019) |
EllapsedTime: 114.1 seconds |
RetCode: 0 |
Status: OK |
CheckDir: iterativeBMAsurv.Rcheck |
Warnings: 0 |
############################################################################## ############################################################################## ### ### Running command: ### ### /Library/Frameworks/R.framework/Versions/Current/Resources/bin/R CMD check --install=check:iterativeBMAsurv.install-out.txt --library=/Library/Frameworks/R.framework/Versions/Current/Resources/library --no-vignettes --timings iterativeBMAsurv_1.40.0.tar.gz ### ############################################################################## ############################################################################## * using log directory ‘/Users/biocbuild/bbs-3.8-bioc/meat/iterativeBMAsurv.Rcheck’ * using R version 3.5.3 (2019-03-11) * using platform: x86_64-apple-darwin15.6.0 (64-bit) * using session charset: UTF-8 * using option ‘--no-vignettes’ * checking for file ‘iterativeBMAsurv/DESCRIPTION’ ... OK * checking extension type ... Package * this is package ‘iterativeBMAsurv’ version ‘1.40.0’ * checking package namespace information ... OK * checking package dependencies ... OK * checking if this is a source package ... OK * checking if there is a namespace ... OK * checking for hidden files and directories ... OK * checking for portable file names ... OK * checking for sufficient/correct file permissions ... OK * checking whether package ‘iterativeBMAsurv’ can be installed ... OK * checking installed package size ... OK * checking package directory ... OK * checking ‘build’ directory ... OK * checking DESCRIPTION meta-information ... NOTE Package listed in more than one of Depends, Imports, Suggests, Enhances: ‘survival’ A package should be listed in only one of these fields. * checking top-level files ... OK * checking for left-over files ... OK * checking index information ... OK * checking package subdirectories ... OK * checking R files for non-ASCII characters ... OK * checking R files for syntax errors ... OK * checking whether the package can be loaded ... OK * checking whether the package can be loaded with stated dependencies ... OK * checking whether the package can be unloaded cleanly ... OK * checking whether the namespace can be loaded with stated dependencies ... OK * checking whether the namespace can be unloaded cleanly ... OK * checking dependencies in R code ... NOTE Packages in Depends field not imported from: ‘BMA’ ‘leaps’ ‘splines’ These packages need to be imported from (in the NAMESPACE file) for when this namespace is loaded but not attached. * checking S3 generic/method consistency ... OK * checking replacement functions ... OK * checking foreign function calls ... OK * checking R code for possible problems ... NOTE iterateBMAsurv.train: no visible global function definition for ‘bic.surv’ iterateBMAsurv.train.wrapper: no visible global function definition for ‘bic.surv’ Undefined global functions or variables: bic.surv * checking Rd files ... NOTE prepare_Rd: predictBicSurv.Rd:46: Dropping empty section \note prepare_Rd: predictiveAssessCategory.Rd:52: Dropping empty section \note prepare_Rd: printTopGenes.Rd:49: Dropping empty section \note prepare_Rd: singleGeneCoxph.Rd:54: Dropping empty section \note prepare_Rd: testCens.Rd:13-14: Dropping empty section \details prepare_Rd: testSurv.Rd:13-14: Dropping empty section \details prepare_Rd: trainCens.Rd:13-14: Dropping empty section \details prepare_Rd: trainSurv.Rd:13-14: Dropping empty section \details * checking Rd metadata ... OK * checking Rd cross-references ... OK * checking for missing documentation entries ... OK * checking for code/documentation mismatches ... OK * checking Rd \usage sections ... OK * checking Rd contents ... OK * checking for unstated dependencies in examples ... OK * checking contents of ‘data’ directory ... OK * checking data for non-ASCII characters ... OK * checking data for ASCII and uncompressed saves ... OK * checking sizes of PDF files under ‘inst/doc’ ... OK * checking files in ‘vignettes’ ... OK * checking examples ... OK Examples with CPU or elapsed time > 5s user system elapsed imageplot.iterate.bma.surv 17.434 0.115 17.648 predictiveAssessCategory 9.151 0.103 9.304 predictBicSurv 8.354 0.069 8.460 iterateBMAsurv.train 8.324 0.067 8.420 iterateBMAsurv.train.wrapper 8.123 0.040 8.206 * checking for unstated dependencies in vignettes ... OK * checking package vignettes in ‘inst/doc’ ... OK * checking running R code from vignettes ... SKIPPED * checking re-building of vignette outputs ... SKIPPED * checking PDF version of manual ... OK * DONE Status: 4 NOTEs See ‘/Users/biocbuild/bbs-3.8-bioc/meat/iterativeBMAsurv.Rcheck/00check.log’ for details.
iterativeBMAsurv.Rcheck/00install.out
############################################################################## ############################################################################## ### ### Running command: ### ### /Library/Frameworks/R.framework/Versions/Current/Resources/bin/R CMD INSTALL iterativeBMAsurv ### ############################################################################## ############################################################################## * installing to library ‘/Library/Frameworks/R.framework/Versions/3.5/Resources/library’ * installing *source* package ‘iterativeBMAsurv’ ... ** R ** data ** byte-compile and prepare package for lazy loading ** help *** installing help indices ** building package indices ** installing vignettes ** testing if installed package can be loaded * DONE (iterativeBMAsurv)
iterativeBMAsurv.Rcheck/iterativeBMAsurv-Ex.timings
name | user | system | elapsed | |
crossVal | 2.157 | 0.051 | 2.216 | |
imageplot.iterate.bma.surv | 17.434 | 0.115 | 17.648 | |
iterateBMAsurv.train | 8.324 | 0.067 | 8.420 | |
iterateBMAsurv.train.predict.assess | 1.135 | 0.033 | 1.174 | |
iterateBMAsurv.train.wrapper | 8.123 | 0.040 | 8.206 | |
iterativeBMAsurv-package | 3.242 | 0.061 | 3.320 | |
predictBicSurv | 8.354 | 0.069 | 8.460 | |
predictiveAssessCategory | 9.151 | 0.103 | 9.304 | |
printTopGenes | 0.511 | 0.008 | 0.519 | |
singleGeneCoxph | 0.553 | 0.006 | 0.565 | |