Back to Multiple platform build/check report for BioC 3.8
ABCDEFGHIJKL[M]NOPQRSTUVWXYZ

CHECK report for mQTL.NMR on malbec1

This page was generated on 2018-06-25 10:06:42 -0400 (Mon, 25 Jun 2018).

Package 953/1570HostnameOS / ArchINSTALLBUILDCHECKBUILD BIN
mQTL.NMR 1.15.0
Lyamine Hedjazi
Snapshot Date: 2018-06-24 16:46:02 -0400 (Sun, 24 Jun 2018)
URL: https://git.bioconductor.org/packages/mQTL.NMR
Branch: master
Last Commit: 3e23d88
Last Changed Date: 2018-04-30 10:41:40 -0400 (Mon, 30 Apr 2018)
malbec1 Linux (Ubuntu 16.04.1 LTS) / x86_64  OK  OK [ OK ]UNNEEDED, same version exists in internal repository
tokay1 Windows Server 2012 R2 Standard / x64  OK  OK  OK  OK UNNEEDED, same version exists in internal repository
merida1 OS X 10.11.6 El Capitan / x86_64  OK  OK  OK  OK UNNEEDED, same version exists in internal repository

Summary

Package: mQTL.NMR
Version: 1.15.0
Command: /home/biocbuild/bbs-3.8-bioc/R/bin/R CMD check --install=check:mQTL.NMR.install-out.txt --library=/home/biocbuild/bbs-3.8-bioc/R/library --no-vignettes --timings mQTL.NMR_1.15.0.tar.gz
StartedAt: 2018-06-25 02:04:03 -0400 (Mon, 25 Jun 2018)
EndedAt: 2018-06-25 02:06:23 -0400 (Mon, 25 Jun 2018)
EllapsedTime: 139.2 seconds
RetCode: 0
Status:  OK 
CheckDir: mQTL.NMR.Rcheck
Warnings: 0

Command output

##############################################################################
##############################################################################
###
### Running command:
###
###   /home/biocbuild/bbs-3.8-bioc/R/bin/R CMD check --install=check:mQTL.NMR.install-out.txt --library=/home/biocbuild/bbs-3.8-bioc/R/library --no-vignettes --timings mQTL.NMR_1.15.0.tar.gz
###
##############################################################################
##############################################################################


* using log directory ‘/home/biocbuild/bbs-3.8-bioc/meat/mQTL.NMR.Rcheck’
* using R version 3.5.0 Patched (2018-05-03 r74699)
* using platform: x86_64-pc-linux-gnu (64-bit)
* using session charset: UTF-8
* using option ‘--no-vignettes’
* checking for file ‘mQTL.NMR/DESCRIPTION’ ... OK
* checking extension type ... Package
* this is package ‘mQTL.NMR’ version ‘1.15.0’
* checking package namespace information ... OK
* checking package dependencies ... OK
* checking if this is a source package ... OK
* checking if there is a namespace ... OK
* checking for hidden files and directories ... OK
* checking for portable file names ... OK
* checking for sufficient/correct file permissions ... OK
* checking whether package ‘mQTL.NMR’ can be installed ... OK
* checking installed package size ... OK
* checking package directory ... OK
* checking ‘build’ directory ... OK
* checking DESCRIPTION meta-information ... OK
* checking top-level files ... OK
* checking for left-over files ... OK
* checking index information ... OK
* checking package subdirectories ... NOTE
Found the following CITATION file in a non-standard place:
  inst/CITATION.Rd
Most likely ‘inst/CITATION’ should be used instead.
* checking R files for non-ASCII characters ... OK
* checking R files for syntax errors ... OK
* checking whether the package can be loaded ... OK
* checking whether the package can be loaded with stated dependencies ... OK
* checking whether the package can be unloaded cleanly ... OK
* checking whether the namespace can be loaded with stated dependencies ... OK
* checking whether the namespace can be unloaded cleanly ... OK
* checking dependencies in R code ... OK
* checking S3 generic/method consistency ... OK
* checking replacement functions ... OK
* checking foreign function calls ... OK
* checking R code for possible problems ... NOTE
circle_mQTL: no visible global function definition for ‘rainbow’
post_mQTL: no visible global function definition for ‘dev.new’
post_mQTL: no visible global function definition for ‘png’
post_mQTL: no visible global function definition for ‘dev.off’
ppersp: no visible global function definition for ‘colorRampPalette’
Undefined global functions or variables:
  colorRampPalette dev.new dev.off png rainbow
Consider adding
  importFrom("grDevices", "colorRampPalette", "dev.new", "dev.off",
             "png", "rainbow")
to your NAMESPACE file.
* checking Rd files ... OK
* checking Rd metadata ... OK
* checking Rd cross-references ... OK
* checking for missing documentation entries ... OK
* checking for code/documentation mismatches ... OK
* checking Rd \usage sections ... OK
* checking Rd contents ... OK
* checking for unstated dependencies in examples ... OK
* checking files in ‘vignettes’ ... OK
* checking examples ... OK
Examples with CPU or elapsed time > 5s
                   user system elapsed
mQTL.NMR-package 33.932  0.048  34.008
pre_mQTL         32.460  0.020  32.507
align_mQTL       30.020  0.032  30.074
process_mGWA      6.260  0.012   6.293
* checking for unstated dependencies in vignettes ... OK
* checking package vignettes in ‘inst/doc’ ... OK
* checking running R code from vignettes ... SKIPPED
* checking re-building of vignette outputs ... SKIPPED
* checking PDF version of manual ... OK
* DONE

Status: 2 NOTEs
See
  ‘/home/biocbuild/bbs-3.8-bioc/meat/mQTL.NMR.Rcheck/00check.log’
for details.



Installation output

mQTL.NMR.Rcheck/00install.out

##############################################################################
##############################################################################
###
### Running command:
###
###   /home/biocbuild/bbs-3.8-bioc/R/bin/R CMD INSTALL mQTL.NMR
###
##############################################################################
##############################################################################


* installing to library ‘/home/biocbuild/bbs-3.8-bioc/R/library’
* installing *source* package ‘mQTL.NMR’ ...
** R
** inst
** byte-compile and prepare package for lazy loading
** help
*** installing help indices
** building package indices
** installing vignettes
** testing if installed package can be loaded
* DONE (mQTL.NMR)

Tests output


Example timings

mQTL.NMR.Rcheck/mQTL.NMR-Ex.timings

nameusersystemelapsed
SRV1.3560.0081.372
SRV.plot1.2760.0161.304
SRV_lod.plot0.0840.0000.096
Top_SRV.plot1.1560.0201.179
alignSp0.6440.0200.662
align_mQTL30.020 0.03230.074
attachSegments0.4480.0040.449
circle_mQTL0.1000.0000.101
configureRSPA0.0040.0000.004
format_mGWA0.5520.0040.698
format_mQTL0.7240.0040.729
load_datafiles0.0040.0000.003
load_demo_data0.0000.0000.001
mQTL.NMR-package33.932 0.04834.008
matchSegments0.5240.0000.523
normalise0.3120.0000.310
normalise_mQTL1.4200.0161.435
peakPeaks0.1760.0040.182
post_mQTL0.1520.0040.153
ppersp0.0240.0040.029
pplot0.0120.0000.012
pre_mQTL32.460 0.02032.507
process_mGWA6.2600.0126.293
process_mQTL0.5280.0000.530
segmentateSp0.3960.0000.399
selectRefSp1.0840.0001.088
setupRSPA0.0040.0000.004
sgolay0.0000.0000.001
sgolayDeriv0.0880.0000.092
simple.plot0.9120.0080.922
summary_mQTL0.0120.0000.011