Back to Multiple platform build/check report for BioC 3.8 |
|
This page was generated on 2019-04-16 11:48:36 -0400 (Tue, 16 Apr 2019).
Package 960/1649 | Hostname | OS / Arch | INSTALL | BUILD | CHECK | BUILD BIN | ||||||
minet 3.40.0 Patrick E. Meyer
| malbec1 | Linux (Ubuntu 16.04.6 LTS) / x86_64 | [ OK ] | OK | OK | ![]() | ||||||
merida1 | OS X 10.11.6 El Capitan / x86_64 | OK | OK | OK | OK | ![]() |
Package: minet |
Version: 3.40.0 |
Command: /home/biocbuild/bbs-3.8-bioc/R/bin/R CMD INSTALL minet |
StartedAt: 2019-04-15 18:03:31 -0400 (Mon, 15 Apr 2019) |
EndedAt: 2019-04-15 18:03:37 -0400 (Mon, 15 Apr 2019) |
EllapsedTime: 6.7 seconds |
RetCode: 0 |
Status: OK |
############################################################################## ############################################################################## ### ### Running command: ### ### /home/biocbuild/bbs-3.8-bioc/R/bin/R CMD INSTALL minet ### ############################################################################## ############################################################################## * installing to library ‘/home/biocbuild/bbs-3.8-bioc/R/library’ * installing *source* package ‘minet’ ... ** libs g++ -I"/home/biocbuild/bbs-3.8-bioc/R/include" -DNDEBUG -I/usr/local/include -fpic -g -O2 -Wall -c aracne.cpp -o aracne.o g++ -I"/home/biocbuild/bbs-3.8-bioc/R/include" -DNDEBUG -I/usr/local/include -fpic -g -O2 -Wall -c clr.cpp -o clr.o g++ -I"/home/biocbuild/bbs-3.8-bioc/R/include" -DNDEBUG -I/usr/local/include -fpic -g -O2 -Wall -c minet.cpp -o minet.o g++ -I"/home/biocbuild/bbs-3.8-bioc/R/include" -DNDEBUG -I/usr/local/include -fpic -g -O2 -Wall -c mrnet.cpp -o mrnet.o mrnet.cpp: In function ‘SEXPREC* mrnet(SEXP, SEXP)’: mrnet.cpp:190:34: warning: comparison between signed and unsigned integer expressions [-Wsign-compare] for( int l=0; l<n; ++l ) ^ g++ -I"/home/biocbuild/bbs-3.8-bioc/R/include" -DNDEBUG -I/usr/local/include -fpic -g -O2 -Wall -c validate.cpp -o validate.o g++ -shared -L/home/biocbuild/bbs-3.8-bioc/R/lib -L/usr/local/lib -o minet.so aracne.o clr.o minet.o mrnet.o validate.o -L/home/biocbuild/bbs-3.8-bioc/R/lib -lR installing to /home/biocbuild/bbs-3.8-bioc/R/library/minet/libs ** R ** data ** inst ** byte-compile and prepare package for lazy loading ** help *** installing help indices ** building package indices ** testing if installed package can be loaded * DONE (minet)