Back to Multiple platform build/check report for BioC 3.8 |
|
This page was generated on 2019-04-16 11:58:47 -0400 (Tue, 16 Apr 2019).
Package 968/1649 | Hostname | OS / Arch | INSTALL | BUILD | CHECK | BUILD BIN | ||||||
mirIntegrator 1.12.0 Diana Diaz
| malbec1 | Linux (Ubuntu 16.04.6 LTS) / x86_64 | OK | OK | OK | ![]() | ||||||
merida1 | OS X 10.11.6 El Capitan / x86_64 | OK | OK | OK | [ OK ] | ![]() |
Package: mirIntegrator |
Version: 1.12.0 |
Command: rm -rf mirIntegrator.buildbin-libdir && mkdir mirIntegrator.buildbin-libdir && /Users/biocbuild/BBS/utils/build-universal.sh mirIntegrator_1.12.0.tar.gz /Library/Frameworks/R.framework/Versions/Current/Resources/bin/R mirIntegrator.buildbin-libdir |
StartedAt: 2019-04-16 04:23:26 -0400 (Tue, 16 Apr 2019) |
EndedAt: 2019-04-16 04:24:11 -0400 (Tue, 16 Apr 2019) |
EllapsedTime: 44.6 seconds |
RetCode: 0 |
Status: OK |
PackageFile: mirIntegrator_1.12.0.tgz |
PackageFileSize: 1.766 MiB |
############################################################################## ############################################################################## ### ### Running command: ### ### rm -rf mirIntegrator.buildbin-libdir && mkdir mirIntegrator.buildbin-libdir && /Users/biocbuild/BBS/utils/build-universal.sh mirIntegrator_1.12.0.tar.gz /Library/Frameworks/R.framework/Versions/Current/Resources/bin/R mirIntegrator.buildbin-libdir ### ############################################################################## ############################################################################## >>>>>>> >>>>>>> INSTALLATION WITH 'R CMD INSTALL --preclean --no-multiarch --library=mirIntegrator.buildbin-libdir mirIntegrator_1.12.0.tar.gz' >>>>>>> * installing *source* package ‘mirIntegrator’ ... ** R ** data ** inst ** byte-compile and prepare package for lazy loading ** help *** installing help indices ** building package indices ** installing vignettes ** testing if installed package can be loaded * DONE (mirIntegrator)