Back to Multiple platform build/check report for BioC 3.8 |
|
This page was generated on 2019-04-16 11:56:45 -0400 (Tue, 16 Apr 2019).
Package 1255/1649 | Hostname | OS / Arch | INSTALL | BUILD | CHECK | BUILD BIN | ||||||
rBiopaxParser 2.22.0 Frank Kramer
| malbec1 | Linux (Ubuntu 16.04.6 LTS) / x86_64 | OK | OK | OK | ![]() | ||||||
merida1 | OS X 10.11.6 El Capitan / x86_64 | OK | OK | [ OK ] | OK | ![]() |
Package: rBiopaxParser |
Version: 2.22.0 |
Command: /Library/Frameworks/R.framework/Versions/Current/Resources/bin/R CMD check --install=check:rBiopaxParser.install-out.txt --library=/Library/Frameworks/R.framework/Versions/Current/Resources/library --no-vignettes --timings rBiopaxParser_2.22.0.tar.gz |
StartedAt: 2019-04-16 02:12:29 -0400 (Tue, 16 Apr 2019) |
EndedAt: 2019-04-16 02:13:35 -0400 (Tue, 16 Apr 2019) |
EllapsedTime: 65.7 seconds |
RetCode: 0 |
Status: OK |
CheckDir: rBiopaxParser.Rcheck |
Warnings: 0 |
############################################################################## ############################################################################## ### ### Running command: ### ### /Library/Frameworks/R.framework/Versions/Current/Resources/bin/R CMD check --install=check:rBiopaxParser.install-out.txt --library=/Library/Frameworks/R.framework/Versions/Current/Resources/library --no-vignettes --timings rBiopaxParser_2.22.0.tar.gz ### ############################################################################## ############################################################################## * using log directory ‘/Users/biocbuild/bbs-3.8-bioc/meat/rBiopaxParser.Rcheck’ * using R version 3.5.3 (2019-03-11) * using platform: x86_64-apple-darwin15.6.0 (64-bit) * using session charset: UTF-8 * using option ‘--no-vignettes’ * checking for file ‘rBiopaxParser/DESCRIPTION’ ... OK * checking extension type ... Package * this is package ‘rBiopaxParser’ version ‘2.22.0’ * checking package namespace information ... OK * checking package dependencies ... OK * checking if this is a source package ... OK * checking if there is a namespace ... OK * checking for hidden files and directories ... OK * checking for portable file names ... OK * checking for sufficient/correct file permissions ... OK * checking whether package ‘rBiopaxParser’ can be installed ... OK * checking installed package size ... OK * checking package directory ... OK * checking ‘build’ directory ... OK * checking DESCRIPTION meta-information ... OK * checking top-level files ... OK * checking for left-over files ... OK * checking index information ... OK * checking package subdirectories ... OK * checking R files for non-ASCII characters ... OK * checking R files for syntax errors ... OK * checking whether the package can be loaded ... OK * checking whether the package can be loaded with stated dependencies ... OK * checking whether the package can be unloaded cleanly ... OK * checking whether the namespace can be loaded with stated dependencies ... OK * checking whether the namespace can be unloaded cleanly ... OK * checking dependencies in R code ... NOTE 'library' or 'require' calls in package code: ‘RBGL’ ‘RCurl’ ‘Rgraphviz’ ‘graph’ ‘igraph’ ‘nem’ Please use :: or requireNamespace() instead. See section 'Suggested packages' in the 'Writing R Extensions' manual. * checking S3 generic/method consistency ... OK * checking replacement functions ... OK * checking foreign function calls ... OK * checking R code for possible problems ... NOTE addBiopaxInstance: no visible binding for global variable ‘property’ addBiopaxInstances: no visible binding for global variable ‘id’ addBiopaxInstances: no visible binding for global variable ‘property’ addPropertiesToBiopaxInstance: no visible binding for global variable ‘property’ colorGraphNodes: no visible global function definition for ‘hcl’ createBiopax: no visible binding for global variable ‘id’ createBiopax: no visible binding for global variable ‘property’ getReferencedIDs: no visible binding for global variable ‘property_attr’ getReferencedIDs: no visible binding for global variable ‘property’ getReferencingIDs: no visible binding for global variable ‘property_attr’ getReferencingIDs: no visible binding for global variable ‘property’ internal_XMLInstance2DF: no visible binding for global variable ‘i’ internal_XMLInstance2DF: no visible binding for global variable ‘p’ internal_generateXMLfromBiopax: no visible binding for global variable ‘id’ internal_getBiopaxModelAsDataFrame: no visible binding for global variable ‘property’ internal_propertyListToDF: no visible binding for global variable ‘property’ layoutRegulatoryGraph: no visible global function definition for ‘nodes’ listInstances: no visible binding for global variable ‘property_value’ listInstances: no visible binding for global variable ‘property’ pathway2AdjacancyMatrix: no visible global function definition for ‘as’ pathway2Graph: no visible global function definition for ‘new’ pathway2Graph: no visible global function definition for ‘getClassDef’ pathway2Graph: no visible binding for global variable ‘id’ pathway2Graph: no visible binding for global variable ‘property’ pathway2RegulatoryGraph: no visible global function definition for ‘new’ pathway2RegulatoryGraph: no visible global function definition for ‘getClassDef’ pathway2RegulatoryGraph: no visible binding for global variable ‘id’ pathway2RegulatoryGraph: no visible binding for global variable ‘property’ plotRegulatoryGraph: no visible global function definition for ‘nodes’ removeDisconnectedParts: no visible global function definition for ‘removeNode’ removeNodes: no visible global function definition for ‘edgeWeights’ removeNodes: no visible global function definition for ‘na.omit’ removeNodes: no visible global function definition for ‘removeNode’ removeNodes: no visible global function definition for ‘addEdge’ removeProperties: no visible binding for global variable ‘property’ selectInstances: no visible binding for global variable ‘property_value’ transitiveReduction: no visible global function definition for ‘as’ Undefined global functions or variables: addEdge as edgeWeights getClassDef hcl i id na.omit new nodes p property property_attr property_value removeNode Consider adding importFrom("grDevices", "hcl") importFrom("methods", "as", "getClassDef", "new") importFrom("stats", "na.omit") to your NAMESPACE file (and ensure that your DESCRIPTION Imports field contains 'methods'). * checking Rd files ... OK * checking Rd metadata ... OK * checking Rd cross-references ... OK * checking for missing documentation entries ... OK * checking for code/documentation mismatches ... OK * checking Rd \usage sections ... OK * checking Rd contents ... OK * checking for unstated dependencies in examples ... OK * checking contents of ‘data’ directory ... OK * checking data for non-ASCII characters ... NOTE Note: found 1 marked UTF-8 string * checking data for ASCII and uncompressed saves ... OK * checking sizes of PDF files under ‘inst/doc’ ... OK * checking files in ‘vignettes’ ... OK * checking examples ... OK Examples with CPU or elapsed time > 5s user system elapsed uniteGraphs 16.549 13.600 3.901 calcGraphOverlap 14.950 13.927 4.234 diffGraphs 16.639 12.178 3.851 intersectGraphs 15.944 7.535 3.889 plotRegulatoryGraph 9.302 8.658 2.170 colorGraphNodes 9.804 7.746 2.469 removeNodes 9.721 6.441 2.339 pathway2RegulatoryGraph 9.120 6.336 2.152 pathway2AdjacancyMatrix 9.186 6.149 2.116 pathway2Graph 5.463 5.533 1.509 pathway2Geneset 5.427 3.455 1.057 * checking for unstated dependencies in ‘tests’ ... OK * checking tests ... Running ‘runTests.R’ OK * checking for unstated dependencies in vignettes ... OK * checking package vignettes in ‘inst/doc’ ... OK * checking running R code from vignettes ... SKIPPED * checking re-building of vignette outputs ... SKIPPED * checking PDF version of manual ... OK * DONE Status: 3 NOTEs See ‘/Users/biocbuild/bbs-3.8-bioc/meat/rBiopaxParser.Rcheck/00check.log’ for details.
rBiopaxParser.Rcheck/00install.out
############################################################################## ############################################################################## ### ### Running command: ### ### /Library/Frameworks/R.framework/Versions/Current/Resources/bin/R CMD INSTALL rBiopaxParser ### ############################################################################## ############################################################################## * installing to library ‘/Library/Frameworks/R.framework/Versions/3.5/Resources/library’ * installing *source* package ‘rBiopaxParser’ ... ** R ** data ** inst ** byte-compile and prepare package for lazy loading ** help *** installing help indices ** building package indices ** installing vignettes ** testing if installed package can be loaded * DONE (rBiopaxParser)
rBiopaxParser.Rcheck/tests/runTests.Rout
R version 3.5.3 (2019-03-11) -- "Great Truth" Copyright (C) 2019 The R Foundation for Statistical Computing Platform: x86_64-apple-darwin15.6.0 (64-bit) R is free software and comes with ABSOLUTELY NO WARRANTY. You are welcome to redistribute it under certain conditions. Type 'license()' or 'licence()' for distribution details. R is a collaborative project with many contributors. Type 'contributors()' for more information and 'citation()' on how to cite R or R packages in publications. Type 'demo()' for some demos, 'help()' for on-line help, or 'help.start()' for an HTML browser interface to help. Type 'q()' to quit R. > BiocGenerics:::testPackage("rBiopaxParser") RUNIT TEST PROTOCOL -- Tue Apr 16 02:13:28 2019 *********************************************** Number of test functions: 12 Number of errors: 0 Number of failures: 0 1 Test Suite : rBiopaxParser RUnit Tests - 12 test functions, 0 errors, 0 failures Number of test functions: 12 Number of errors: 0 Number of failures: 0 > > proc.time() user system elapsed 0.573 0.074 0.626
rBiopaxParser.Rcheck/rBiopaxParser-Ex.timings
name | user | system | elapsed | |
addBiochemicalReaction | 0.183 | 0.202 | 0.060 | |
addBiopaxInstance | 0.036 | 0.040 | 0.011 | |
addBiopaxInstances | 0.137 | 0.171 | 0.045 | |
addControl | 0.197 | 0.218 | 0.061 | |
addPathway | 0.199 | 0.183 | 0.068 | |
addPathwayComponents | 0.27 | 0.32 | 0.08 | |
addPhysicalEntity | 0.067 | 0.089 | 0.020 | |
addPhysicalEntityParticipant | 0.117 | 0.152 | 0.035 | |
addPropertiesToBiopaxInstance | 0.080 | 0.109 | 0.024 | |
biopax | 0.118 | 0.183 | 0.039 | |
calcGraphOverlap | 14.950 | 13.927 | 4.234 | |
colorGraphNodes | 9.804 | 7.746 | 2.469 | |
combineNodes | 0.006 | 0.001 | 0.008 | |
createBiopax | 0.008 | 0.008 | 0.003 | |
diffGraphs | 16.639 | 12.178 | 3.851 | |
downloadBiopaxData | 0.000 | 0.000 | 0.001 | |
getClassProperties | 0.001 | 0.000 | 0.002 | |
getInstanceClass | 0.020 | 0.019 | 0.013 | |
getInstanceProperty | 0.052 | 0.068 | 0.016 | |
getReferencedIDs | 0.192 | 0.271 | 0.060 | |
getReferencingIDs | 0.158 | 0.216 | 0.048 | |
getSubClasses | 0.003 | 0.004 | 0.001 | |
getSuperClasses | 0.003 | 0.005 | 0.001 | |
getXrefAnnotations | 1.031 | 1.198 | 0.297 | |
intersectGraphs | 15.944 | 7.535 | 3.889 | |
listComplexComponents | 0.100 | 0.063 | 0.037 | |
listInstances | 0.166 | 0.087 | 0.056 | |
listInteractionComponents | 0.135 | 0.071 | 0.058 | |
listPathwayComponents | 0.146 | 0.074 | 0.050 | |
listPathways | 0.056 | 0.029 | 0.018 | |
pathway2AdjacancyMatrix | 9.186 | 6.149 | 2.116 | |
pathway2Geneset | 5.427 | 3.455 | 1.057 | |
pathway2Graph | 5.463 | 5.533 | 1.509 | |
pathway2RegulatoryGraph | 9.120 | 6.336 | 2.152 | |
plotRegulatoryGraph | 9.302 | 8.658 | 2.170 | |
print.biopax | 0.050 | 0.077 | 0.016 | |
rBiopaxParser-package | 0.001 | 0.001 | 0.000 | |
readBiopax | 0.001 | 0.001 | 0.001 | |
removeNodes | 9.721 | 6.441 | 2.339 | |
selectInstances | 0.068 | 0.100 | 0.025 | |
splitComplex | 0.247 | 0.358 | 0.075 | |
uniteGraphs | 16.549 | 13.600 | 3.901 | |
writeBiopax | 0.002 | 0.001 | 0.003 | |