Back to Multiple platform build/check report for BioC 3.8 |
|
This page was generated on 2019-04-16 11:50:24 -0400 (Tue, 16 Apr 2019).
Package 1407/1649 | Hostname | OS / Arch | INSTALL | BUILD | CHECK | BUILD BIN | ||||||
scsR 1.18.0 Andrea Franceschini
| malbec1 | Linux (Ubuntu 16.04.6 LTS) / x86_64 | OK | OK | [ OK ] | |||||||
merida1 | OS X 10.11.6 El Capitan / x86_64 | OK | OK | OK | OK |
Package: scsR |
Version: 1.18.0 |
Command: /home/biocbuild/bbs-3.8-bioc/R/bin/R CMD check --install=check:scsR.install-out.txt --library=/home/biocbuild/bbs-3.8-bioc/R/library --no-vignettes --timings scsR_1.18.0.tar.gz |
StartedAt: 2019-04-16 02:56:17 -0400 (Tue, 16 Apr 2019) |
EndedAt: 2019-04-16 02:58:39 -0400 (Tue, 16 Apr 2019) |
EllapsedTime: 142.6 seconds |
RetCode: 0 |
Status: OK |
CheckDir: scsR.Rcheck |
Warnings: 0 |
############################################################################## ############################################################################## ### ### Running command: ### ### /home/biocbuild/bbs-3.8-bioc/R/bin/R CMD check --install=check:scsR.install-out.txt --library=/home/biocbuild/bbs-3.8-bioc/R/library --no-vignettes --timings scsR_1.18.0.tar.gz ### ############################################################################## ############################################################################## * using log directory ‘/home/biocbuild/bbs-3.8-bioc/meat/scsR.Rcheck’ * using R version 3.5.3 (2019-03-11) * using platform: x86_64-pc-linux-gnu (64-bit) * using session charset: UTF-8 * using option ‘--no-vignettes’ * checking for file ‘scsR/DESCRIPTION’ ... OK * checking extension type ... Package * this is package ‘scsR’ version ‘1.18.0’ * checking package namespace information ... OK * checking package dependencies ... NOTE Depends: includes the non-default packages: ‘STRINGdb’ ‘BiocGenerics’ ‘Biostrings’ ‘IRanges’ ‘plyr’ ‘tcltk’ Adding so many packages to the search path is excessive and importing selectively is preferable. * checking if this is a source package ... OK * checking if there is a namespace ... OK * checking for hidden files and directories ... OK * checking for portable file names ... OK * checking for sufficient/correct file permissions ... OK * checking whether package ‘scsR’ can be installed ... OK * checking installed package size ... OK * checking package directory ... OK * checking ‘build’ directory ... OK * checking DESCRIPTION meta-information ... OK * checking top-level files ... OK * checking for left-over files ... OK * checking index information ... OK * checking package subdirectories ... OK * checking R files for non-ASCII characters ... OK * checking R files for syntax errors ... OK * checking whether the package can be loaded ... OK * checking whether the package can be loaded with stated dependencies ... OK * checking whether the package can be unloaded cleanly ... OK * checking whether the namespace can be loaded with stated dependencies ... OK * checking whether the namespace can be unloaded cleanly ... OK * checking dependencies in R code ... OK * checking S3 generic/method consistency ... OK * checking replacement functions ... OK * checking foreign function calls ... OK * checking R code for possible problems ... NOTE OPIrsaScore : <anonymous>: no visible global function definition for ‘phyper’ enrichment_geneSet: no visible global function definition for ‘phyper’ enrichment_heatmap: no visible global function definition for ‘heatmap.2’ get_seed_oligos_df: no visible global function definition for ‘txtProgressBar’ get_seed_oligos_df: no visible global function definition for ‘setTxtProgressBar’ get_seed_oligos_df: no visible global function definition for ‘phyper’ get_seed_oligos_df: no visible global function definition for ‘ks.test’ plot_seed_score_sd: no visible global function definition for ‘lm’ plot_seed_score_sd: no visible global function definition for ‘cor.test’ seed_correction: no visible global function definition for ‘txtProgressBar’ seed_correction: no visible global function definition for ‘setTxtProgressBar’ seed_correction_pooled: no visible global function definition for ‘txtProgressBar’ seed_correction_pooled: no visible global function definition for ‘setTxtProgressBar’ seed_removal: no visible global function definition for ‘txtProgressBar’ seed_removal: no visible global function definition for ‘setTxtProgressBar’ seeds_analysis : <anonymous>: no visible global function definition for ‘ks.test’ seeds_analysis: no visible global function definition for ‘phyper’ transcribe_seqs: no visible global function definition for ‘txtProgressBar’ transcribe_seqs: no visible global function definition for ‘setTxtProgressBar’ Undefined global functions or variables: cor.test heatmap.2 ks.test lm phyper setTxtProgressBar txtProgressBar Consider adding importFrom("stats", "cor.test", "ks.test", "lm", "phyper") importFrom("utils", "setTxtProgressBar", "txtProgressBar") to your NAMESPACE file. * checking Rd files ... OK * checking Rd metadata ... OK * checking Rd cross-references ... OK * checking for missing documentation entries ... OK * checking for code/documentation mismatches ... OK * checking Rd \usage sections ... OK * checking Rd contents ... OK * checking for unstated dependencies in examples ... OK * checking contents of ‘data’ directory ... OK * checking data for non-ASCII characters ... OK * checking data for ASCII and uncompressed saves ... OK * checking files in ‘vignettes’ ... OK * checking examples ... OK Examples with CPU or elapsed time > 5s user system elapsed compare_sorted_geneSets 19.852 0.572 20.508 * checking for unstated dependencies in vignettes ... OK * checking package vignettes in ‘inst/doc’ ... OK * checking running R code from vignettes ... SKIPPED * checking re-building of vignette outputs ... SKIPPED * checking PDF version of manual ... OK * DONE Status: 2 NOTEs See ‘/home/biocbuild/bbs-3.8-bioc/meat/scsR.Rcheck/00check.log’ for details.
scsR.Rcheck/00install.out
############################################################################## ############################################################################## ### ### Running command: ### ### /home/biocbuild/bbs-3.8-bioc/R/bin/R CMD INSTALL scsR ### ############################################################################## ############################################################################## * installing to library ‘/home/biocbuild/bbs-3.8-bioc/R/library’ * installing *source* package ‘scsR’ ... ** R ** data ** byte-compile and prepare package for lazy loading ** help *** installing help indices ** building package indices ** installing vignettes ** testing if installed package can be loaded * DONE (scsR)
scsR.Rcheck/scsR-Ex.timings
name | user | system | elapsed | |
add_rank_col | 0.672 | 0.016 | 0.716 | |
add_seed | 0.300 | 0.008 | 0.307 | |
benchmark_shared_hits | 2.316 | 0.064 | 2.411 | |
bydf | 0.536 | 0.016 | 0.550 | |
check_consistency | 1.732 | 0.036 | 1.778 | |
compare_sorted_geneSets | 19.852 | 0.572 | 20.508 | |
create_sd_matrix | 0.424 | 0.020 | 0.444 | |
delColDf | 0.284 | 0.000 | 0.288 | |
delete_undefined_rows | 0.524 | 0.008 | 0.536 | |
enrichment_geneSet | 0.436 | 0.000 | 0.446 | |
enrichment_heatmap | 0.480 | 0.008 | 0.490 | |
get_sd_quant | 1.144 | 0.024 | 1.184 | |
get_seed_oligos_df | 0.764 | 0.012 | 0.775 | |
intersectAll | 0.004 | 0.000 | 0.001 | |
launch_RSA | 0.464 | 0.024 | 0.488 | |
median_replicates | 0.688 | 0.012 | 0.698 | |
plot_screen_hits | 1.820 | 0.056 | 1.915 | |
plot_seeds_methods | 2.852 | 0.100 | 2.982 | |
randomSortOnVal | 0.288 | 0.004 | 0.296 | |
randomizeInner | 0.308 | 0.000 | 0.312 | |
removeSharedOffTargets | 0.836 | 0.028 | 0.865 | |
renameColDf | 0.288 | 0.000 | 0.292 | |
replace_non_null_elements | 0.192 | 0.004 | 0.200 | |
seed_correction | 0.788 | 0.016 | 0.807 | |
seed_correction_pooled | 0.616 | 0.024 | 0.637 | |
seed_removal | 0.504 | 0.008 | 0.512 | |
seeds_analysis | 1.196 | 0.052 | 1.310 | |
sortInner | 0.364 | 0.012 | 0.376 | |
split_df | 0.264 | 0.000 | 0.266 | |
transcribe_seqs | 0.312 | 0.000 | 0.313 | |