Back to Multiple platform build/check report for BioC 3.9 |
|
This page was generated on 2019-04-09 12:31:47 -0400 (Tue, 09 Apr 2019).
Package 498/1703 | Hostname | OS / Arch | INSTALL | BUILD | CHECK | BUILD BIN | ||||||
EpiDISH 1.99.6 Shijie Charles Zheng
| malbec2 | Linux (Ubuntu 18.04.2 LTS) / x86_64 | OK | OK | OK | ![]() | ||||||
tokay2 | Windows Server 2012 R2 Standard / x64 | [ OK ] | OK | OK | OK | ![]() | ||||||
celaya2 | OS X 10.11.6 El Capitan / x86_64 | OK | OK | OK | OK | ![]() | ||||||
merida2 | OS X 10.11.6 El Capitan / x86_64 | OK | OK | OK | OK |
Package: EpiDISH |
Version: 1.99.6 |
Command: C:\cygwin\bin\curl.exe -O https://malbec2.bioconductor.org/BBS/3.9/bioc/src/contrib/EpiDISH_1.99.6.tar.gz && rm -rf EpiDISH.buildbin-libdir && mkdir EpiDISH.buildbin-libdir && C:\Users\biocbuild\bbs-3.9-bioc\R\bin\R.exe CMD INSTALL --merge-multiarch --build --library=EpiDISH.buildbin-libdir EpiDISH_1.99.6.tar.gz && C:\Users\biocbuild\bbs-3.9-bioc\R\bin\R.exe CMD INSTALL EpiDISH_1.99.6.zip && rm EpiDISH_1.99.6.tar.gz EpiDISH_1.99.6.zip |
StartedAt: 2019-04-08 18:40:28 -0400 (Mon, 08 Apr 2019) |
EndedAt: 2019-04-08 18:40:51 -0400 (Mon, 08 Apr 2019) |
EllapsedTime: 22.2 seconds |
RetCode: 0 |
Status: OK |
############################################################################## ############################################################################## ### ### Running command: ### ### C:\cygwin\bin\curl.exe -O https://malbec2.bioconductor.org/BBS/3.9/bioc/src/contrib/EpiDISH_1.99.6.tar.gz && rm -rf EpiDISH.buildbin-libdir && mkdir EpiDISH.buildbin-libdir && C:\Users\biocbuild\bbs-3.9-bioc\R\bin\R.exe CMD INSTALL --merge-multiarch --build --library=EpiDISH.buildbin-libdir EpiDISH_1.99.6.tar.gz && C:\Users\biocbuild\bbs-3.9-bioc\R\bin\R.exe CMD INSTALL EpiDISH_1.99.6.zip && rm EpiDISH_1.99.6.tar.gz EpiDISH_1.99.6.zip ### ############################################################################## ############################################################################## % Total % Received % Xferd Average Speed Time Time Time Current Dload Upload Total Spent Left Speed 0 0 0 0 0 0 0 0 --:--:-- --:--:-- --:--:-- 0 100 1268k 100 1268k 0 0 19.1M 0 --:--:-- --:--:-- --:--:-- 21.7M install for i386 Warning in untar2(tarfile, files, list, exdir, restore_times) : restoring symbolic link as a file copy * installing *source* package 'EpiDISH' ... ** R ** data *** moving datasets to lazyload DB ** inst ** byte-compile and prepare package for lazy loading ** help *** installing help indices converting help for package 'EpiDISH' finding HTML links ... done CellDMC html DummyBeta.m html centBloodSub.m html centDHSbloodDMC.m html centEpiFibFatIC.m html centEpiFibIC.m html epidish html hepidish html ** building package indices ** installing vignettes ** testing if installed package can be loaded from temporary location ** testing if installed package can be loaded from final location ** testing if installed package keeps a record of temporary installation path install for x64 Warning in untar2(tarfile, files, list, exdir, restore_times) : restoring symbolic link as a file copy * installing *source* package 'EpiDISH' ... ** testing if installed package can be loaded * MD5 sums packaged installation of 'EpiDISH' as EpiDISH_1.99.6.zip * DONE (EpiDISH) * installing to library 'C:/Users/biocbuild/bbs-3.9-bioc/R/library' package 'EpiDISH' successfully unpacked and MD5 sums checked