Back to Multiple platform build/check report for BioC 3.9 |
|
This page was generated on 2019-04-09 11:58:28 -0400 (Tue, 09 Apr 2019).
Package 1045/1703 | Hostname | OS / Arch | INSTALL | BUILD | CHECK | BUILD BIN | ||||||
Mulcom 1.33.0 Claudio Isella
| malbec2 | Linux (Ubuntu 18.04.2 LTS) / x86_64 | ERROR | ERROR | skipped | |||||||
tokay2 | Windows Server 2012 R2 Standard / x64 | ERROR | [ ERROR ] | skipped | skipped | |||||||
celaya2 | OS X 10.11.6 El Capitan / x86_64 | ERROR | ERROR | skipped | skipped | |||||||
merida2 | OS X 10.11.6 El Capitan / x86_64 | OK | OK | OK | OK |
Package: Mulcom |
Version: 1.33.0 |
Command: chmod a+r Mulcom -R && C:\Users\biocbuild\bbs-3.9-bioc\R\bin\R.exe CMD build --keep-empty-dirs --no-resave-data Mulcom |
StartedAt: 2019-04-08 21:25:30 -0400 (Mon, 08 Apr 2019) |
EndedAt: 2019-04-08 21:25:51 -0400 (Mon, 08 Apr 2019) |
EllapsedTime: 21.4 seconds |
RetCode: 1 |
Status: ERROR |
PackageFile: Mulcom_1.33.0.tar.gz |
PackageFileSize: 1.353 MiB |
############################################################################## ############################################################################## ### ### Running command: ### ### chmod a+r Mulcom -R && C:\Users\biocbuild\bbs-3.9-bioc\R\bin\R.exe CMD build --keep-empty-dirs --no-resave-data Mulcom ### ############################################################################## ############################################################################## * checking for file 'Mulcom/DESCRIPTION' ... OK * preparing 'Mulcom': * checking DESCRIPTION meta-information ... OK * cleaning src * installing the package to build vignettes ----------------------------------- * installing *source* package 'Mulcom' ... ** libs C:/Rtools/mingw_64/bin/g++ -I"C:/Users/BIOCBU˜1/BBS-3˜1.9-B/R/include" -DNDEBUG -I"C:/extsoft/include" -O2 -Wall -mtune=generic -c mulLibs.cc -o mulLibs.o mulLibs.cc: In function 'void Single_SimulationC(double*, double*, double*, double*, double*, double*, int*, int*, int*, int*, int*)': mulLibs.cc:708:33: warning: statement has no effect [-Wunused-value] current_cluster ; ^ mulLibs.cc: In function 'void Complete_SimulationC(double*, int*, double*, double*, int*, int*, int*, int*, int*)': mulLibs.cc:1022:38: warning: comparison between signed and unsigned integer expressions [-Wsign-compare] for ( int i = 0 ; i < sss2.size() ; i++ ) { ^ mulLibs.cc:1023:46: warning: comparison between signed and unsigned integer expressions [-Wsign-compare] for ( int j = 0 ; j < harmonic_means.size() ; j++ ) { ^ C:/Rtools/mingw_64/bin/g++ -shared -s -static-libgcc -o Mulcom.dll tmp.def mulLibs.o -LC:/extsoft/lib/x64 -LC:/extsoft/lib -LC:/Users/BIOCBU˜1/BBS-3˜1.9-B/R/bin/x64 -lR installing to C:/Users/biocbuild/bbs-3.9-bioc/tmpdir/Rtmp46Xc79/Rinst1608bb21cb0/00LOCK-Mulcom/00new/Mulcom/libs/x64 ** R ** data ** inst ** byte-compile and prepare package for lazy loading Error in reconcilePropertiesAndPrototype(name, slots, prototype, superClasses, : The prototype for class "MULCOM" has undefined slot(s): 'MSE_Correceted' Error: unable to load R code in package 'Mulcom' Execution halted ERROR: lazy loading failed for package 'Mulcom' * removing 'C:/Users/biocbuild/bbs-3.9-bioc/tmpdir/Rtmp46Xc79/Rinst1608bb21cb0/Mulcom' ----------------------------------- ERROR: package installation failed