Back to Multiple platform build/check report for BioC 3.9 |
|
This page was generated on 2019-04-09 12:25:06 -0400 (Tue, 09 Apr 2019).
Package 1239/1703 | Hostname | OS / Arch | INSTALL | BUILD | CHECK | BUILD BIN | ||||||
Prostar 1.15.17 Samuel Wieczorek
| malbec2 | Linux (Ubuntu 18.04.2 LTS) / x86_64 | OK | OK | OK | ![]() | ||||||
tokay2 | Windows Server 2012 R2 Standard / x64 | [ OK ] | OK | OK | OK | ![]() | ||||||
celaya2 | OS X 10.11.6 El Capitan / x86_64 | OK | OK | OK | OK | ![]() | ||||||
merida2 | OS X 10.11.6 El Capitan / x86_64 | OK | OK | OK | OK |
Package: Prostar |
Version: 1.15.17 |
Command: C:\cygwin\bin\curl.exe -O https://malbec2.bioconductor.org/BBS/3.9/bioc/src/contrib/Prostar_1.15.17.tar.gz && rm -rf Prostar.buildbin-libdir && mkdir Prostar.buildbin-libdir && C:\Users\biocbuild\bbs-3.9-bioc\R\bin\R.exe CMD INSTALL --merge-multiarch --build --library=Prostar.buildbin-libdir Prostar_1.15.17.tar.gz && C:\Users\biocbuild\bbs-3.9-bioc\R\bin\R.exe CMD INSTALL Prostar_1.15.17.zip && rm Prostar_1.15.17.tar.gz Prostar_1.15.17.zip |
StartedAt: 2019-04-08 20:46:07 -0400 (Mon, 08 Apr 2019) |
EndedAt: 2019-04-08 20:47:46 -0400 (Mon, 08 Apr 2019) |
EllapsedTime: 99.3 seconds |
RetCode: 0 |
Status: OK |
############################################################################## ############################################################################## ### ### Running command: ### ### C:\cygwin\bin\curl.exe -O https://malbec2.bioconductor.org/BBS/3.9/bioc/src/contrib/Prostar_1.15.17.tar.gz && rm -rf Prostar.buildbin-libdir && mkdir Prostar.buildbin-libdir && C:\Users\biocbuild\bbs-3.9-bioc\R\bin\R.exe CMD INSTALL --merge-multiarch --build --library=Prostar.buildbin-libdir Prostar_1.15.17.tar.gz && C:\Users\biocbuild\bbs-3.9-bioc\R\bin\R.exe CMD INSTALL Prostar_1.15.17.zip && rm Prostar_1.15.17.tar.gz Prostar_1.15.17.zip ### ############################################################################## ############################################################################## % Total % Received % Xferd Average Speed Time Time Time Current Dload Upload Total Spent Left Speed 0 0 0 0 0 0 0 0 --:--:-- --:--:-- --:--:-- 0 100 6547k 100 6547k 0 0 55.5M 0 --:--:-- --:--:-- --:--:-- 59.2M install for i386 * installing *source* package 'Prostar' ... ** R ** inst ** byte-compile and prepare package for lazy loading ** help *** installing help indices converting help for package 'Prostar' finding HTML links ... done Prostar html ** building package indices ** installing vignettes 'Prostar_UserManual.Rnw' using 'UTF-8' ** testing if installed package can be loaded from temporary location ** testing if installed package can be loaded from final location ** testing if installed package keeps a record of temporary installation path install for x64 * installing *source* package 'Prostar' ... ** testing if installed package can be loaded * MD5 sums packaged installation of 'Prostar' as Prostar_1.15.17.zip * DONE (Prostar) * installing to library 'C:/Users/biocbuild/bbs-3.9-bioc/R/library' package 'Prostar' successfully unpacked and MD5 sums checked