Back to Multiple platform build/check report for BioC 3.9 |
|
This page was generated on 2019-04-09 11:59:22 -0400 (Tue, 09 Apr 2019).
Package 1298/1703 | Hostname | OS / Arch | INSTALL | BUILD | CHECK | BUILD BIN | ||||||
RCASPAR 1.29.0 Douaa Mugahid
| malbec2 | Linux (Ubuntu 18.04.2 LTS) / x86_64 | OK | OK | OK | |||||||
tokay2 | Windows Server 2012 R2 Standard / x64 | [ OK ] | OK | OK | OK | |||||||
celaya2 | OS X 10.11.6 El Capitan / x86_64 | OK | OK | OK | OK | |||||||
merida2 | OS X 10.11.6 El Capitan / x86_64 | OK | OK | OK | OK |
Package: RCASPAR |
Version: 1.29.0 |
Command: C:\cygwin\bin\curl.exe -O https://malbec2.bioconductor.org/BBS/3.9/bioc/src/contrib/RCASPAR_1.29.0.tar.gz && rm -rf RCASPAR.buildbin-libdir && mkdir RCASPAR.buildbin-libdir && C:\Users\biocbuild\bbs-3.9-bioc\R\bin\R.exe CMD INSTALL --merge-multiarch --build --library=RCASPAR.buildbin-libdir RCASPAR_1.29.0.tar.gz && C:\Users\biocbuild\bbs-3.9-bioc\R\bin\R.exe CMD INSTALL RCASPAR_1.29.0.zip && rm RCASPAR_1.29.0.tar.gz RCASPAR_1.29.0.zip |
StartedAt: 2019-04-08 18:23:38 -0400 (Mon, 08 Apr 2019) |
EndedAt: 2019-04-08 18:24:00 -0400 (Mon, 08 Apr 2019) |
EllapsedTime: 22.1 seconds |
RetCode: 0 |
Status: OK |
############################################################################## ############################################################################## ### ### Running command: ### ### C:\cygwin\bin\curl.exe -O https://malbec2.bioconductor.org/BBS/3.9/bioc/src/contrib/RCASPAR_1.29.0.tar.gz && rm -rf RCASPAR.buildbin-libdir && mkdir RCASPAR.buildbin-libdir && C:\Users\biocbuild\bbs-3.9-bioc\R\bin\R.exe CMD INSTALL --merge-multiarch --build --library=RCASPAR.buildbin-libdir RCASPAR_1.29.0.tar.gz && C:\Users\biocbuild\bbs-3.9-bioc\R\bin\R.exe CMD INSTALL RCASPAR_1.29.0.zip && rm RCASPAR_1.29.0.tar.gz RCASPAR_1.29.0.zip ### ############################################################################## ############################################################################## % Total % Received % Xferd Average Speed Time Time Time Current Dload Upload Total Spent Left Speed 0 0 0 0 0 0 0 0 --:--:-- --:--:-- --:--:-- 0 100 64616 100 64616 0 0 1145k 0 --:--:-- --:--:-- --:--:-- 1314k install for i386 * installing *source* package 'RCASPAR' ... ** R ** data ** byte-compile and prepare package for lazy loading ** help *** installing help indices converting help for package 'RCASPAR' finding HTML links ... done Bergamaschi html RCASPAR-package html STpredictor_BLH html STpredictor_xvBLH html deriv_weight_estimator_BLH html deriv_weight_estimator_BLH_noprior html kmplt html kmplt_svrl html logrnk html pltgamma html pltprior html simpson html survData html survivAURC html survivROC html trapezoid html weight_estimator_BLH html weight_estimator_BLH_noprior html weights_BLH html weights_xvBLH html ** building package indices ** installing vignettes ** testing if installed package can be loaded from temporary location ** testing if installed package can be loaded from final location ** testing if installed package keeps a record of temporary installation path install for x64 * installing *source* package 'RCASPAR' ... ** testing if installed package can be loaded * MD5 sums packaged installation of 'RCASPAR' as RCASPAR_1.29.0.zip * DONE (RCASPAR) * installing to library 'C:/Users/biocbuild/bbs-3.9-bioc/R/library' package 'RCASPAR' successfully unpacked and MD5 sums checked