Back to Multiple platform build/check report for BioC 3.9 |
|
This page was generated on 2019-04-09 12:01:08 -0400 (Tue, 09 Apr 2019).
Package 1355/1703 | Hostname | OS / Arch | INSTALL | BUILD | CHECK | BUILD BIN | ||||||
Risa 1.25.0 Alejandra Gonzalez-Beltran
| malbec2 | Linux (Ubuntu 18.04.2 LTS) / x86_64 | OK | OK | OK | ![]() | ||||||
tokay2 | Windows Server 2012 R2 Standard / x64 | OK | OK | OK | [ OK ] | ![]() | ||||||
celaya2 | OS X 10.11.6 El Capitan / x86_64 | OK | OK | OK | OK | ![]() | ||||||
merida2 | OS X 10.11.6 El Capitan / x86_64 | OK | OK | OK | OK |
Package: Risa |
Version: 1.25.0 |
Command: rm -rf Risa.buildbin-libdir && mkdir Risa.buildbin-libdir && C:\Users\biocbuild\bbs-3.9-bioc\R\bin\R.exe CMD INSTALL --merge-multiarch --build --library=Risa.buildbin-libdir Risa_1.25.0.tar.gz |
StartedAt: 2019-04-09 08:50:40 -0400 (Tue, 09 Apr 2019) |
EndedAt: 2019-04-09 08:51:20 -0400 (Tue, 09 Apr 2019) |
EllapsedTime: 39.4 seconds |
RetCode: 0 |
Status: OK |
PackageFile: Risa_1.25.0.zip |
PackageFileSize: 2.783 MiB |
############################################################################## ############################################################################## ### ### Running command: ### ### rm -rf Risa.buildbin-libdir && mkdir Risa.buildbin-libdir && C:\Users\biocbuild\bbs-3.9-bioc\R\bin\R.exe CMD INSTALL --merge-multiarch --build --library=Risa.buildbin-libdir Risa_1.25.0.tar.gz ### ############################################################################## ############################################################################## install for i386 * installing *source* package 'Risa' ... ** R ** inst ** byte-compile and prepare package for lazy loading ** help *** installing help indices converting help for package 'Risa' finding HTML links ... done AssayTab-class html ISAtab-class html Risa-package html getAnnotatedDataFrameAssay html getAssayRawDataFilenames-methods html getExpressionSet html getMIAMEMetadata html getMSAssayFilenames html getMicroarrayAssayFilenames html getRawDataFilenames-methods html getStudyFilename html isMSAssay html isMicroarrayAssay html processAssayXcmsSet.1factor html processAssayXcmsSet html readISAtab html suggestBiocPackage html updateAssayMetadata html write.assay.file html write.investigation.file html write.isatab html write.study.file html ** building package indices ** installing vignettes ** testing if installed package can be loaded from temporary location ** testing if installed package can be loaded from final location ** testing if installed package keeps a record of temporary installation path install for x64 * installing *source* package 'Risa' ... ** testing if installed package can be loaded * MD5 sums packaged installation of 'Risa' as Risa_1.25.0.zip * DONE (Risa)