Back to Multiple platform build/check report for BioC 3.9 |
|
This page was generated on 2019-04-09 12:45:17 -0400 (Tue, 09 Apr 2019).
Package 1571/1703 | Hostname | OS / Arch | INSTALL | BUILD | CHECK | BUILD BIN | ||||||
Structstrings 0.99.9 Felix GM Ernst
| malbec2 | Linux (Ubuntu 18.04.2 LTS) / x86_64 | OK | OK | OK | |||||||
tokay2 | Windows Server 2012 R2 Standard / x64 | OK | OK | OK | [ OK ] | |||||||
celaya2 | OS X 10.11.6 El Capitan / x86_64 | OK | OK | OK | OK | |||||||
merida2 | OS X 10.11.6 El Capitan / x86_64 | OK | OK | OK | OK |
Package: Structstrings |
Version: 0.99.9 |
Command: rm -rf Structstrings.buildbin-libdir && mkdir Structstrings.buildbin-libdir && C:\Users\biocbuild\bbs-3.9-bioc\R\bin\R.exe CMD INSTALL --merge-multiarch --build --library=Structstrings.buildbin-libdir Structstrings_0.99.9.tar.gz |
StartedAt: 2019-04-09 09:03:17 -0400 (Tue, 09 Apr 2019) |
EndedAt: 2019-04-09 09:04:08 -0400 (Tue, 09 Apr 2019) |
EllapsedTime: 51.0 seconds |
RetCode: 0 |
Status: OK |
PackageFile: Structstrings_0.99.9.zip |
PackageFileSize: 744.5 KiB |
############################################################################## ############################################################################## ### ### Running command: ### ### rm -rf Structstrings.buildbin-libdir && mkdir Structstrings.buildbin-libdir && C:\Users\biocbuild\bbs-3.9-bioc\R\bin\R.exe CMD INSTALL --merge-multiarch --build --library=Structstrings.buildbin-libdir Structstrings_0.99.9.tar.gz ### ############################################################################## ############################################################################## install for i386 * installing *source* package 'Structstrings' ... ** libs C:/Rtools/mingw_32/bin/gcc -I"C:/Users/BIOCBU˜1/BBS-3˜1.9-B/R/include" -DNDEBUG -I"C:/Users/biocbuild/bbs-3.9-bioc/R/library/IRanges/include" -I"C:/Users/biocbuild/bbs-3.9-bioc/R/library/S4Vectors/include" -I"C:/extsoft/include" -O3 -Wall -std=gnu99 -mtune=generic -c DotBracketDataFrame_class.c -o DotBracketDataFrame_class.o C:/Rtools/mingw_32/bin/gcc -I"C:/Users/BIOCBU˜1/BBS-3˜1.9-B/R/include" -DNDEBUG -I"C:/Users/biocbuild/bbs-3.9-bioc/R/library/IRanges/include" -I"C:/Users/biocbuild/bbs-3.9-bioc/R/library/S4Vectors/include" -I"C:/extsoft/include" -O3 -Wall -std=gnu99 -mtune=generic -c IRanges_stubs.c -o IRanges_stubs.o C:/Rtools/mingw_32/bin/gcc -I"C:/Users/BIOCBU˜1/BBS-3˜1.9-B/R/include" -DNDEBUG -I"C:/Users/biocbuild/bbs-3.9-bioc/R/library/IRanges/include" -I"C:/Users/biocbuild/bbs-3.9-bioc/R/library/S4Vectors/include" -I"C:/extsoft/include" -O3 -Wall -std=gnu99 -mtune=generic -c R_init_Structstrings.c -o R_init_Structstrings.o C:/Rtools/mingw_32/bin/gcc -I"C:/Users/BIOCBU˜1/BBS-3˜1.9-B/R/include" -DNDEBUG -I"C:/Users/biocbuild/bbs-3.9-bioc/R/library/IRanges/include" -I"C:/Users/biocbuild/bbs-3.9-bioc/R/library/S4Vectors/include" -I"C:/extsoft/include" -O3 -Wall -std=gnu99 -mtune=generic -c S4Vectors_stubs.c -o S4Vectors_stubs.o C:/Rtools/mingw_32/bin/gcc -I"C:/Users/BIOCBU˜1/BBS-3˜1.9-B/R/include" -DNDEBUG -I"C:/Users/biocbuild/bbs-3.9-bioc/R/library/IRanges/include" -I"C:/Users/biocbuild/bbs-3.9-bioc/R/library/S4Vectors/include" -I"C:/extsoft/include" -O3 -Wall -std=gnu99 -mtune=generic -c utils.c -o utils.o C:/Rtools/mingw_32/bin/gcc -shared -s -static-libgcc -o Structstrings.dll tmp.def DotBracketDataFrame_class.o IRanges_stubs.o R_init_Structstrings.o S4Vectors_stubs.o utils.o -LC:/extsoft/lib/i386 -LC:/extsoft/lib -LC:/Users/BIOCBU˜1/BBS-3˜1.9-B/R/bin/i386 -lR installing to C:/Users/biocbuild/bbs-3.9-bioc/meat/Structstrings.buildbin-libdir/00LOCK-Structstrings/00new/Structstrings/libs/i386 ** R ** data ** inst ** byte-compile and prepare package for lazy loading ** help *** installing help indices converting help for package 'Structstrings' finding HTML links ... done DotBracketDataFrame html DotBracketString html DotBracketStringSet-io html LoopIndexList html Structstrings-data html finding level-2 HTML links ... done Structstrings-internals html Structstrings html StructuredXStringSet html convertAnnotation html getBasePairing html ** building package indices ** installing vignettes ** testing if installed package can be loaded from temporary location ** testing if installed package can be loaded from final location ** testing if installed package keeps a record of temporary installation path install for x64 * installing *source* package 'Structstrings' ... ** libs C:/Rtools/mingw_64/bin/gcc -I"C:/Users/BIOCBU˜1/BBS-3˜1.9-B/R/include" -DNDEBUG -I"C:/Users/biocbuild/bbs-3.9-bioc/R/library/IRanges/include" -I"C:/Users/biocbuild/bbs-3.9-bioc/R/library/S4Vectors/include" -I"C:/extsoft/include" -O2 -Wall -std=gnu99 -mtune=generic -c DotBracketDataFrame_class.c -o DotBracketDataFrame_class.o C:/Rtools/mingw_64/bin/gcc -I"C:/Users/BIOCBU˜1/BBS-3˜1.9-B/R/include" -DNDEBUG -I"C:/Users/biocbuild/bbs-3.9-bioc/R/library/IRanges/include" -I"C:/Users/biocbuild/bbs-3.9-bioc/R/library/S4Vectors/include" -I"C:/extsoft/include" -O2 -Wall -std=gnu99 -mtune=generic -c IRanges_stubs.c -o IRanges_stubs.o C:/Rtools/mingw_64/bin/gcc -I"C:/Users/BIOCBU˜1/BBS-3˜1.9-B/R/include" -DNDEBUG -I"C:/Users/biocbuild/bbs-3.9-bioc/R/library/IRanges/include" -I"C:/Users/biocbuild/bbs-3.9-bioc/R/library/S4Vectors/include" -I"C:/extsoft/include" -O2 -Wall -std=gnu99 -mtune=generic -c R_init_Structstrings.c -o R_init_Structstrings.o C:/Rtools/mingw_64/bin/gcc -I"C:/Users/BIOCBU˜1/BBS-3˜1.9-B/R/include" -DNDEBUG -I"C:/Users/biocbuild/bbs-3.9-bioc/R/library/IRanges/include" -I"C:/Users/biocbuild/bbs-3.9-bioc/R/library/S4Vectors/include" -I"C:/extsoft/include" -O2 -Wall -std=gnu99 -mtune=generic -c S4Vectors_stubs.c -o S4Vectors_stubs.o C:/Rtools/mingw_64/bin/gcc -I"C:/Users/BIOCBU˜1/BBS-3˜1.9-B/R/include" -DNDEBUG -I"C:/Users/biocbuild/bbs-3.9-bioc/R/library/IRanges/include" -I"C:/Users/biocbuild/bbs-3.9-bioc/R/library/S4Vectors/include" -I"C:/extsoft/include" -O2 -Wall -std=gnu99 -mtune=generic -c utils.c -o utils.o C:/Rtools/mingw_64/bin/gcc -shared -s -static-libgcc -o Structstrings.dll tmp.def DotBracketDataFrame_class.o IRanges_stubs.o R_init_Structstrings.o S4Vectors_stubs.o utils.o -LC:/extsoft/lib/x64 -LC:/extsoft/lib -LC:/Users/BIOCBU˜1/BBS-3˜1.9-B/R/bin/x64 -lR installing to C:/Users/biocbuild/bbs-3.9-bioc/meat/Structstrings.buildbin-libdir/Structstrings/libs/x64 ** testing if installed package can be loaded * MD5 sums packaged installation of 'Structstrings' as Structstrings_0.99.9.zip * DONE (Structstrings)