Back to Multiple platform build/check report for BioC 3.9 |
|
This page was generated on 2019-04-09 12:01:18 -0400 (Tue, 09 Apr 2019).
Package 264/1703 | Hostname | OS / Arch | INSTALL | BUILD | CHECK | BUILD BIN | ||||||
chroGPS 2.1.1 Oscar Reina
| malbec2 | Linux (Ubuntu 18.04.2 LTS) / x86_64 | OK | OK | OK | ![]() | ||||||
tokay2 | Windows Server 2012 R2 Standard / x64 | OK | OK | OK | [ OK ] | ![]() | ||||||
celaya2 | OS X 10.11.6 El Capitan / x86_64 | OK | OK | OK | OK | ![]() | ||||||
merida2 | OS X 10.11.6 El Capitan / x86_64 | OK | OK | OK | OK |
Package: chroGPS |
Version: 2.1.1 |
Command: rm -rf chroGPS.buildbin-libdir && mkdir chroGPS.buildbin-libdir && C:\Users\biocbuild\bbs-3.9-bioc\R\bin\R.exe CMD INSTALL --merge-multiarch --build --library=chroGPS.buildbin-libdir chroGPS_2.1.1.tar.gz |
StartedAt: 2019-04-09 07:37:52 -0400 (Tue, 09 Apr 2019) |
EndedAt: 2019-04-09 07:39:09 -0400 (Tue, 09 Apr 2019) |
EllapsedTime: 76.3 seconds |
RetCode: 0 |
Status: OK |
PackageFile: chroGPS_2.1.1.zip |
PackageFileSize: 4.179 MiB |
############################################################################## ############################################################################## ### ### Running command: ### ### rm -rf chroGPS.buildbin-libdir && mkdir chroGPS.buildbin-libdir && C:\Users\biocbuild\bbs-3.9-bioc\R\bin\R.exe CMD INSTALL --merge-multiarch --build --library=chroGPS.buildbin-libdir chroGPS_2.1.1.tar.gz ### ############################################################################## ############################################################################## install for i386 * installing *source* package 'chroGPS' ... ** R ** data ** inst ** byte-compile and prepare package for lazy loading ** help *** installing help indices converting help for package 'chroGPS' finding HTML links ... done addVar html adjustPeaks html bg3 html boostMDS html clusGPS-class html clusGPS html combineGenesMatrix html diffFactors html diffGenes html distGPS-class html distGPS html domainDist html geneSetGPS html getURL html gff2RDList html gps2xgmml html mds-class html mds html mergeClusters html mergeReplicates html procrustesAdj html profileClusters html rankFactorsbyDomain html rankFactorsbyProfile html s2 html splitDistGPS-class html ** building package indices ** installing vignettes ** testing if installed package can be loaded from temporary location ** testing if installed package can be loaded from final location ** testing if installed package keeps a record of temporary installation path install for x64 * installing *source* package 'chroGPS' ... ** testing if installed package can be loaded * MD5 sums packaged installation of 'chroGPS' as chroGPS_2.1.1.zip * DONE (chroGPS)