Back to Multiple platform build/check report for BioC 3.9 |
|
This page was generated on 2019-04-09 12:40:20 -0400 (Tue, 09 Apr 2019).
Package 774/1703 | Hostname | OS / Arch | INSTALL | BUILD | CHECK | BUILD BIN | ||||||
icetea 1.1.1 Vivek Bhardwaj
| malbec2 | Linux (Ubuntu 18.04.2 LTS) / x86_64 | OK | OK | ERROR | |||||||
tokay2 | Windows Server 2012 R2 Standard / x64 | OK | OK | ERROR | [ OK ] | |||||||
celaya2 | OS X 10.11.6 El Capitan / x86_64 | OK | OK | ERROR | OK | |||||||
merida2 | OS X 10.11.6 El Capitan / x86_64 | OK | OK | ERROR | OK |
Package: icetea |
Version: 1.1.1 |
Command: rm -rf icetea.buildbin-libdir && mkdir icetea.buildbin-libdir && C:\Users\biocbuild\bbs-3.9-bioc\R\bin\R.exe CMD INSTALL --merge-multiarch --build --library=icetea.buildbin-libdir icetea_1.1.1.tar.gz |
StartedAt: 2019-04-09 08:15:25 -0400 (Tue, 09 Apr 2019) |
EndedAt: 2019-04-09 08:16:23 -0400 (Tue, 09 Apr 2019) |
EllapsedTime: 58.6 seconds |
RetCode: 0 |
Status: OK |
PackageFile: icetea_1.1.1.zip |
PackageFileSize: 949 KiB |
############################################################################## ############################################################################## ### ### Running command: ### ### rm -rf icetea.buildbin-libdir && mkdir icetea.buildbin-libdir && C:\Users\biocbuild\bbs-3.9-bioc\R\bin\R.exe CMD INSTALL --merge-multiarch --build --library=icetea.buildbin-libdir icetea_1.1.1.tar.gz ### ############################################################################## ############################################################################## install for i386 * installing *source* package 'icetea' ... ** R ** inst ** byte-compile and prepare package for lazy loading ** help *** installing help indices converting help for package 'icetea' finding HTML links ... done ResizeReads html activeChrs html annotateTSS html check_capSet html demultiplexFASTQ html detectDiffTSS html finding level-2 HTML links ... done detectTSS html exampleCSobject html exportTSS html filterDuplicates html filterDups html fitDiffTSS html getBamFlags html getChromBins html getChromWindows html getGeneCounts html getMCparams html getNormFactors html get_newfastq html getranks html mapCaps html newCapSet html numReadsInBed html plotPrecision html plotReadStats html plotTSSprecision html sampleInfo html splitBAM_byIndex html splitBAM_byRepindex html split_fastq html splitranks html strandBinCounts html ** building package indices ** installing vignettes ** testing if installed package can be loaded from temporary location ** testing if installed package can be loaded from final location ** testing if installed package keeps a record of temporary installation path install for x64 * installing *source* package 'icetea' ... ** testing if installed package can be loaded * MD5 sums packaged installation of 'icetea' as icetea_1.1.1.zip * DONE (icetea)