plethy.Rcheck/tests_i386/runTests.Rout
R Under development (unstable) (2019-03-09 r76216) -- "Unsuffered Consequences"
Copyright (C) 2019 The R Foundation for Statistical Computing
Platform: i386-w64-mingw32/i386 (32-bit)
R is free software and comes with ABSOLUTELY NO WARRANTY.
You are welcome to redistribute it under certain conditions.
Type 'license()' or 'licence()' for distribution details.
R is a collaborative project with many contributors.
Type 'contributors()' for more information and
'citation()' on how to cite R or R packages in publications.
Type 'demo()' for some demos, 'help()' for on-line help, or
'help.start()' for an HTML browser interface to help.
Type 'q()' to quit R.
> BiocGenerics:::testPackage("plethy")
Attaching package: 'BiocGenerics'
The following objects are masked from 'package:parallel':
clusterApply, clusterApplyLB, clusterCall, clusterEvalQ,
clusterExport, clusterMap, parApply, parCapply, parLapply,
parLapplyLB, parRapply, parSapply, parSapplyLB
The following objects are masked from 'package:stats':
IQR, mad, sd, var, xtabs
The following objects are masked from 'package:base':
Filter, Find, Map, Position, Reduce, anyDuplicated, append,
as.data.frame, basename, cbind, colMeans, colSums, colnames,
dirname, do.call, duplicated, eval, evalq, get, grep, grepl,
intersect, is.unsorted, lapply, mapply, match, mget, order, paste,
pmax, pmax.int, pmin, pmin.int, rank, rbind, rowMeans, rowSums,
rownames, sapply, setdiff, sort, table, tapply, union, unique,
unsplit, which, which.max, which.min
Attaching package: 'S4Vectors'
The following object is masked from 'package:base':
expand.grid
Loading required package: reshape2
Processing C:\Users\biocbuild\bbs-3.9-bioc\tmpdir\Rtmpcj2x0e\file12906e860cc in chunks of 10000
Starting chunk 1
Reached breakpoint change
Processing breakpoint 1
Starting sample sample_1
Sample written
Processing breakpoint 2
Starting sample sample_1
Sample written
Starting sample sample_2
Sample written
Processing breakpoint 3
Starting sample sample_2
Sample written
Starting sample sample_3
Sample written
Processing breakpoint 4
Starting sample sample_1
Sample written
Starting sample sample_3
Sample written
Processing breakpoint 5
Starting sample sample_1
Sample written
Starting sample sample_2
Sample written
Processing breakpoint 6
Starting sample sample_2
Sample written
Starting sample sample_3
Sample written
Reached the end of the file, writing remaining data
Starting sample sample_3
Sample written
Processing C:\Users\biocbuild\bbs-3.9-bioc\tmpdir\Rtmpcj2x0e\file129060d76075 in chunks of 10000
Starting chunk 1
Reached breakpoint change
Processing breakpoint 1
Starting sample sample_1
Sample written
Reached the end of the file, writing remaining data
Starting sample sample_1
Sample written
Starting sample sample_2
Sample written
Starting sample sample_3
Sample written
Processing C:\Users\biocbuild\bbs-3.9-bioc\tmpdir\Rtmpcj2x0e\file1290205820e9 in chunks of 10000
Starting chunk 1
Reached breakpoint change
Processing breakpoint 1
Starting sample sample_4
Sample written
Processing breakpoint 2
Starting sample sample_4
Sample written
Starting sample sample_5
Sample written
Reached the end of the file, writing remaining data
Starting sample sample_5
Sample written
Processing C:\Users\biocbuild\bbs-3.9-bioc\tmpdir\Rtmpcj2x0e\file1290380a47e0 in chunks of 10000
Starting chunk 1
Reached breakpoint change
Processing breakpoint 1
Starting sample sample_1
Sample written
Processing breakpoint 2
Starting sample sample_1
Sample written
Starting sample sample_2
Sample written
Processing breakpoint 3
Starting sample sample_2
Sample written
Starting sample sample_3
Sample written
Processing breakpoint 4
Starting sample sample_3
Sample written
Starting sample sample_4
Sample written
Processing breakpoint 5
Starting sample sample_2
Sample written
Starting sample sample_4
Sample written
Reached the end of the file, writing remaining data
Starting sample sample_2
Sample written
Starting sample sample_5
Sample written
Processing C:\Users\biocbuild\bbs-3.9-bioc\tmpdir\Rtmpcj2x0e\file129078f43d4b in chunks of 10000
Starting chunk 1
Reached breakpoint change
Processing breakpoint 1
Starting sample sample_1
Sample written
Processing breakpoint 2
Starting sample sample_2
Sample written
Processing breakpoint 3
Starting sample sample_1
Sample written
Processing breakpoint 4
Starting sample sample_2
Sample written
Processing breakpoint 5
Starting sample sample_1
Sample written
Processing breakpoint 6
Starting sample sample_2
Sample written
Processing breakpoint 7
Starting sample sample_1
Sample written
Reached the end of the file, writing remaining data
Starting sample sample_2
Sample written
RUNIT TEST PROTOCOL -- Tue Apr 09 05:01:14 2019
***********************************************
Number of test functions: 23
Number of errors: 0
Number of failures: 0
1 Test Suite :
plethy RUnit Tests - 23 test functions, 0 errors, 0 failures
Number of test functions: 23
Number of errors: 0
Number of failures: 0
Warning message:
call dbDisconnect() when finished working with a connection
>
> proc.time()
user system elapsed
99.12 1.62 100.93
|
plethy.Rcheck/tests_x64/runTests.Rout
R Under development (unstable) (2019-03-09 r76216) -- "Unsuffered Consequences"
Copyright (C) 2019 The R Foundation for Statistical Computing
Platform: x86_64-w64-mingw32/x64 (64-bit)
R is free software and comes with ABSOLUTELY NO WARRANTY.
You are welcome to redistribute it under certain conditions.
Type 'license()' or 'licence()' for distribution details.
R is a collaborative project with many contributors.
Type 'contributors()' for more information and
'citation()' on how to cite R or R packages in publications.
Type 'demo()' for some demos, 'help()' for on-line help, or
'help.start()' for an HTML browser interface to help.
Type 'q()' to quit R.
> BiocGenerics:::testPackage("plethy")
Attaching package: 'BiocGenerics'
The following objects are masked from 'package:parallel':
clusterApply, clusterApplyLB, clusterCall, clusterEvalQ,
clusterExport, clusterMap, parApply, parCapply, parLapply,
parLapplyLB, parRapply, parSapply, parSapplyLB
The following objects are masked from 'package:stats':
IQR, mad, sd, var, xtabs
The following objects are masked from 'package:base':
Filter, Find, Map, Position, Reduce, anyDuplicated, append,
as.data.frame, basename, cbind, colMeans, colSums, colnames,
dirname, do.call, duplicated, eval, evalq, get, grep, grepl,
intersect, is.unsorted, lapply, mapply, match, mget, order, paste,
pmax, pmax.int, pmin, pmin.int, rank, rbind, rowMeans, rowSums,
rownames, sapply, setdiff, sort, table, tapply, union, unique,
unsplit, which, which.max, which.min
Attaching package: 'S4Vectors'
The following object is masked from 'package:base':
expand.grid
Loading required package: reshape2
Processing C:\Users\biocbuild\bbs-3.9-bioc\tmpdir\RtmpcRBqm3\file1378716621a1 in chunks of 10000
Starting chunk 1
Reached breakpoint change
Processing breakpoint 1
Starting sample sample_1
Sample written
Processing breakpoint 2
Starting sample sample_1
Sample written
Starting sample sample_2
Sample written
Processing breakpoint 3
Starting sample sample_2
Sample written
Starting sample sample_3
Sample written
Processing breakpoint 4
Starting sample sample_1
Sample written
Starting sample sample_3
Sample written
Processing breakpoint 5
Starting sample sample_1
Sample written
Starting sample sample_2
Sample written
Processing breakpoint 6
Starting sample sample_2
Sample written
Starting sample sample_3
Sample written
Reached the end of the file, writing remaining data
Starting sample sample_3
Sample written
Processing C:\Users\biocbuild\bbs-3.9-bioc\tmpdir\RtmpcRBqm3\file137840e8659f in chunks of 10000
Starting chunk 1
Reached breakpoint change
Processing breakpoint 1
Starting sample sample_1
Sample written
Reached the end of the file, writing remaining data
Starting sample sample_1
Sample written
Starting sample sample_2
Sample written
Starting sample sample_3
Sample written
Processing C:\Users\biocbuild\bbs-3.9-bioc\tmpdir\RtmpcRBqm3\file13787c483ea9 in chunks of 10000
Starting chunk 1
Reached breakpoint change
Processing breakpoint 1
Starting sample sample_4
Sample written
Processing breakpoint 2
Starting sample sample_4
Sample written
Starting sample sample_5
Sample written
Reached the end of the file, writing remaining data
Starting sample sample_5
Sample written
Processing C:\Users\biocbuild\bbs-3.9-bioc\tmpdir\RtmpcRBqm3\file137847697f34 in chunks of 10000
Starting chunk 1
Reached breakpoint change
Processing breakpoint 1
Starting sample sample_1
Sample written
Processing breakpoint 2
Starting sample sample_1
Sample written
Starting sample sample_2
Sample written
Processing breakpoint 3
Starting sample sample_2
Sample written
Starting sample sample_3
Sample written
Processing breakpoint 4
Starting sample sample_3
Sample written
Starting sample sample_4
Sample written
Processing breakpoint 5
Starting sample sample_2
Sample written
Starting sample sample_4
Sample written
Reached the end of the file, writing remaining data
Starting sample sample_2
Sample written
Starting sample sample_5
Sample written
Processing C:\Users\biocbuild\bbs-3.9-bioc\tmpdir\RtmpcRBqm3\file1378140c5565 in chunks of 10000
Starting chunk 1
Reached breakpoint change
Processing breakpoint 1
Starting sample sample_1
Sample written
Processing breakpoint 2
Starting sample sample_2
Sample written
Processing breakpoint 3
Starting sample sample_1
Sample written
Processing breakpoint 4
Starting sample sample_2
Sample written
Processing breakpoint 5
Starting sample sample_1
Sample written
Processing breakpoint 6
Starting sample sample_2
Sample written
Processing breakpoint 7
Starting sample sample_1
Sample written
Reached the end of the file, writing remaining data
Starting sample sample_2
Sample written
RUNIT TEST PROTOCOL -- Tue Apr 09 05:02:44 2019
***********************************************
Number of test functions: 23
Number of errors: 0
Number of failures: 0
1 Test Suite :
plethy RUnit Tests - 23 test functions, 0 errors, 0 failures
Number of test functions: 23
Number of errors: 0
Number of failures: 0
Warning message:
call dbDisconnect() when finished working with a connection
>
> proc.time()
user system elapsed
86.95 1.76 88.84
|