Back to Multiple platform build/check report for BioC 3.9 |
|
This page was generated on 2019-04-09 11:54:13 -0400 (Tue, 09 Apr 2019).
Package 1547/1703 | Hostname | OS / Arch | INSTALL | BUILD | CHECK | BUILD BIN | ||||||
spotSegmentation 1.57.0 Chris Fraley
| malbec2 | Linux (Ubuntu 18.04.2 LTS) / x86_64 | OK | OK | WARNINGS | ![]() | ||||||
tokay2 | Windows Server 2012 R2 Standard / x64 | [ OK ] | OK | WARNINGS | OK | ![]() | ||||||
celaya2 | OS X 10.11.6 El Capitan / x86_64 | OK | OK | WARNINGS | OK | ![]() | ||||||
merida2 | OS X 10.11.6 El Capitan / x86_64 | OK | OK | WARNINGS | OK |
Package: spotSegmentation |
Version: 1.57.0 |
Command: C:\cygwin\bin\curl.exe -O https://malbec2.bioconductor.org/BBS/3.9/bioc/src/contrib/spotSegmentation_1.57.0.tar.gz && rm -rf spotSegmentation.buildbin-libdir && mkdir spotSegmentation.buildbin-libdir && C:\Users\biocbuild\bbs-3.9-bioc\R\bin\R.exe CMD INSTALL --merge-multiarch --build --library=spotSegmentation.buildbin-libdir spotSegmentation_1.57.0.tar.gz && C:\Users\biocbuild\bbs-3.9-bioc\R\bin\R.exe CMD INSTALL spotSegmentation_1.57.0.zip && rm spotSegmentation_1.57.0.tar.gz spotSegmentation_1.57.0.zip |
StartedAt: 2019-04-08 18:26:00 -0400 (Mon, 08 Apr 2019) |
EndedAt: 2019-04-08 18:26:40 -0400 (Mon, 08 Apr 2019) |
EllapsedTime: 40.0 seconds |
RetCode: 0 |
Status: OK |
############################################################################## ############################################################################## ### ### Running command: ### ### C:\cygwin\bin\curl.exe -O https://malbec2.bioconductor.org/BBS/3.9/bioc/src/contrib/spotSegmentation_1.57.0.tar.gz && rm -rf spotSegmentation.buildbin-libdir && mkdir spotSegmentation.buildbin-libdir && C:\Users\biocbuild\bbs-3.9-bioc\R\bin\R.exe CMD INSTALL --merge-multiarch --build --library=spotSegmentation.buildbin-libdir spotSegmentation_1.57.0.tar.gz && C:\Users\biocbuild\bbs-3.9-bioc\R\bin\R.exe CMD INSTALL spotSegmentation_1.57.0.zip && rm spotSegmentation_1.57.0.tar.gz spotSegmentation_1.57.0.zip ### ############################################################################## ############################################################################## % Total % Received % Xferd Average Speed Time Time Time Current Dload Upload Total Spent Left Speed 0 0 0 0 0 0 0 0 --:--:-- --:--:-- --:--:-- 0 100 539k 100 539k 0 0 6982k 0 --:--:-- --:--:-- --:--:-- 7596k install for i386 * installing *source* package 'spotSegmentation' ... ** R ** data ** byte-compile and prepare package for lazy loading ** help *** installing help indices converting help for package 'spotSegmentation' finding HTML links ... done plot.spotseg html plotBlockImage html spotSegTest html spotgrid html spotseg html summary.spotseg html ** building package indices ** installing vignettes ** testing if installed package can be loaded from temporary location ** testing if installed package can be loaded from final location ** testing if installed package keeps a record of temporary installation path install for x64 * installing *source* package 'spotSegmentation' ... ** testing if installed package can be loaded * MD5 sums packaged installation of 'spotSegmentation' as spotSegmentation_1.57.0.zip * DONE (spotSegmentation) * installing to library 'C:/Users/biocbuild/bbs-3.9-bioc/R/library' package 'spotSegmentation' successfully unpacked and MD5 sums checked