Back to Multiple platform build/check report for BioC 3.9 |
|
This page was generated on 2019-10-16 12:40:58 -0400 (Wed, 16 Oct 2019).
Package 607/1741 | Hostname | OS / Arch | INSTALL | BUILD | CHECK | BUILD BIN | ||||||
GateFinder 1.4.0 Nima Aghaeepour
| malbec2 | Linux (Ubuntu 18.04.2 LTS) / x86_64 | OK | OK | OK | ![]() | ||||||
tokay2 | Windows Server 2012 R2 Standard / x64 | OK | OK | OK | [ OK ] | ![]() | ||||||
celaya2 | OS X 10.11.6 El Capitan / x86_64 | OK | OK | OK | OK | ![]() |
Package: GateFinder |
Version: 1.4.0 |
Command: rm -rf GateFinder.buildbin-libdir && mkdir GateFinder.buildbin-libdir && C:\Users\biocbuild\bbs-3.9-bioc\R\bin\R.exe --arch x64 CMD INSTALL --no-multiarch --build --library=GateFinder.buildbin-libdir GateFinder_1.4.0.tar.gz |
StartedAt: 2019-10-16 09:15:34 -0400 (Wed, 16 Oct 2019) |
EndedAt: 2019-10-16 09:16:22 -0400 (Wed, 16 Oct 2019) |
EllapsedTime: 48.6 seconds |
RetCode: 0 |
Status: OK |
PackageFile: GateFinder_1.4.0.zip |
PackageFileSize: 1018 KiB |
############################################################################## ############################################################################## ### ### Running command: ### ### rm -rf GateFinder.buildbin-libdir && mkdir GateFinder.buildbin-libdir && C:\Users\biocbuild\bbs-3.9-bioc\R\bin\R.exe --arch x64 CMD INSTALL --no-multiarch --build --library=GateFinder.buildbin-libdir GateFinder_1.4.0.tar.gz ### ############################################################################## ############################################################################## * installing *source* package 'GateFinder' ... ** using staged installation ** R ** data ** inst ** byte-compile and prepare package for lazy loading ** help *** installing help indices converting help for package 'GateFinder' finding HTML links ... done GateFinder-package html GateFinder html GatingProjection-class html LPSData html plot.GateFinder html ** building package indices ** installing vignettes ** testing if installed package can be loaded from temporary location ** testing if installed package can be loaded from final location ** testing if installed package keeps a record of temporary installation path * MD5 sums packaged installation of 'GateFinder' as GateFinder_1.4.0.zip * DONE (GateFinder)