Back to Long tests report for BioC 3.9 |
This page was generated on 2019-10-12 19:55:03 -0400 (Sat, 12 Oct 2019).
Package 2/4 | Hostname | OS / Arch | CHECK | |||||
BiocParallel 1.18.1 Bioconductor Package Maintainer
| malbec2 | Linux (Ubuntu 18.04.2 LTS) / x86_64 | [ WARNINGS ] |
Package: BiocParallel |
Version: 1.18.1 |
Command: /home/biocbuild/bbs-3.9-bioc/R/bin/R CMD check --test-dir=longtests --no-stop-on-test-error --no-codoc --no-examples --no-manual --ignore-vignettes --check-subdirs=no BiocParallel_1.18.1.tar.gz |
StartedAt: 2019-10-12 11:55:25 -0400 (Sat, 12 Oct 2019) |
EndedAt: 2019-10-12 11:55:52 -0400 (Sat, 12 Oct 2019) |
EllapsedTime: 27.3 seconds |
RetCode: 0 |
Status: WARNINGS |
CheckDir: BiocParallel.Rcheck |
Warnings: 1 |
############################################################################## ############################################################################## ### ### Running command: ### ### /home/biocbuild/bbs-3.9-bioc/R/bin/R CMD check --test-dir=longtests --no-stop-on-test-error --no-codoc --no-examples --no-manual --ignore-vignettes --check-subdirs=no BiocParallel_1.18.1.tar.gz ### ############################################################################## ############################################################################## * using log directory ‘/home/biocbuild/bbs-3.9-bioc-longtests/meat/BiocParallel.Rcheck’ * using R version 3.6.1 (2019-07-05) * using platform: x86_64-pc-linux-gnu (64-bit) * using session charset: UTF-8 * using options ‘--no-codoc --no-examples --no-manual --ignore-vignettes --no-stop-on-test-error’ * checking for file ‘BiocParallel/DESCRIPTION’ ... OK * checking extension type ... Package * this is package ‘BiocParallel’ version ‘1.18.1’ * checking package namespace information ... OK * checking package dependencies ... OK * checking if this is a source package ... OK * checking if there is a namespace ... OK * checking for hidden files and directories ... OK * checking for portable file names ... OK * checking for sufficient/correct file permissions ... OK * checking whether package ‘BiocParallel’ can be installed ... OK * checking installed package size ... OK * checking package directory ... OK * checking DESCRIPTION meta-information ... OK * checking top-level files ... OK * checking for left-over files ... OK * checking index information ... OK * checking package subdirectories ... OK * checking R files for non-ASCII characters ... OK * checking R files for syntax errors ... OK * checking whether the package can be loaded ... OK * checking whether the package can be loaded with stated dependencies ... OK * checking whether the package can be unloaded cleanly ... OK * checking whether the namespace can be loaded with stated dependencies ... OK * checking whether the namespace can be unloaded cleanly ... OK * checking dependencies in R code ... NOTE -------------------------------------------------------------------------- [[52770,1],0]: A high-performance Open MPI point-to-point messaging module was unable to find any relevant network interfaces: Module: OpenFabrics (openib) Host: malbec2 Another transport will be used instead, although this may result in lower performance. NOTE: You can disable this warning by setting the MCA parameter btl_base_warn_component_unused to 0. -------------------------------------------------------------------------- Unexported objects imported by ':::' calls: ‘parallel:::closeNode’ ‘parallel:::recvData’ ‘parallel:::recvOneData’ ‘parallel:::sendData’ See the note in ?`:::` about the use of this operator. * checking S3 generic/method consistency ... OK * checking replacement functions ... OK * checking foreign function calls ... OK * checking R code for possible problems ... OK * checking Rd files ... OK * checking Rd metadata ... OK * checking Rd cross-references ... OK * checking for missing documentation entries ... OK * checking for code/documentation mismatches ... SKIPPED * checking Rd \usage sections ... OK * checking Rd contents ... OK * checking for unstated dependencies in examples ... OK * checking line endings in shell scripts ... OK * checking line endings in C/C++/Fortran sources/headers ... OK * checking line endings in Makefiles ... OK * checking compilation flags in Makevars ... OK * checking for GNU extensions in Makefiles ... OK * checking for portable use of $(BLAS_LIBS) and $(LAPACK_LIBS) ... OK * checking compiled code ... OK * checking files in ‘vignettes’ ... SKIPPED * checking examples ... SKIPPED WARNING directory ‘longtests’ not found * DONE Status: 1 WARNING, 1 NOTE See ‘/home/biocbuild/bbs-3.9-bioc-longtests/meat/BiocParallel.Rcheck/00check.log’ for details.
BiocParallel.Rcheck/00install.out
* installing *source* package ‘BiocParallel’ ... ** using staged installation checking for gcc... gcc checking whether the C compiler works... yes checking for C compiler default output file name... a.out checking for suffix of executables... checking whether we are cross compiling... no checking for suffix of object files... o checking whether we are using the GNU C compiler... yes checking whether gcc accepts -g... yes checking for gcc option to accept ISO C89... none needed checking for shm_open in -lrt... yes configure: creating ./config.status config.status: creating src/Makevars ** libs g++ -std=gnu++11 -I"/home/biocbuild/bbs-3.9-bioc/R/include" -DNDEBUG -I"/home/biocbuild/bbs-3.9-bioc/R/library/BH/include" -I/usr/local/include -fpic -g -O2 -Wall -c ipcmutex.cpp -o ipcmutex.o In file included from /home/biocbuild/bbs-3.9-bioc/R/library/BH/include/boost/random/detail/integer_log2.hpp:19:0, from /home/biocbuild/bbs-3.9-bioc/R/library/BH/include/boost/random/detail/large_arithmetic.hpp:19, from /home/biocbuild/bbs-3.9-bioc/R/library/BH/include/boost/random/detail/const_mod.hpp:23, from /home/biocbuild/bbs-3.9-bioc/R/library/BH/include/boost/random/detail/seed_impl.hpp:26, from /home/biocbuild/bbs-3.9-bioc/R/library/BH/include/boost/random/mersenne_twister.hpp:30, from /home/biocbuild/bbs-3.9-bioc/R/library/BH/include/boost/uuid/random_generator.hpp:17, from /home/biocbuild/bbs-3.9-bioc/R/library/BH/include/boost/uuid/uuid_generators.hpp:17, from ipcmutex.cpp:3: /home/biocbuild/bbs-3.9-bioc/R/library/BH/include/boost/pending/integer_log2.hpp:7:59: note: #pragma message: This header is deprecated. Useinstead. BOOST_HEADER_DEPRECATED(" "); ^ g++ -std=gnu++11 -shared -L/home/biocbuild/bbs-3.9-bioc/R/lib -L/usr/local/lib -o BiocParallel.so ipcmutex.o -lrt -L/home/biocbuild/bbs-3.9-bioc/R/lib -lR installing to /home/biocbuild/bbs-3.9-bioc-longtests/meat/BiocParallel.Rcheck/00LOCK-BiocParallel/00new/BiocParallel/libs ** R ** inst ** byte-compile and prepare package for lazy loading ** help *** installing help indices ** building package indices ** installing vignettes ** testing if installed package can be loaded from temporary location ** checking absolute paths in shared objects and dynamic libraries ** testing if installed package can be loaded from final location ** testing if installed package keeps a record of temporary installation path * DONE (BiocParallel)