Back to Multiple platform build/check report for BioC 3.9 experimental data |
This page was generated on 2019-10-17 16:51:32 -0400 (Thu, 17 Oct 2019).
Package 263/371 | Hostname | OS / Arch | INSTALL | BUILD | CHECK | BUILD BIN | ||||||
Felix Klein
| malbec2 | Linux (Ubuntu 18.04.2 LTS) / x86_64 | [ OK ] | ERROR | skipped |
Package: PGPC |
Version: 1.12.0 |
Command: /home/biocbuild/bbs-3.9-bioc/R/bin/R CMD INSTALL PGPC |
StartedAt: 2019-10-17 11:17:39 -0400 (Thu, 17 Oct 2019) |
EndedAt: 2019-10-17 11:18:07 -0400 (Thu, 17 Oct 2019) |
EllapsedTime: 28.0 seconds |
RetCode: 0 |
Status: OK |
############################################################################## ############################################################################## ### ### Running command: ### ### /home/biocbuild/bbs-3.9-bioc/R/bin/R CMD INSTALL PGPC ### ############################################################################## ############################################################################## * installing to library ‘/home/biocbuild/bbs-3.9-bioc/R/library’ * installing *source* package ‘PGPC’ ... ** using staged installation ** R ** data ** inst ** byte-compile and prepare package for lazy loading ** help *** installing help indices ** building package indices ** installing vignettes ** testing if installed package can be loaded from temporary location Warning: Package 'PGPC' is deprecated and will be removed from Bioconductor version 3.10 ** testing if installed package can be loaded from final location Warning: Package 'PGPC' is deprecated and will be removed from Bioconductor version 3.10 ** testing if installed package keeps a record of temporary installation path * DONE (PGPC)