Back to Multiple platform build/check report for BioC 3.9 experimental data |
This page was generated on 2019-10-17 16:51:38 -0400 (Thu, 17 Oct 2019).
Package 350/371 | Hostname | OS / Arch | INSTALL | BUILD | CHECK | BUILD BIN | ||||||
TENxPBMCData 1.2.0 Stephanie Hicks
| malbec2 | Linux (Ubuntu 18.04.2 LTS) / x86_64 | OK | [ OK ] | OK | ![]() |
Package: TENxPBMCData |
Version: 1.2.0 |
Command: /home/biocbuild/bbs-3.9-bioc/R/bin/R CMD build --keep-empty-dirs --no-resave-data TENxPBMCData |
StartedAt: 2019-10-17 12:20:43 -0400 (Thu, 17 Oct 2019) |
EndedAt: 2019-10-17 12:21:18 -0400 (Thu, 17 Oct 2019) |
EllapsedTime: 34.7 seconds |
RetCode: 0 |
Status: OK |
PackageFile: TENxPBMCData_1.2.0.tar.gz |
PackageFileSize: 284.4 KiB |
############################################################################## ############################################################################## ### ### Running command: ### ### /home/biocbuild/bbs-3.9-bioc/R/bin/R CMD build --keep-empty-dirs --no-resave-data TENxPBMCData ### ############################################################################## ############################################################################## * checking for file ‘TENxPBMCData/DESCRIPTION’ ... OK * preparing ‘TENxPBMCData’: * checking DESCRIPTION meta-information ... OK * installing the package to build vignettes * creating vignettes ... OK * checking for LF line-endings in source and make files and shell scripts * checking for empty or unneeded directories * building ‘TENxPBMCData_1.2.0.tar.gz’