Back to Multiple platform build/check report for BioC 3.9 experimental data |
This page was generated on 2019-10-17 16:51:34 -0400 (Thu, 17 Oct 2019).
Package 18/371 | Hostname | OS / Arch | INSTALL | BUILD | CHECK | BUILD BIN | ||||||
aracne.networks 1.10.0 Federico M. Giorgi
| malbec2 | Linux (Ubuntu 18.04.2 LTS) / x86_64 | OK | [ OK ] | WARNINGS | ![]() |
Package: aracne.networks |
Version: 1.10.0 |
Command: /home/biocbuild/bbs-3.9-bioc/R/bin/R CMD build --keep-empty-dirs --no-resave-data aracne.networks |
StartedAt: 2019-10-17 12:12:32 -0400 (Thu, 17 Oct 2019) |
EndedAt: 2019-10-17 12:13:32 -0400 (Thu, 17 Oct 2019) |
EllapsedTime: 60.2 seconds |
RetCode: 0 |
Status: OK |
PackageFile: aracne.networks_1.10.0.tar.gz |
PackageFileSize: 203.2 MiB |
############################################################################## ############################################################################## ### ### Running command: ### ### /home/biocbuild/bbs-3.9-bioc/R/bin/R CMD build --keep-empty-dirs --no-resave-data aracne.networks ### ############################################################################## ############################################################################## * checking for file ‘aracne.networks/DESCRIPTION’ ... OK * preparing ‘aracne.networks’: * checking DESCRIPTION meta-information ... OK * installing the package to build vignettes * creating vignettes ... OK * checking for LF line-endings in source and make files and shell scripts * checking for empty or unneeded directories * looking to see if a ‘data/datalist’ file should be added * building ‘aracne.networks_1.10.0.tar.gz’