Back to Workflows build report for BioC 3.9 |
This page was generated on 2019-01-30 16:00:22 -0500 (Wed, 30 Jan 2019).
Package 16/23 | Hostname | OS / Arch | INSTALL | BUILD | ||||||
RNAseq123 1.7.2 Matthew Ritchie
| malbec2 | Linux (Ubuntu 18.04.1 LTS) / x86_64 | OK | OK | ||||||
tokay2 | Windows Server 2012 R2 Standard / x64 | [ OK ] | OK |
Package: RNAseq123 |
Version: 1.7.2 |
Command: C:\cygwin\bin\curl.exe -O https://malbec2.bioconductor.org/BBS/3.9/workflows/src/contrib/RNAseq123_1.7.2.tar.gz && rm -rf RNAseq123.buildbin-libdir && mkdir RNAseq123.buildbin-libdir && C:\Users\biocbuild\bbs-3.9-bioc\R\bin\R.exe CMD INSTALL --merge-multiarch --build --library=RNAseq123.buildbin-libdir RNAseq123_1.7.2.tar.gz && C:\Users\biocbuild\bbs-3.9-bioc\R\bin\R.exe CMD INSTALL RNAseq123_1.7.2.zip && rm RNAseq123_1.7.2.tar.gz RNAseq123_1.7.2.zip |
StartedAt: 2019-01-30 09:35:22 -0500 (Wed, 30 Jan 2019) |
EndedAt: 2019-01-30 09:35:59 -0500 (Wed, 30 Jan 2019) |
EllapsedTime: 36.9 seconds |
RetCode: 0 |
Status: OK |
############################################################################## ############################################################################## ### ### Running command: ### ### C:\cygwin\bin\curl.exe -O https://malbec2.bioconductor.org/BBS/3.9/workflows/src/contrib/RNAseq123_1.7.2.tar.gz && rm -rf RNAseq123.buildbin-libdir && mkdir RNAseq123.buildbin-libdir && C:\Users\biocbuild\bbs-3.9-bioc\R\bin\R.exe CMD INSTALL --merge-multiarch --build --library=RNAseq123.buildbin-libdir RNAseq123_1.7.2.tar.gz && C:\Users\biocbuild\bbs-3.9-bioc\R\bin\R.exe CMD INSTALL RNAseq123_1.7.2.zip && rm RNAseq123_1.7.2.tar.gz RNAseq123_1.7.2.zip ### ############################################################################## ############################################################################## % Total % Received % Xferd Average Speed Time Time Time Current Dload Upload Total Spent Left Speed 0 0 0 0 0 0 0 0 --:--:-- --:--:-- --:--:-- 0 0 0 0 0 0 0 0 0 --:--:-- 0:00:03 --:--:-- 0 0 0 0 0 0 0 0 0 --:--:-- 0:00:04 --:--:-- 0 5 2341k 5 128k 0 0 24719 0 0:01:36 0:00:05 0:01:31 26298 55 2341k 55 1296k 0 0 207k 0 0:00:11 0:00:06 0:00:05 218k 100 2341k 100 2341k 0 0 341k 0 0:00:06 0:00:06 --:--:-- 358k install for i386 * installing *source* package 'RNAseq123' ... ** inst ** help No man pages found in package 'RNAseq123' *** installing help indices ** building package indices ** installing vignettes ** testing if installed package can be loaded install for x64 * installing *source* package 'RNAseq123' ... ** testing if installed package can be loaded * MD5 sums packaged installation of 'RNAseq123' as RNAseq123_1.7.2.zip * DONE (RNAseq123) * installing to library 'C:/Users/biocbuild/bbs-3.9-bioc/R/library' package 'RNAseq123' successfully unpacked and MD5 sums checked