Back to Workflows build report for BioC 3.9 |
This page was generated on 2019-10-16 13:50:16 -0400 (Wed, 16 Oct 2019).
Package 25/27 | Hostname | OS / Arch | INSTALL | BUILD | ||||||
SingscoreAMLMutations 1.0.1 Dharmesh D. Bhuva
| malbec2 | Linux (Ubuntu 18.04.2 LTS) / x86_64 | OK | [ OK ] | ![]() |
Package: SingscoreAMLMutations |
Version: 1.0.1 |
Command: /home/biocbuild/bbs-3.9-bioc/R/bin/R CMD build --keep-empty-dirs --no-resave-data SingscoreAMLMutations |
StartedAt: 2019-10-16 12:12:15 -0400 (Wed, 16 Oct 2019) |
EndedAt: 2019-10-16 12:23:19 -0400 (Wed, 16 Oct 2019) |
EllapsedTime: 664.4 seconds |
RetCode: 0 |
Status: OK |
PackageFile: SingscoreAMLMutations_1.0.1.tar.gz |
PackageFileSize: 2.124 MiB |
############################################################################## ############################################################################## ### ### Running command: ### ### /home/biocbuild/bbs-3.9-bioc/R/bin/R CMD build --keep-empty-dirs --no-resave-data SingscoreAMLMutations ### ############################################################################## ############################################################################## * checking for file ‘SingscoreAMLMutations/DESCRIPTION’ ... OK * preparing ‘SingscoreAMLMutations’: * checking DESCRIPTION meta-information ...It is recommended to use ‘given’ instead of ‘middle’. It is recommended to use ‘given’ instead of ‘middle’. OK * installing the package to build vignettes * creating vignettes ... OK It is recommended to use ‘given’ instead of ‘middle’. It is recommended to use ‘given’ instead of ‘middle’. * checking for LF line-endings in source and make files and shell scripts * checking for empty or unneeded directories * looking to see if a ‘data/datalist’ file should be added * building ‘SingscoreAMLMutations_1.0.1.tar.gz’