Back to Workflows build report for BioC 3.9 |
This page was generated on 2019-01-30 16:00:21 -0500 (Wed, 30 Jan 2019).
Package 5/23 | Hostname | OS / Arch | INSTALL | BUILD | ||||||
cytofWorkflow 1.7.1 Malgorzata Nowicka
| malbec2 | Linux (Ubuntu 18.04.1 LTS) / x86_64 | OK | ERROR | ||||||
tokay2 | Windows Server 2012 R2 Standard / x64 | [ OK ] | ERROR |
Package: cytofWorkflow |
Version: 1.7.1 |
Command: C:\cygwin\bin\curl.exe -O https://malbec2.bioconductor.org/BBS/3.9/workflows/src/contrib/cytofWorkflow_1.7.1.tar.gz && rm -rf cytofWorkflow.buildbin-libdir && mkdir cytofWorkflow.buildbin-libdir && C:\Users\biocbuild\bbs-3.9-bioc\R\bin\R.exe CMD INSTALL --merge-multiarch --build --library=cytofWorkflow.buildbin-libdir cytofWorkflow_1.7.1.tar.gz && C:\Users\biocbuild\bbs-3.9-bioc\R\bin\R.exe CMD INSTALL cytofWorkflow_1.7.1.zip && rm cytofWorkflow_1.7.1.tar.gz cytofWorkflow_1.7.1.zip |
StartedAt: 2019-01-30 09:35:22 -0500 (Wed, 30 Jan 2019) |
EndedAt: 2019-01-30 09:35:44 -0500 (Wed, 30 Jan 2019) |
EllapsedTime: 22.0 seconds |
RetCode: 0 |
Status: OK |
############################################################################## ############################################################################## ### ### Running command: ### ### C:\cygwin\bin\curl.exe -O https://malbec2.bioconductor.org/BBS/3.9/workflows/src/contrib/cytofWorkflow_1.7.1.tar.gz && rm -rf cytofWorkflow.buildbin-libdir && mkdir cytofWorkflow.buildbin-libdir && C:\Users\biocbuild\bbs-3.9-bioc\R\bin\R.exe CMD INSTALL --merge-multiarch --build --library=cytofWorkflow.buildbin-libdir cytofWorkflow_1.7.1.tar.gz && C:\Users\biocbuild\bbs-3.9-bioc\R\bin\R.exe CMD INSTALL cytofWorkflow_1.7.1.zip && rm cytofWorkflow_1.7.1.tar.gz cytofWorkflow_1.7.1.zip ### ############################################################################## ############################################################################## % Total % Received % Xferd Average Speed Time Time Time Current Dload Upload Total Spent Left Speed 0 0 0 0 0 0 0 0 --:--:-- --:--:-- --:--:-- 0 0 0 0 0 0 0 0 0 --:--:-- 0:00:03 --:--:-- 0 0 0 0 0 0 0 0 0 --:--:-- 0:00:04 --:--:-- 0 0 0 0 0 0 0 0 0 --:--:-- 0:00:05 --:--:-- 0 100 65102 100 65102 0 0 10808 0 0:00:06 0:00:06 --:--:-- 11413 install for i386 * installing *source* package 'cytofWorkflow' ... ** help No man pages found in package 'cytofWorkflow' *** installing help indices ** building package indices ** installing vignettes ** testing if installed package can be loaded Warning: replacing previous import 'ggplot2::scale_discrete_manual' by 'ggridges::scale_discrete_manual' when loading 'cytofWorkflow' install for x64 * installing *source* package 'cytofWorkflow' ... ** testing if installed package can be loaded Warning: replacing previous import 'ggplot2::scale_discrete_manual' by 'ggridges::scale_discrete_manual' when loading 'cytofWorkflow' * MD5 sums packaged installation of 'cytofWorkflow' as cytofWorkflow_1.7.1.zip * DONE (cytofWorkflow) * installing to library 'C:/Users/biocbuild/bbs-3.9-bioc/R/library' package 'cytofWorkflow' successfully unpacked and MD5 sums checked