Welcome to mirrors.dotsrc.org

All our mirrors of open source software are available via http, https, ftp and an onion service. More information about our mirrors including statistics and contact information is available on our mirror info pages.

For information about dotsrc.org and our other services please go to our website.

Index of /bioconductor/checkResults/devel/bioc-LATEST/

File Name  ↓ File Size  ↓ Date  ↓ 
Parent directory/--
psygenet2r/-2024-10-24 15:04:42
brainflowprobes/-2024-10-24 15:04:38
ATACCoGAPS/-2024-10-24 15:04:37
BiocOncoTK/-2024-10-24 15:04:38
SummarizedBenchmark/-2024-10-24 15:04:43
nanotatoR/-2024-10-24 15:04:41
RandomWalkRestartMH/-2024-10-24 15:04:42
Risa/-2024-10-24 15:04:43
rDGIdb/-2024-10-24 15:04:42
Pi/-2024-10-24 15:04:42
MQmetrics/-2024-10-24 15:04:41
microbiomeMarker/-2024-10-24 15:04:41
RNAinteract/-2024-10-24 15:04:43
HTqPCR/-2024-10-24 15:04:40
netOmics/-2024-10-24 15:04:41
CellaRepertorium/-2024-10-24 15:04:38
biodbKegg/-2024-10-24 15:04:38
single/-2024-10-24 15:04:43
biodbExpasy/-2024-10-24 15:04:38
polyester/-2024-10-24 15:04:42
BRGenomics/-2024-10-24 15:04:38
Rcollectl/-2025-02-04 16:40:33
HilbertVisGUI/-2025-02-04 16:40:11
BiocHail/-2025-02-04 16:39:47
HTSeqGenie/-2025-02-04 16:40:11
DEGraph/-2025-02-04 16:39:58
NCIgraph/-2025-02-04 16:40:24
RGMQL/-2025-02-04 16:42:00
chevreulProcess/-2025-02-04 16:44:08
chevreulShiny/-2025-02-04 16:44:08
chevreulPlot/-2025-02-04 16:44:08
BiGGR/-2025-02-04 16:40:58
rsbml/-2025-02-04 16:42:02
netDx/-2025-02-04 16:44:50
ChIPXpress/-2025-02-04 16:44:08
STdeconvolve/-2025-02-04 16:45:17
paxtoolsr/-2025-02-04 16:44:55
supraHex/-2025-02-04 16:45:18
staRank/-2025-02-04 16:45:17
SigCheck/-2025-02-04 16:45:12
pareg/-2025-02-04 16:44:55
DEXSeq/-2025-02-04 16:44:16
R3CPET/-2025-02-04 16:41:56
CBEA/-2025-02-04 16:44:06
MAGeCKFlute/-2025-02-04 16:44:37
lapmix/-2025-02-04 16:44:35
iBMQ/-2025-02-04 16:41:27
PanViz/-2025-02-04 16:44:55
runibic/-2025-02-04 16:42:03
gespeR/-2025-02-04 16:44:26
nondetects/-2025-02-04 16:44:51
blacksheepr/-2025-02-04 16:44:04
EnhancedVolcano/-2025-02-04 16:44:19
dce/-2025-02-04 16:44:14
gsean/-2025-02-04 16:44:29
BADER/-2025-02-04 16:44:00
DESeq2/-2025-02-04 16:44:15
HiCool/-2025-02-04 16:44:31
scviR/-2025-02-04 16:45:10
VariantExperiment/-2025-02-04 16:45:24
GeneGA/-2025-02-04 16:44:25
NeuCA/-2025-02-04 16:44:50
DeProViR/-2025-02-04 16:44:15
chromstaR/-2025-02-04 16:44:08
groHMM/-2025-02-04 16:44:29
hummingbird/-2025-02-04 16:44:31
Rtreemix/-2025-02-04 16:45:07
oligo/-2025-02-04 16:44:51
MANOR/-2025-02-04 16:44:37
ArrayExpress/-2025-02-04 16:43:59
GLAD/-2025-02-04 16:44:27
ADaCGH2/-2025-02-04 16:43:56
MAGAR/-2025-02-04 16:44:37
ccmap/-2025-02-04 16:44:06
fastseg/-2025-02-04 16:44:21
crossmeta/-2025-02-04 16:44:12
PICS/-2025-02-04 16:44:57
frma/-2025-02-04 16:44:23
VanillaICE/-2025-02-04 16:45:24
cn.farms/-2025-02-04 16:44:10
OmicsMLRepoR/-2025-02-04 16:44:53
MinimumDistance/-2025-02-04 16:44:45
crlmm/-2025-02-04 16:44:12
TypeInfo/-2025-02-04 16:45:23
GeneGeneInteR/-2025-02-04 16:44:25
beachmat.tiledb/-2025-02-04 16:44:01
biobtreeR/-2025-02-04 16:42:28
CINdex/-2025-02-04 16:44:09
eiR/-2025-02-04 16:44:19
GeneticsPed/-2025-02-04 16:44:25
mimager/-2025-02-04 16:44:44
DrugVsDisease/-2025-02-04 16:44:18
pdInfoBuilder/-2025-02-04 16:44:55
puma/-2025-02-04 16:44:59
gpuMagic/-2025-02-04 16:44:28
ternarynet/-2025-02-04 16:45:19
muscle/-2025-02-04 16:44:49
Repitools/-2025-02-04 16:45:03
SCAN.UPC/-2025-02-04 16:45:08
ITALICS/-2025-02-04 16:44:35
AneuFinder/-2025-02-04 16:43:58
rtracklayer/-2025-02-04 16:45:07
genoCN/-2025-02-04 16:44:25
trigger/-2025-02-04 16:45:22
girafe/-2025-02-04 16:44:27
VAExprs/-2025-02-04 16:45:24
SICtools/-2025-02-04 16:45:12
ttgsea/-2025-02-04 16:45:23
GenProSeq/-2025-02-04 16:44:26
MAIT/-2025-02-04 16:44:37
netboost/-2025-02-04 16:44:50
CluMSID/-2025-02-04 16:44:09
DeepPINCS/-2025-02-04 16:44:14
slalom/-2025-02-04 16:45:13
ExCluster/-2025-02-04 16:44:21
MotifPeeker/-2025-02-04 16:44:47
IPO/-2025-02-04 16:44:34
RcwlPipelines/-2025-02-04 16:45:02
TENxIO/-2025-02-04 16:45:19
dupRadar/-2025-02-04 16:44:18
Rcwl/-2025-02-04 16:45:02
Rbwa/-2025-02-04 16:45:01
ReUseData/-2025-02-04 16:45:03
FLAMES/-2025-02-04 16:44:22
rifi/-2025-02-04 16:45:04
conumee/-2025-02-04 16:44:11
rifiComparative/-2025-02-04 16:45:04
MutationalPatterns/-2025-02-04 16:44:49
ccfindR/-2025-02-04 16:44:06
ADAPT/-2025-02-04 16:43:56
gmapR/-2025-02-04 16:44:28
TVTB/-2025-02-04 16:45:23
crisprBwa/-2025-02-04 16:44:12
NetPathMiner/-2025-02-04 16:44:50
OncoSimulR/-2025-02-04 16:43:17
hiReadsProcessor/-2025-02-04 16:44:31
annmap/-2025-02-04 16:43:58
CoverageView/-2025-02-04 16:44:12
MACSr/-2025-02-04 16:44:37
casper/-2025-02-04 16:44:06
sosta/-2025-02-04 16:45:14
biocmake/-2025-02-04 16:44:02
SPLINTER/-2025-02-04 16:45:16
FELLA/-2025-02-04 16:44:22
cfTools/-2025-02-04 16:44:07
CHRONOS/-2025-02-04 16:44:09
Pirat/-2025-02-04 16:44:57
MetaboDynamics/-2025-02-04 16:44:42
PICB/-2025-02-04 16:44:57
Rbec/-2025-02-04 16:45:01
profileScoreDist/-2025-02-04 16:44:58
DMRScan/-2025-02-04 16:44:18
scQTLtools/-2025-02-04 16:45:10
smoppix/-2025-02-04 16:45:14
flowPloidy/-2025-02-04 16:44:23
chromDraw/-2025-02-04 16:44:08
microSTASIS/-2025-02-04 16:44:44
SpatialExperimentIO/-2025-02-04 16:45:15
bcSeq/-2025-02-04 16:44:01
decompTumor2Sig/-2025-02-04 16:44:14
randRotation/-2025-02-04 16:45:01
plotGrouper/-2025-02-04 16:44:57
SNPediaR/-2025-02-04 16:45:14
SingleCellAlleleExperiment/-2025-02-04 16:45:13
qckitfastq/-2025-02-04 16:44:59
TransView/-2025-02-04 16:45:22
MetMashR/-2025-02-04 16:44:43
ggmsa/-2025-02-04 16:44:27
phyloseq/-2025-02-04 16:44:56
swfdr/-2025-02-04 16:45:18
onlineFDR/-2025-02-04 16:44:53
UMI4Cats/-2025-02-04 16:45:23
iPath/-2025-02-04 16:44:34
immApex/-2025-02-04 16:44:33
spatialFDA/-2025-02-04 16:45:15
waddR/-2025-02-04 16:45:25
PCAtools/-2025-02-04 16:44:55
ChemmineOB/-2025-02-04 16:44:08
globaltest/-2025-02-04 16:44:27
methodical/-2025-02-04 16:44:43
MsBackendRawFileReader/-2025-02-04 16:44:47
smoothclust/-2025-02-04 16:45:14
basecallQC/-2025-02-04 16:44:00
MsExperiment/-2025-02-04 16:44:47
FeatSeekR/-2025-02-04 16:44:21
scAnnotatR/-2025-02-04 16:45:08
ASURAT/-2025-02-04 16:44:00
lisaClust/-2025-02-04 16:44:36
HERON/-2025-02-04 16:44:30
granulator/-2025-02-04 16:44:28
schex/-2025-02-04 16:45:09
rmspc/-2025-02-04 16:45:05
singleCellTK/-2025-02-04 16:45:13
rawrr/-2025-02-04 16:45:01
celda/-2025-02-04 16:44:06
SpatialFeatureExperiment/-2025-02-04 16:45:15
rawDiag/-2025-02-04 16:45:01
GEOexplorer/-2025-02-04 16:44:26
MoleculeExperiment/-2025-02-04 16:44:46
spicyR/-2025-02-04 16:45:15
decontX/-2025-02-04 16:44:14
OrderedList/-2025-02-04 16:44:54
MetaboAnnotation/-2025-02-04 16:44:42
TDbasedUFEadv/-2025-02-04 16:45:19
orthos/-2025-02-04 16:44:54
twilight/-2025-02-04 16:39:40
scRNAseqApp/-2025-02-04 16:45:10
Statial/-2025-02-04 16:45:17
imcRtools/-2025-02-04 16:44:33
velociraptor/-2025-02-04 16:45:24
PIUMA/-2025-02-04 16:44:57
slingshot/-2025-02-04 16:45:13
bgx/-2025-02-04 16:44:02
xenLite/-2025-02-04 16:45:25
AlpsNMR/-2025-02-04 16:43:58
stJoincount/-2025-02-04 16:45:17
TileDBArray/-2025-02-04 16:45:20
SpotSweeper/-2025-02-04 16:45:16
megadepth/-2025-02-04 16:44:42
geva/-2025-02-04 16:44:26
CONFESS/-2025-02-04 16:44:11
simpleSeg/-2025-02-04 16:45:13
BioNAR/-2025-02-04 16:44:04
cytoviewer/-2025-02-04 16:44:13
HiContacts/-2025-02-04 16:44:31
cytomapper/-2025-02-04 16:44:13
HiCExperiment/-2025-02-04 16:44:31
miRSM/-2025-02-04 16:44:45
concordexR/-2025-02-04 16:44:11
Voyager/-2025-02-04 16:45:24
REMP/-2025-02-04 16:45:03
progeny/-2025-02-04 16:44:58
PAIRADISE/-2025-02-04 16:44:54
tanggle/-2025-02-04 16:45:19
DAPAR/-2025-02-04 16:44:14
ssize/-2025-02-04 16:45:16
RGSEA/-2025-02-04 16:45:04
SpectralTAD/-2025-02-04 16:45:15
ompBAM/-2025-02-04 16:44:53
MEDIPS/-2025-02-04 16:44:41
easylift/-2025-02-04 16:44:19
saseR/-2025-02-04 16:45:08
GenomicRanges/-2025-02-04 16:44:26
flowMatch/-2025-02-04 16:44:23
simplifyEnrichment/-2025-02-04 16:45:13
CDI/-2025-02-04 16:44:06
fcScan/-2025-02-04 16:44:21
netSmooth/-2025-02-04 16:44:50
HiCBricks/-2025-02-04 16:44:30
diffcoexp/-2025-02-04 16:44:16
metahdep/-2025-02-04 16:44:42
updateObject/-2025-02-04 16:45:23
CeTF/-2025-02-04 16:44:07
XVector/-2025-02-04 16:45:26
hypergraph/-2025-02-04 16:44:32
metapod/-2025-02-04 16:44:43
plasmut/-2025-02-04 16:44:57
ExperimentHub/-2025-02-04 16:44:21
ASpli/-2025-02-04 16:44:00
FamAgg/-2025-02-04 16:44:21
BUScorrect/-2025-02-04 16:44:05
MassArray/-2025-02-04 16:44:38
sparsenetgls/-2025-02-04 16:45:15
DeMAND/-2025-02-04 16:44:15
ExploreModelMatrix/-2025-02-04 16:44:21
r3Cseq/-2025-02-04 16:45:00
m6Aboost/-2025-02-04 16:44:37
microRNA/-2025-02-04 16:44:44
bioassayR/-2025-02-04 16:44:02
ClusterFoldSimilarity/-2025-02-04 16:44:09
makecdfenv/-2025-02-04 16:44:37
mzR/-2025-02-04 16:44:49
MSstatsLOBD/-2025-02-04 16:44:48
transite/-2025-02-04 16:45:21
OUTRIDER/-2025-02-04 16:44:54
wppi/-2025-02-04 16:45:25
ROC/-2025-02-04 16:45:05
spkTools/-2025-02-04 16:45:16
RCy3/-2025-02-04 16:45:02
OncoScore/-2025-02-04 16:44:53
idiogram/-2025-02-04 16:44:32
clusterSeq/-2025-02-04 16:44:09
nnNorm/-2025-02-04 16:44:50
HEM/-2025-02-04 16:44:30
plgem/-2025-02-04 16:44:57
MultiRNAflow/-2025-02-04 16:44:49
EBSeq/-2025-02-04 16:44:19
epistack/-2025-02-04 16:44:20
cogena/-2025-02-04 16:44:10
tidytof/-2025-02-04 16:45:20
iClusterPlus/-2025-02-04 16:44:32
gatom/-2025-02-04 16:44:24
pathwayPCA/-2025-02-04 16:44:55
gDRstyle/-2025-02-04 16:44:24
awst/-2025-02-04 16:44:00
npGSEA/-2025-02-04 16:44:51
genArise/-2025-02-04 16:44:24
biodbChebi/-2025-02-04 16:44:03
MiPP/-2025-02-04 16:44:45
tracktables/-2025-02-04 16:45:21
DOSE/-2025-02-04 16:44:18
epistasisGA/-2025-02-04 16:44:20
reconsi/-2025-02-04 16:45:02
gDR/-2025-02-04 16:44:24
BaalChIP/-2025-02-04 16:44:00
surfaltr/-2025-02-04 16:45:18
epigraHMM/-2025-02-04 16:44:20
airpart/-2025-02-04 16:43:58
HPAanalyze/-2025-02-04 16:44:31
signeR/-2025-02-04 16:45:12
cypress/-2025-02-04 16:44:13
mosbi/-2025-02-04 16:44:46
spikeLI/-2025-02-04 16:45:15
sparseMatrixStats/-2025-02-04 16:45:14
a4Reporting/-2025-02-04 16:43:55
CGHnormaliter/-2025-02-04 16:44:08
SC3/-2025-02-04 16:45:08
GenomicFeatures/-2025-02-04 16:44:26
BiocIO/-2025-02-04 16:44:02
doseR/-2025-02-04 16:44:18
Summix/-2025-02-04 16:45:18
flowMerge/-2025-02-04 16:44:23
CAFE/-2025-02-04 16:44:05
tximport/-2025-02-04 16:45:23
lfa/-2025-02-04 16:44:36
RBGL/-2025-02-04 16:45:01
cqn/-2025-02-04 16:44:12
transcriptR/-2025-02-04 16:45:21
ADImpute/-2025-02-04 16:43:56
a4Base/-2025-02-04 16:43:55
rGREAT/-2025-02-04 16:45:04
EBcoexpress/-2025-02-04 16:44:19
cytofQC/-2025-02-04 16:44:13
crisprBase/-2025-02-04 16:44:12
rmelting/-2025-02-04 16:45:05
BulkSignalR/-2025-02-04 16:44:05
metaCCA/-2025-02-04 16:44:42
NetSAM/-2025-02-04 16:44:50
Spectra/-2025-02-04 16:45:15
spatzie/-2025-02-04 16:45:15
ANF/-2025-02-04 16:43:58
MEB/-2025-02-04 16:44:41
M3Drop/-2025-02-04 16:44:37
RNAseqCovarImpute/-2025-02-04 16:45:05
maPredictDSC/-2025-02-04 16:44:37
debrowser/-2025-02-04 16:44:14
beadarray/-2025-02-04 16:44:01
Gviz/-2025-02-04 16:44:29
lute/-2025-02-04 16:44:37
csaw/-2025-02-04 16:44:12
diffHic/-2025-02-04 16:44:16
ENmix/-2025-02-04 16:44:19
idpr/-2025-02-04 16:44:32
MBttest/-2025-02-04 16:44:39
DelayedDataFrame/-2025-02-04 16:44:15
StructuralVariantAnnotation/-2025-02-04 16:45:17
sarks/-2025-02-04 16:45:08
kebabs/-2025-02-04 16:44:35
AnVIL/-2025-02-04 16:43:59
ViSEAGO/-2025-02-04 16:45:24
cisPath/-2025-02-04 16:44:09
annotatr/-2025-02-04 16:43:59
GDCRNATools/-2025-02-04 16:44:24
AnnotationForge/-2025-02-04 16:43:59
Pviz/-2025-02-04 16:44:59
MDTS/-2025-02-04 16:44:39
peco/-2025-02-04 16:44:56
scShapes/-2025-02-04 16:45:10
BridgeDbR/-2025-02-04 16:44:05
ClassifyR/-2025-02-04 16:44:09
CaDrA/-2025-02-04 16:44:05
faers/-2025-02-04 16:44:21
recount/-2025-02-04 16:45:02
AffiXcan/-2025-02-04 16:43:56
iSEE/-2025-02-04 16:44:34
deltaCaptureC/-2025-02-04 16:44:15
crisprVerse/-2025-02-04 16:44:12
ExperimentSubset/-2025-02-04 16:44:21
STRINGdb/-2025-02-04 16:45:17
attract/-2025-02-04 16:44:00
DEqMS/-2025-02-04 16:44:15
BioMVCClass/-2025-02-04 16:44:04
CNTools/-2025-02-04 16:44:10
zellkonverter/-2025-02-04 16:45:26
OutSplice/-2025-02-04 16:44:54
GenomAutomorphism/-2025-02-04 16:44:25
destiny/-2025-02-04 16:44:15
CSSQ/-2025-02-04 16:44:12
fCCAC/-2025-02-04 16:44:21
TPP2D/-2025-02-04 16:45:21
ncRNAtools/-2025-02-04 16:44:50
marr/-2025-02-04 16:44:38
gscreend/-2025-02-04 16:44:29
iCNV/-2025-02-04 16:44:32
DifferentialRegulation/-2025-02-04 16:44:16
phantasusLite/-2025-02-04 16:44:56
survtype/-2025-02-04 16:45:18
AnnotationFilter/-2025-02-04 16:43:59
mslp/-2025-02-04 16:44:47
plyranges/-2025-02-04 16:44:57
GENIE3/-2025-02-04 16:44:25
RITAN/-2025-02-04 16:45:04
TreeSummarizedExperiment/-2025-02-04 16:45:22
RegionalST/-2025-02-04 16:45:03
VaSP/-2025-02-04 16:45:24
smartid/-2025-02-04 16:45:14
partCNV/-2025-02-04 16:44:55
RESOLVE/-2025-02-04 16:45:03
timeOmics/-2025-02-04 16:45:20
tidyomics/-2025-02-04 16:45:20
igvShiny/-2025-02-04 16:44:33
pgca/-2025-02-04 16:44:56
Harshlight/-2025-02-04 16:44:30
RTCGA/-2025-02-04 16:45:06
cosmiq/-2025-02-04 16:44:12
SCnorm/-2025-02-04 16:45:09
nucleR/-2025-02-04 16:44:51
flowCyBar/-2025-02-04 16:44:22
zinbwave/-2025-02-04 16:45:26
POWSC/-2025-02-04 16:44:58
sigFeature/-2025-02-04 16:45:12
fmcsR/-2025-02-04 16:44:23
metabolomicsWorkbenchR/-2025-02-04 16:44:42
methrix/-2025-02-04 16:44:43
ggkegg/-2025-02-04 16:44:27
genefu/-2025-02-04 16:44:25
geneRecommender/-2025-02-04 16:44:25
BEAT/-2025-02-04 16:44:01
SANTA/-2025-02-04 16:45:07
mixOmics/-2025-02-04 16:44:45
coRdon/-2025-02-04 16:44:11
mia/-2025-02-04 16:44:44
SparseArray/-2025-02-04 16:45:14
AGDEX/-2025-02-04 16:43:57
MetCirc/-2025-02-04 16:44:43
MVCClass/-2025-02-04 16:44:49
BiocBaseUtils/-2025-02-04 16:44:02
Modstrings/-2025-02-04 16:44:46
BicARE/-2025-02-04 16:44:02
DEWSeq/-2025-02-04 16:44:15
RCX/-2025-02-04 16:45:02
pcaMethods/-2025-02-04 16:44:55
spqn/-2025-02-04 16:45:16
BiocGenerics/-2025-02-04 16:44:02
NormqPCR/-2025-02-04 16:44:51
PAST/-2025-02-04 16:44:55
DAMEfinder/-2025-02-04 16:44:14
GenomicDistributions/-2025-02-04 16:44:26
knowYourCG/-2025-02-04 16:44:35
deepSNV/-2025-02-04 16:44:14
ribor/-2025-02-04 16:45:04
ShortRead/-2025-02-04 16:45:12
TADCompare/-2025-02-04 16:45:19
seqcombo/-2025-02-04 16:45:11
marray/-2025-02-04 16:44:38
PROcess/-2025-02-04 16:44:58
ATACseqTFEA/-2025-02-04 16:44:00
SVMDO/-2025-02-04 16:45:18
RVS/-2025-02-04 16:45:07
erccdashboard/-2025-02-04 16:44:20
cfdnakit/-2025-02-04 16:44:07
GSEABenchmarkeR/-2025-02-04 16:44:29
RCASPAR/-2025-02-04 16:45:01
diggit/-2025-02-04 16:44:16
basilisk/-2025-02-04 16:44:01
ABSSeq/-2025-02-04 16:43:55
ORFik/-2025-02-04 16:44:54
CNORdt/-2025-02-04 16:44:10
motifStack/-2025-02-04 16:44:47
uSORT/-2025-02-04 16:45:23
LymphoSeq/-2025-02-04 16:44:37
dominoSignal/-2025-02-04 16:44:18
ATACseqQC/-2025-02-04 16:44:00
DiffBind/-2025-02-04 16:44:16
parglms/-2025-02-04 16:44:55
wiggleplotr/-2025-02-04 16:45:25
iPAC/-2025-02-04 16:44:34
biodbUniprot/-2025-02-04 16:44:03
sscu/-2025-02-04 16:45:16
breakpointR/-2025-02-04 16:44:05
CBNplot/-2025-02-04 16:44:06
POMA/-2025-02-04 16:44:58
mitch/-2025-02-04 16:44:45
MoonlightR/-2025-02-04 16:44:46
artMS/-2025-02-04 16:43:59
MMDiff2/-2025-02-04 16:44:45
oncomix/-2025-02-04 16:44:53
gmoviz/-2025-02-04 16:44:28
LACE/-2025-02-04 16:44:35
MBECS/-2025-02-04 16:44:38
biocroxytest/-2025-02-04 16:44:02
NanoTube/-2025-02-04 16:44:50
SIAMCAT/-2025-02-04 16:45:12
cytolib/-2025-02-04 16:44:13
CircSeqAlignTk/-2025-02-04 16:44:09
MsCoreUtils/-2025-02-04 16:44:47
coMethDMR/-2025-02-04 16:44:11
timescape/-2025-02-04 16:45:20
Nebulosa/-2025-02-04 16:44:50
AnVILBilling/-2025-02-04 16:43:59
enrichplot/-2025-02-04 16:44:20
DelayedRandomArray/-2025-02-04 16:44:15
Herper/-2025-02-04 16:44:30
ctsGE/-2025-02-04 16:44:13
GSReg/-2025-02-04 16:44:29
Trendy/-2025-02-04 16:45:22
fedup/-2025-02-04 16:44:22
seqCAT/-2025-02-04 16:45:11
SigsPack/-2025-02-04 16:45:12
MetaCyto/-2025-02-04 16:44:42
FEAST/-2025-02-04 16:44:21
LedPred/-2025-02-04 16:44:36
affyPLM/-2025-02-04 16:43:57
rBiopaxParser/-2025-02-04 16:45:01
pwalign/-2025-02-04 16:44:59
flagme/-2025-02-04 16:44:22
RNASeqPower/-2025-02-04 16:45:05
EDASeq/-2025-02-04 16:44:19
sizepower/-2025-02-04 16:45:13
ChIPexoQual/-2025-02-04 16:44:08
alabaster.string/-2025-02-04 16:43:58
cycle/-2025-02-04 16:44:13
GSEAlm/-2025-02-04 16:44:29
ScaledMatrix/-2025-02-04 16:45:08
DeMixT/-2025-02-04 16:44:15
IFAA/-2025-02-04 16:44:32
rhdf5filters/-2025-02-04 16:45:04
MetaNeighbor/-2025-02-04 16:44:42
SPONGE/-2025-02-04 16:45:16
tenXplore/-2025-02-04 16:45:19
pram/-2025-02-04 16:44:58
altcdfenvs/-2025-02-04 16:43:58
VegaMC/-2025-02-04 16:45:24
HilbertCurve/-2025-02-04 16:44:31
SharedObject/-2025-02-04 16:45:12
batchelor/-2025-02-04 16:44:01
MultiDataSet/-2025-02-04 16:44:48
RJMCMCNucleosomes/-2025-02-04 16:45:04
ndexr/-2025-02-04 16:44:50
ResidualMatrix/-2025-02-04 16:45:03
multistateQTL/-2025-02-04 16:44:49
switchde/-2025-02-04 16:45:18
ontoProc/-2025-02-04 16:44:53
segmenter/-2025-02-04 16:45:11
GA4GHshiny/-2025-02-04 16:44:23
IsoCorrectoR/-2025-02-04 16:44:34
ComPrAn/-2025-02-04 16:44:11
ggmanh/-2025-02-04 16:44:27
flowMeans/-2025-02-04 16:44:23
rBLAST/-2025-02-04 16:45:01
Pedixplorer/-2025-02-04 16:44:56
trackViewer/-2025-02-04 16:45:21
funtooNorm/-2025-02-04 16:44:23
genefilter/-2025-02-04 16:44:25
multtest/-2025-02-04 16:44:49
MicrobiotaProcess/-2025-02-04 16:44:44
arrayMvout/-2025-02-04 16:43:59
alabaster.files/-2025-02-04 16:43:58
Clomial/-2025-02-04 16:44:09
ROSeq/-2025-02-04 16:45:06
SARC/-2025-02-04 16:45:08
sva/-2025-02-04 16:45:18
pmm/-2025-02-04 16:44:57
BLMA/-2025-02-04 16:44:04
SemDist/-2025-02-04 16:45:11
biodbHmdb/-2025-02-04 16:44:03
iCOBRA/-2025-02-04 16:44:32
DELocal/-2025-02-04 16:44:15
ldblock/-2025-02-04 16:44:35
SIM/-2025-02-04 16:45:12
methylGSA/-2025-02-04 16:44:43
similaRpeak/-2025-02-04 16:45:13
motifmatchr/-2025-02-04 16:44:46
cmapR/-2025-02-04 16:44:10
cbaf/-2025-02-04 16:44:06
IsoformSwitchAnalyzeR/-2025-02-04 16:44:35
diffuStats/-2025-02-04 16:44:16
synapsis/-2025-02-04 16:45:18
methylKit/-2025-02-04 16:44:43
siggenes/-2025-02-04 16:45:12
methylPipe/-2025-02-04 16:44:43
ivygapSE/-2025-02-04 16:44:35
DECIPHER/-2025-02-04 16:44:14
dcanr/-2025-02-04 16:44:14
planet/-2025-02-04 16:44:57
BiocHubsShiny/-2025-02-04 16:44:02
tidySummarizedExperiment/-2025-02-04 16:45:20
HelloRanges/-2025-02-04 16:44:30
qusage/-2025-02-04 16:45:00
RiboProfiling/-2025-02-04 16:45:04
RUVSeq/-2025-02-04 16:45:07
mirTarRnaSeq/-2025-02-04 16:44:45
hierinf/-2025-02-04 16:44:31
DFP/-2025-02-04 16:44:16
MEAL/-2025-02-04 16:44:39
transcriptogramer/-2025-02-04 16:45:21
BUSseq/-2025-02-04 16:44:05
ballgown/-2025-02-04 16:44:00
Omixer/-2025-02-04 16:44:53
mosdef/-2025-02-04 16:44:46
uncoverappLib/-2025-02-04 16:45:23
pRolocGUI/-2025-02-04 16:44:59
DepecheR/-2025-02-04 16:44:15
alabaster.vcf/-2025-02-04 16:43:58
GOTHiC/-2025-02-04 16:44:28
cfDNAPro/-2025-02-04 16:44:07
h5vc/-2025-02-04 16:44:30
GrafGen/-2025-02-04 16:44:28
vbmp/-2025-02-04 16:45:24
HiLDA/-2025-02-04 16:44:31
nethet/-2025-02-04 16:44:50
affycomp/-2025-02-04 16:43:56
demuxmix/-2025-02-04 16:44:15
scone/-2025-02-04 16:45:09
keggorthology/-2025-02-04 16:44:35
sSNAPPY/-2025-02-04 16:45:17
MatrixRider/-2025-02-04 16:44:38
biosigner/-2025-02-04 16:44:04
PANR/-2025-02-04 16:44:55
phosphonormalizer/-2025-02-04 16:44:56
MICSQTL/-2025-02-04 16:44:44
SingleMoleculeFootprinting/-2025-02-04 16:45:13
wpm/-2025-02-04 16:45:25
miaSim/-2025-02-04 16:44:44
clippda/-2025-02-04 16:44:09
epidecodeR/-2025-02-04 16:44:20
PathNet/-2025-02-04 16:44:55
SeqSQC/-2025-02-04 16:45:11
oppar/-2025-02-04 16:44:53
affyContam/-2025-02-04 16:43:56
cyanoFilter/-2025-02-04 16:44:13
HTSFilter/-2025-02-04 16:44:31
LBE/-2025-02-04 16:44:35
SamSPECTRAL/-2025-02-04 16:45:07
iSEEtree/-2025-02-04 16:44:34
GenomicPlot/-2025-02-04 16:44:26
convert/-2025-02-04 16:44:11
HELP/-2025-02-04 16:44:30
scry/-2025-02-04 16:45:10
survClust/-2025-02-04 16:45:18
tidySingleCellExperiment/-2025-02-04 16:45:20
gage/-2025-02-04 16:44:24
DaMiRseq/-2025-02-04 16:44:14
SurfR/-2025-02-04 16:45:18
normr/-2025-02-04 16:44:51
CGHregions/-2025-02-04 16:44:08
SubCellBarCode/-2025-02-04 16:45:17
BUS/-2025-02-04 16:44:05
GNOSIS/-2025-02-04 16:44:28
apComplex/-2025-02-04 16:43:59
planttfhunter/-2025-02-04 16:44:57
metagenomeSeq/-2025-02-04 16:44:42
RiboCrypt/-2025-02-04 16:45:04
BiFET/-2025-02-04 16:44:02
sSeq/-2025-02-04 16:45:16
rexposome/-2025-02-04 16:45:03
SNPRelate/-2025-02-04 16:45:14
mfa/-2025-02-04 16:44:44
zFPKM/-2025-02-04 16:45:26
DEsingle/-2025-02-04 16:44:15
MAPFX/-2025-02-04 16:44:37
tricycle/-2025-02-04 16:45:22
compcodeR/-2025-02-04 16:44:11
bigmelon/-2025-02-04 16:44:02
Spaniel/-2025-02-04 16:45:14
scCB2/-2025-02-04 16:45:08
infinityFlow/-2025-02-04 16:44:33
bambu/-2025-02-04 16:44:00
rTRMui/-2025-02-04 16:45:07
protGear/-2025-02-04 16:44:59
GloScope/-2025-02-04 16:44:27
webbioc/-2025-02-04 16:45:25
M3C/-2025-02-04 16:44:37
spillR/-2025-02-04 16:45:16
CTdata/-2025-02-04 16:44:12
PWMEnrich/-2025-02-04 16:44:59
EnrichDO/-2025-02-04 16:44:19
pipeComp/-2025-02-04 16:44:57
chipenrich/-2025-02-04 16:44:08
ADAM/-2025-02-04 16:43:56
cellscape/-2025-02-04 16:44:07
flowCore/-2025-02-04 16:44:22
HIREewas/-2025-02-04 16:44:31
cleanUpdTSeq/-2025-02-04 16:44:09
combi/-2025-02-04 16:44:10
RImmPort/-2025-02-04 16:45:04
CFAssay/-2025-02-04 16:44:07
scClassify/-2025-02-04 16:45:08
geneXtendeR/-2025-02-04 16:44:25
immunoClust/-2025-02-04 16:44:33
cleaver/-2025-02-04 16:44:09
DiscoRhythm/-2025-02-04 16:44:17
miRcomp/-2025-02-04 16:44:45
RNAmodR.RiboMethSeq/-2025-02-04 16:45:05
msgbsR/-2025-02-04 16:44:47
xCell2/-2025-02-04 16:45:25
cellity/-2025-02-04 16:44:07
GSCA/-2025-02-04 16:44:29
cola/-2025-02-04 16:44:10
spaSim/-2025-02-04 16:45:15
GeneRegionScan/-2025-02-04 16:44:25
proBAMr/-2025-02-04 16:44:58
BRAIN/-2025-02-04 16:44:05
densvis/-2025-02-04 16:44:15
bsseq/-2025-02-04 16:44:05
escheR/-2025-02-04 16:44:20
HDTD/-2025-02-04 16:44:30
R453Plus1Toolbox/-2025-02-04 16:45:00
CytoGLMM/-2025-02-04 16:44:13
paircompviz/-2025-02-04 16:44:54
RepViz/-2025-02-04 16:45:03
FGNet/-2025-02-04 16:44:22
switchBox/-2025-02-04 16:45:18
CellNOptR/-2025-02-04 16:44:07
nuCpos/-2025-02-04 16:44:51
SpliceWiz/-2025-02-04 16:45:16
omXplore/-2025-02-04 16:44:53
GWASTools/-2025-02-04 16:44:29
DepInfeR/-2025-02-04 16:44:15
scruff/-2025-02-04 16:45:10
TargetSearch/-2025-02-04 16:45:19
maCorrPlot/-2025-02-04 16:44:37
txdbmaker/-2025-02-04 16:45:23
alabaster.mae/-2025-02-04 16:43:58
xmapbridge/-2025-02-04 16:45:25
MethylMix/-2025-02-04 16:44:43
methimpute/-2025-02-04 16:44:43
epialleleR/-2025-02-04 16:44:20
geneplotter/-2025-02-04 16:44:25
OPWeight/-2025-02-04 16:44:54
Cormotif/-2025-02-04 16:44:11
motifTestR/-2025-02-04 16:44:47
GenomicInteractionNodes/-2025-02-04 16:44:26
EnrichmentBrowser/-2025-02-04 16:44:19
immunogenViewer/-2025-02-04 16:44:33
Cepo/-2025-02-04 16:44:07
epivizrChart/-2025-02-04 16:44:20
epivizr/-2025-02-04 16:44:20
scrapper/-2025-02-04 16:45:10
SpaceMarkers/-2025-02-04 16:45:14
BioNet/-2025-02-04 16:44:04
gwasurvivr/-2025-02-04 16:44:29
autonomics/-2025-02-04 16:44:00
KBoost/-2025-02-04 16:44:35
scFeatures/-2025-02-04 16:45:09
RankProd/-2025-02-04 16:45:01
CNAnorm/-2025-02-04 16:44:10
findIPs/-2025-02-04 16:44:22
flowStats/-2025-02-04 16:44:23
PrInCE/-2025-02-04 16:44:58
MBCB/-2025-02-04 16:44:38
ideal/-2025-02-04 16:44:32
fastLiquidAssociation/-2025-02-04 16:44:21
mCSEA/-2025-02-04 16:44:39
GEWIST/-2025-02-04 16:44:26
Icens/-2025-02-04 16:44:32
MPFE/-2025-02-04 16:44:47
iterativeBMAsurv/-2025-02-04 16:44:35
RNAAgeCalc/-2025-02-04 16:45:05
MethylSeekR/-2025-02-04 16:44:43
PDATK/-2025-02-04 16:44:55
MSPrep/-2025-02-04 16:44:48
ChemmineR/-2025-02-04 16:44:08
SCFA/-2025-02-04 16:45:09
SynExtend/-2025-02-04 16:45:18
BiocWorkflowTools/-2025-02-04 16:44:03
NoRCE/-2025-02-04 16:44:51
AnVILGCP/-2025-02-04 16:43:59
pepStat/-2025-02-04 16:44:56
signatureSearch/-2025-02-04 16:45:12
msqrob2/-2025-02-04 16:44:48
qpcrNorm/-2025-02-04 16:45:00
flowCHIC/-2025-02-04 16:44:22
GSEAmining/-2025-02-04 16:44:29
flowClean/-2025-02-04 16:44:22
Basic4Cseq/-2025-02-04 16:44:01
scDotPlot/-2025-02-04 16:45:09
ORFhunteR/-2025-02-04 16:44:54
scDDboost/-2025-02-04 16:45:09
iSEEu/-2025-02-04 16:44:34
HIBAG/-2025-02-04 16:44:30
MBQN/-2025-02-04 16:44:39
RCyjs/-2025-02-04 16:45:02
GeneTonic/-2025-02-04 16:44:25
LOBSTAHS/-2025-02-04 16:44:36
AIMS/-2025-02-04 16:43:58
SpatialDecon/-2025-02-04 16:45:15
BioGA/-2025-02-04 16:44:03
HiCDCPlus/-2025-02-04 16:44:30
SMITE/-2025-02-04 16:45:14
bamsignals/-2025-02-04 16:44:00
CAEN/-2025-02-04 16:44:05
NPARC/-2025-02-04 16:44:51
dagLogo/-2025-02-04 16:44:14
midasHLA/-2025-02-04 16:44:44
esetVis/-2025-02-04 16:44:21
CCPROMISE/-2025-02-04 16:44:06
intansv/-2025-02-04 16:44:33
epiNEM/-2025-02-04 16:44:20
SUITOR/-2025-02-04 16:45:17
minet/-2025-02-04 16:44:44
appreci8R/-2025-02-04 16:43:59
tpSVG/-2025-02-04 16:45:21
Uniquorn/-2025-02-04 16:45:23
FitHiC/-2025-02-04 16:44:22
rpx/-2025-02-04 16:45:06
logicFS/-2025-02-04 16:44:36
semisup/-2025-02-04 16:45:11
genomicInstability/-2025-02-04 16:44:26
txcutr/-2025-02-04 16:45:23
missRows/-2025-02-04 16:44:45
InteractiveComplexHeatmap/-2025-02-04 16:44:33
ReactomeGSA/-2025-02-04 16:45:02
SCBN/-2025-02-04 16:45:08
FISHalyseR/-2025-02-04 16:44:22
SDAMS/-2025-02-04 16:45:10
SimFFPE/-2025-02-04 16:45:13
ceRNAnetsim/-2025-02-04 16:44:07
Streamer/-2025-02-04 16:45:17
gaga/-2025-02-04 16:44:23
VDJdive/-2025-02-04 16:45:24
seqArchR/-2025-02-04 16:45:11
panelcn.mops/-2025-02-04 16:44:55
Moonlight2R/-2025-02-04 16:44:46
selectKSigs/-2025-02-04 16:45:11
BiocVersion/-2025-02-04 16:44:03
gemini/-2025-02-04 16:44:24
GENESIS/-2025-02-04 16:44:25
GeneSelectMMD/-2025-02-04 16:44:25
atena/-2025-02-04 16:44:00
rRDP/-2025-02-04 16:45:06
zenith/-2025-02-04 16:45:26
qsea/-2025-02-04 16:45:00
iBBiG/-2025-02-04 16:44:32
EGAD/-2025-02-04 16:44:19
oppti/-2025-02-04 16:44:54
GAprediction/-2025-02-04 16:44:24
alabaster.schemas/-2025-02-04 16:43:58
RNAmodR.ML/-2025-02-04 16:45:05
scoreInvHap/-2025-02-04 16:45:09
PRONE/-2025-02-04 16:44:59
Damsel/-2025-02-04 16:44:14
GWAS.BAYES/-2025-02-04 16:44:29
hermes/-2025-02-04 16:44:30
MultiMed/-2025-02-04 16:44:49
MSstatsConvert/-2025-02-04 16:44:48
Qtlizer/-2025-02-04 16:45:00
comapr/-2025-02-04 16:44:10
ChromSCape/-2025-02-04 16:44:08
BREW3R.r/-2025-02-04 16:44:05
BumpyMatrix/-2025-02-04 16:44:05
ReducedExperiment/-2025-02-04 16:45:03
MSnbase/-2025-02-04 16:44:48
beer/-2025-02-04 16:44:01
easyRNASeq/-2025-02-04 16:44:19
chipseq/-2025-02-04 16:44:08
ecolitk/-2025-02-04 16:44:19
DMCFB/-2025-02-04 16:44:17
ibh/-2025-02-04 16:44:32
StabMap/-2025-02-04 16:45:17
KEGGREST/-2025-02-04 16:44:35
flowGraph/-2025-02-04 16:44:23
variancePartition/-2025-02-04 16:45:24
CODEX/-2025-02-04 16:44:10
cytoKernel/-2025-02-04 16:44:13
GlobalAncova/-2025-02-04 16:44:27
DEFormats/-2025-02-04 16:44:14
survcomp/-2025-02-04 16:45:18
MatrixQCvis/-2025-02-04 16:44:38
Rdisop/-2025-02-04 16:45:02
consensusSeekeR/-2025-02-04 16:44:11
microbiomeExplorer/-2025-02-04 16:44:44
flowBin/-2025-02-04 16:44:22
hpar/-2025-02-04 16:44:31
TrajectoryGeometry/-2025-02-04 16:45:21
retrofit/-2025-02-04 16:45:03
topGO/-2025-02-04 16:45:21
mBPCR/-2025-02-04 16:44:38
SpatialExperiment/-2025-02-04 16:45:15
GOSemSim/-2025-02-04 16:44:28
GSALightning/-2025-02-04 16:44:29
BioNERO/-2025-02-04 16:44:04
NanoMethViz/-2025-02-04 16:44:49
metaMS/-2025-02-04 16:44:42
vtpnet/-2025-02-04 16:45:25
LRcell/-2025-02-04 16:44:37
cn.mops/-2025-02-04 16:44:10
RAIDS/-2025-02-04 16:45:00
SeqVarTools/-2025-02-04 16:45:11
QSutils/-2025-02-04 16:45:00
tRNAdbImport/-2025-02-04 16:45:22
scPCA/-2025-02-04 16:45:10
ISAnalytics/-2025-02-04 16:44:34
goseq/-2025-02-04 16:44:28
CNVPanelizer/-2025-02-04 16:44:10
tweeDEseq/-2025-02-04 16:45:23
BiSeq/-2025-02-04 16:44:04
CytoML/-2025-02-04 16:44:13
annotate/-2025-02-04 16:43:59
transomics2cytoscape/-2025-02-04 16:45:22
QTLExperiment/-2025-02-04 16:45:00
SpeCond/-2025-02-04 16:45:15
scp/-2025-02-04 16:45:10
PLSDAbatch/-2025-02-04 16:44:57
BgeeCall/-2025-02-04 16:44:01
bayNorm/-2025-02-04 16:44:01
sangeranalyseR/-2025-02-04 16:45:07
atSNP/-2025-02-04 16:44:00
cnvGSA/-2025-02-04 16:44:10
limmaGUI/-2025-02-04 16:44:36
randPack/-2025-02-04 16:45:01
AnnotationHubData/-2025-02-04 16:43:59
ASICS/-2025-02-04 16:44:00
scDblFinder/-2025-02-04 16:45:08
mdp/-2025-02-04 16:44:39
lpsymphony/-2025-02-04 16:44:36
CAGEr/-2025-02-04 16:44:06
PhenStat/-2025-02-04 16:44:56
standR/-2025-02-04 16:45:17
tadar/-2025-02-04 16:45:19
sRACIPE/-2025-02-04 16:45:16
SplicingFactory/-2025-02-04 16:45:16
snpStats/-2025-02-04 16:45:14
stageR/-2025-02-04 16:45:17
ptairMS/-2025-02-04 16:44:59
biodbNcbi/-2025-02-04 16:44:03
ginmappeR/-2025-02-04 16:44:27
VariantAnnotation/-2025-02-04 16:45:24
affxparser/-2025-02-04 16:43:56
CoSIA/-2025-02-04 16:44:11
rprimer/-2025-02-04 16:45:06
KEGGlincs/-2025-02-04 16:44:35
antiProfiles/-2025-02-04 16:43:59
pathlinkR/-2025-02-04 16:44:55
TCC/-2025-02-04 16:45:19
RSVSim/-2025-02-04 16:45:06
GUIDEseq/-2025-02-04 16:44:29
APL/-2025-02-04 16:43:59
octad/-2025-02-04 16:44:51
canceR/-2025-02-04 16:44:06
methylMnM/-2025-02-04 16:44:43
zitools/-2025-02-04 16:45:26
hierGWAS/-2025-02-04 16:44:31
scoup/-2025-02-04 16:45:10
gep2pep/-2025-02-04 16:44:26
hyperdraw/-2025-02-04 16:44:32
qsmooth/-2025-02-04 16:45:00
biobroom/-2025-02-04 16:44:02
IRanges/-2025-02-04 16:44:34
cellbaseR/-2025-02-04 16:44:07
BUSpaRse/-2025-02-04 16:44:05
MIRA/-2025-02-04 16:44:45
coGPS/-2025-02-04 16:44:10
CAMERA/-2025-02-04 16:44:06
Rtpca/-2025-02-04 16:45:07
vissE/-2025-02-04 16:45:24
scFeatureFilter/-2025-02-04 16:45:09
MethylAid/-2025-02-04 16:44:43
apeglm/-2025-02-04 16:43:59
MBASED/-2025-02-04 16:44:38
GeneMeta/-2025-02-04 16:44:25
BiocPkgTools/-2025-02-04 16:44:02
GeneOverlap/-2025-02-04 16:44:25
seqsetvis/-2025-02-04 16:45:11
sketchR/-2025-02-04 16:45:13
packFinder/-2025-02-04 16:44:54
demuxSNP/-2025-02-04 16:44:15
RIVER/-2025-02-04 16:45:04
rcellminer/-2025-02-04 16:45:01
RUVnormalize/-2025-02-04 16:45:07
ASEB/-2025-02-04 16:43:59
MassSpecWavelet/-2025-02-04 16:44:38
corral/-2025-02-04 16:44:11
plier/-2025-02-04 16:44:57
clusterExperiment/-2025-02-04 16:44:09
CoCiteStats/-2025-02-04 16:44:10
GOpro/-2025-02-04 16:44:28
maser/-2025-02-04 16:44:38
synlet/-2025-02-04 16:45:18
iNETgrate/-2025-02-04 16:44:33
QUBIC/-2025-02-04 16:45:00
omicplotR/-2025-02-04 16:44:53
SELEX/-2025-02-04 16:45:11
rhdf5client/-2025-02-04 16:45:04
safe/-2025-02-04 16:45:07
anota/-2025-02-04 16:43:59
topdownr/-2025-02-04 16:45:21
BayesSpace/-2025-02-04 16:44:01
XNAString/-2025-02-04 16:45:26
RMassBank/-2025-02-04 16:45:05
beachmat/-2025-02-04 16:44:01
geneAttribution/-2025-02-04 16:44:24
biotmle/-2025-02-04 16:44:04
tLOH/-2025-02-04 16:45:20
assorthead/-2025-02-04 16:44:00
BufferedMatrixMethods/-2025-02-04 16:44:05
padma/-2025-02-04 16:44:54
ModCon/-2025-02-04 16:44:46
AssessORF/-2025-02-04 16:44:00
sangerseqR/-2025-02-04 16:45:07
iSEEpathways/-2025-02-04 16:44:34
cydar/-2025-02-04 16:44:13
GenomicTuples/-2025-02-04 16:44:26
gcapc/-2025-02-04 16:44:24
periodicDNA/-2025-02-04 16:44:56
LRBaseDbi/-2025-02-04 16:44:37
calm/-2025-02-04 16:44:06
multiMiR/-2025-02-04 16:44:49
ASAFE/-2025-02-04 16:43:59
BUMHMM/-2025-02-04 16:44:05
BadRegionFinder/-2025-02-04 16:44:00
iASeq/-2025-02-04 16:44:32
pathview/-2025-02-04 16:44:55
erma/-2025-02-04 16:44:20
topconfects/-2025-02-04 16:45:21
iasva/-2025-02-04 16:44:32
SMAD/-2025-02-04 16:45:14
clipper/-2025-02-04 16:44:09
derfinder/-2025-02-04 16:44:15
ReadqPCR/-2025-02-04 16:45:02
CEMiTool/-2025-02-04 16:44:07
geneplast/-2025-02-04 16:44:25
CATALYST/-2025-02-04 16:44:06
DelayedMatrixStats/-2025-02-04 16:44:15
SeqArray/-2025-02-04 16:45:11
CellBench/-2025-02-04 16:44:07
cTRAP/-2025-02-04 16:44:13
geneRxCluster/-2025-02-04 16:44:25
Rbowtie2/-2025-02-04 16:45:01
kissDE/-2025-02-04 16:44:35
GenomicAlignments/-2025-02-04 16:44:26
escape/-2025-02-04 16:44:20
tradeSeq/-2025-02-04 16:45:21
CAGEfightR/-2025-02-04 16:44:05
flowViz/-2025-02-04 16:44:23
HoloFoodR/-2025-02-04 16:44:31
MsBackendMassbank/-2025-02-04 16:44:47
INTACT/-2025-02-04 16:44:33
MOFA2/-2025-02-04 16:44:46
squallms/-2025-02-04 16:45:16
proteinProfiles/-2025-02-04 16:44:59
consensusOV/-2025-02-04 16:44:11
hca/-2025-02-04 16:44:30
MADSEQ/-2025-02-04 16:44:37
SingleCellExperiment/-2025-02-04 16:45:13
RolDE/-2025-02-04 16:45:05
drawProteins/-2025-02-04 16:44:18
seahtrue/-2025-02-04 16:45:11
EMDomics/-2025-02-04 16:44:19
Rcpi/-2025-02-04 16:45:02
ISoLDE/-2025-02-04 16:44:35
roastgsa/-2025-02-04 16:45:05
pRoloc/-2025-02-04 16:44:59
branchpointer/-2025-02-04 16:44:05
AnVILWorkflow/-2025-02-04 16:43:59
adductomicsR/-2025-02-04 16:43:56
LinkHD/-2025-02-04 16:44:36
splots/-2025-02-04 16:45:16
Glimma/-2025-02-04 16:44:27
icetea/-2025-02-04 16:44:32
benchdamic/-2025-02-04 16:44:01
ELMER/-2025-02-04 16:44:19
REBET/-2025-02-04 16:45:02
blima/-2025-02-04 16:44:04
AnVILAz/-2025-02-04 16:43:59
massiR/-2025-02-04 16:44:38
CRISPRball/-2025-02-04 16:44:12
CARNIVAL/-2025-02-04 16:44:06
tigre/-2025-02-04 16:45:20
CNViz/-2025-02-04 16:44:10
GNET2/-2025-02-04 16:44:28
enrichViewNet/-2025-02-04 16:44:20
flowClust/-2025-02-04 16:44:22
PepsNMR/-2025-02-04 16:44:56
GeDi/-2025-02-04 16:44:24
MantelCorr/-2025-02-04 16:44:37
GDSArray/-2025-02-04 16:44:24
spatialSimGP/-2025-02-04 16:45:15
plotgardener/-2025-02-04 16:44:57
affy/-2025-02-04 16:43:56
iSEEde/-2025-02-04 16:44:34
dar/-2025-02-04 16:44:14
extraChIPs/-2025-02-04 16:44:21
Biobase/-2025-02-04 16:44:02
pathifier/-2025-02-04 16:44:55
moanin/-2025-02-04 16:44:46
philr/-2025-02-04 16:44:56
methylInheritance/-2025-02-04 16:44:43
DeconRNASeq/-2025-02-04 16:44:14
funOmics/-2025-02-04 16:44:23
tRanslatome/-2025-02-04 16:45:21
normalize450K/-2025-02-04 16:44:51
EBImage/-2025-02-04 16:44:19
ReportingTools/-2025-02-04 16:45:03
mzID/-2025-02-04 16:44:49
pfamAnalyzeR/-2025-02-04 16:44:56
GOstats/-2025-02-04 16:44:28
interacCircos/-2025-02-04 16:44:33
ssviz/-2025-02-04 16:45:17
OTUbase/-2025-02-04 16:44:54
sechm/-2025-02-04 16:45:11
HybridExpress/-2025-02-04 16:44:31
wateRmelon/-2025-02-04 16:45:25
TMSig/-2025-02-04 16:45:21
pmp/-2025-02-04 16:44:57
methInheritSim/-2025-02-04 16:44:43
specL/-2025-02-04 16:45:15
singscore/-2025-02-04 16:45:13
DTA/-2025-02-04 16:44:18
multiGSEA/-2025-02-04 16:44:49
MGFR/-2025-02-04 16:44:44
structToolbox/-2025-02-04 16:45:17
xcore/-2025-02-04 16:45:25
TrajectoryUtils/-2025-02-04 16:45:21
crisprDesign/-2025-02-04 16:44:12
scGPS/-2025-02-04 16:45:09
globalSeq/-2025-02-04 16:44:27
daMA/-2025-02-04 16:44:14
HIPPO/-2025-02-04 16:44:31
DEGseq/-2025-02-04 16:44:15
SPsimSeq/-2025-02-04 16:45:16
strandCheckR/-2025-02-04 16:45:17
dks/-2025-02-04 16:44:17
lemur/-2025-02-04 16:44:36
seq.hotSPOT/-2025-02-04 16:45:11
DirichletMultinomial/-2025-02-04 16:44:17
AllelicImbalance/-2025-02-04 16:43:58
soGGi/-2025-02-04 16:45:14
timecourse/-2025-02-04 16:45:20
compEpiTools/-2025-02-04 16:44:11
Pigengene/-2025-02-04 16:44:57
mnem/-2025-02-04 16:44:46
scBFA/-2025-02-04 16:45:08
shinyepico/-2025-02-04 16:45:12
OLINgui/-2025-02-04 16:44:53
epivizrServer/-2025-02-04 16:44:20
regioneR/-2025-02-04 16:45:03
GARS/-2025-02-04 16:44:24
SBGNview/-2025-02-04 16:45:08
FilterFFPE/-2025-02-04 16:44:22
messina/-2025-02-04 16:44:42
Rhdf5lib/-2025-02-04 16:45:04
BiocSet/-2025-02-04 16:44:02
UCSC.utils/-2025-02-04 16:45:23
adverSCarial/-2025-02-04 16:43:56
FastqCleaner/-2025-02-04 16:44:21
iCARE/-2025-02-04 16:44:32
gDRimport/-2025-02-04 16:44:24
rgoslin/-2025-02-04 16:45:04
CNVrd2/-2025-02-04 16:44:10
ToxicoGx/-2025-02-04 16:45:21
SpatialCPie/-2025-02-04 16:45:15
SiPSiC/-2025-02-04 16:45:13
BiocSklearn/-2025-02-04 16:44:02
tRNA/-2025-02-04 16:45:22
getDEE2/-2025-02-04 16:44:26
biscuiteer/-2025-02-04 16:44:04
anota2seq/-2025-02-04 16:43:59
maftools/-2025-02-04 16:44:37
tilingArray/-2025-02-04 16:45:20
ClustAll/-2025-02-04 16:44:09
Ularcirc/-2025-02-04 16:45:23
DNABarcodes/-2025-02-04 16:44:18
Wrench/-2025-02-04 16:45:25
qPLEXanalyzer/-2025-02-04 16:45:00
netZooR/-2025-02-04 16:44:50
graphite/-2025-02-04 16:44:29
PECA/-2025-02-04 16:44:55
oligoClasses/-2025-02-04 16:44:51
SIMD/-2025-02-04 16:45:12
COCOA/-2025-02-04 16:44:10
XDE/-2025-02-04 16:45:25
biovizBase/-2025-02-04 16:44:04
bandle/-2025-02-04 16:44:00
HicAggR/-2025-02-04 16:44:30
Rgraphviz/-2025-02-04 16:45:04
ggspavis/-2025-02-04 16:44:27
UPDhmm/-2025-02-04 16:45:23
DART/-2025-02-04 16:44:14
customCMPdb/-2025-02-04 16:44:13
MPRAnalyze/-2025-02-04 16:44:47
beachmat.hdf5/-2025-02-04 16:44:01
SBMLR/-2025-02-04 16:45:08
cummeRbund/-2025-02-04 16:44:13
TDbasedUFE/-2025-02-04 16:45:19
scTreeViz/-2025-02-04 16:45:10
NanoStringNCTools/-2025-02-04 16:44:50
multiClust/-2025-02-04 16:44:48
mygene/-2025-02-04 16:44:49
interactiveDisplayBase/-2025-02-04 16:44:34
LEA/-2025-02-04 16:44:36
UNDO/-2025-02-04 16:45:23
BioCartaImage/-2025-02-04 16:44:02
pairkat/-2025-02-04 16:44:54
CytoMDS/-2025-02-04 16:44:13
barcodetrackR/-2025-02-04 16:44:00
sampleClassifier/-2025-02-04 16:45:07
metaSeq/-2025-02-04 16:44:43
crisprViz/-2025-02-04 16:44:12
oncoscanR/-2025-02-04 16:44:53
powerTCR/-2025-02-04 16:44:58
chromVAR/-2025-02-04 16:44:08
SCArray.sat/-2025-02-04 16:45:08
clusterProfiler/-2025-02-04 16:44:09
MSstatsQCgui/-2025-02-04 16:44:48
TitanCNA/-2025-02-04 16:45:20
ASGSCA/-2025-02-04 16:44:00
GenomicFiles/-2025-02-04 16:44:26
codelink/-2025-02-04 16:44:10
INPower/-2025-02-04 16:44:33
miRNApath/-2025-02-04 16:44:45
IVAS/-2025-02-04 16:44:35
scds/-2025-02-04 16:45:09
pickgene/-2025-02-04 16:44:57
phenomis/-2025-02-04 16:44:56
Rarr/-2025-02-04 16:45:01
INSPEcT/-2025-02-04 16:44:33
goProfiles/-2025-02-04 16:44:28
NBAMSeq/-2025-02-04 16:44:50
SRAdb/-2025-02-04 16:45:16
TEQC/-2025-02-04 16:45:19
mbkmeans/-2025-02-04 16:44:38
MSstatsPTM/-2025-02-04 16:44:48
dreamlet/-2025-02-04 16:44:18
phenopath/-2025-02-04 16:44:56
gDRutils/-2025-02-04 16:44:24
chromPlot/-2025-02-04 16:44:08
CNVfilteR/-2025-02-04 16:44:10
goSTAG/-2025-02-04 16:44:28
SparseSignatures/-2025-02-04 16:45:15
sitadela/-2025-02-04 16:45:13
baySeq/-2025-02-04 16:44:01
BOBaFIT/-2025-02-04 16:44:05
APAlyzer/-2025-02-04 16:43:59
epivizrData/-2025-02-04 16:44:20
MAI/-2025-02-04 16:44:37
GEOmetadb/-2025-02-04 16:44:26
hicVennDiagram/-2025-02-04 16:44:31
diffcyt/-2025-02-04 16:44:16
ADAMgui/-2025-02-04 16:43:56
TFARM/-2025-02-04 16:45:19
HilbertVis/-2025-02-04 16:44:31
IntEREst/-2025-02-04 16:44:34
MCbiclust/-2025-02-04 16:44:39
twoddpcr/-2025-02-04 16:45:23
DEScan2/-2025-02-04 16:44:15
BCRANK/-2025-02-04 16:44:01
SummarizedExperiment/-2025-02-04 16:45:17
InPAS/-2025-02-04 16:44:33
MGnifyR/-2025-02-04 16:44:44
GA4GHclient/-2025-02-04 16:44:23
cBioPortalData/-2025-02-04 16:44:06
SWATH2stats/-2025-02-04 16:45:18
impute/-2025-02-04 16:44:33
discordant/-2025-02-04 16:44:17
eds/-2025-02-04 16:44:19
RDRToolbox/-2025-02-04 16:45:02
BSgenomeForge/-2025-02-04 16:44:05
Mergeomics/-2025-02-04 16:44:42
les/-2025-02-04 16:44:36
EpiMix/-2025-02-04 16:44:20
scRepertoire/-2025-02-04 16:45:10
CardinalIO/-2025-02-04 16:44:06
alabaster.ranges/-2025-02-04 16:43:58
ggbio/-2025-02-04 16:44:27
stepNorm/-2025-02-04 16:45:17
proActiv/-2025-02-04 16:44:58
CompoundDb/-2025-02-04 16:44:11
PLPE/-2025-02-04 16:44:57
Sconify/-2025-02-04 16:45:09
ZygosityPredictor/-2025-02-04 16:45:26
mapscape/-2025-02-04 16:44:38
celaref/-2025-02-04 16:44:06
SpaNorm/-2025-02-04 16:45:14
dinoR/-2025-02-04 16:44:16
MatrixGenerics/-2025-02-04 16:44:38
svaNUMT/-2025-02-04 16:45:18
gDNAx/-2025-02-04 16:44:24
BASiCStan/-2025-02-04 16:44:01
Chicago/-2025-02-04 16:44:08
HarmonizR/-2025-02-04 16:44:30
NuPoP/-2025-02-04 16:44:51
msa/-2025-02-04 16:44:47
martini/-2025-02-04 16:44:38
ABarray/-2025-02-04 16:43:55
gg4way/-2025-02-04 16:44:27
CyTOFpower/-2025-02-04 16:44:13
STATegRa/-2025-02-04 16:45:17
R4RNA/-2025-02-04 16:45:00
dStruct/-2025-02-04 16:44:18
COSNet/-2025-02-04 16:44:12
subSeq/-2025-02-04 16:45:17
MethTargetedNGS/-2025-02-04 16:44:43
garfield/-2025-02-04 16:44:24
CleanUpRNAseq/-2025-02-04 16:44:09
doppelgangR/-2025-02-04 16:44:18
IgGeneUsage/-2025-02-04 16:44:32
HiCDOC/-2025-02-04 16:44:31
flowWorkspace/-2025-02-04 16:44:23
rbsurv/-2025-02-04 16:45:01
idr2d/-2025-02-04 16:44:32
GenomeInfoDb/-2025-02-04 16:44:25
scBubbletree/-2025-02-04 16:45:08
scDD/-2025-02-04 16:45:08
regionalpcs/-2025-02-04 16:45:03
RTNsurvival/-2025-02-04 16:45:07
BiocFileCache/-2025-02-04 16:44:02
genomeIntervals/-2025-02-04 16:44:25
quantro/-2025-02-04 16:45:00
frmaTools/-2025-02-04 16:44:23
crisprShiny/-2025-02-04 16:44:12
CexoR/-2025-02-04 16:44:07
RaggedExperiment/-2025-02-04 16:45:00
scDiagnostics/-2025-02-04 16:45:09
DEsubs/-2025-02-04 16:44:15
SNPhood/-2025-02-04 16:45:14
h5mread/-2025-02-04 16:44:30
EventPointer/-2025-02-04 16:44:21
CGHcall/-2025-02-04 16:44:07
limpca/-2025-02-04 16:44:36
RBioinf/-2025-02-04 16:45:01
DNAfusion/-2025-02-04 16:44:18
BASiCS/-2025-02-04 16:44:01
RnaSeqSampleSize/-2025-02-04 16:45:05
GIGSEA/-2025-02-04 16:44:27
NewWave/-2025-02-04 16:44:50
BatchQC/-2025-02-04 16:44:01
transmogR/-2025-02-04 16:45:21
quantsmooth/-2025-02-04 16:45:00
miRBaseConverter/-2025-02-04 16:44:45
Informeasure/-2025-02-04 16:44:33
BiocFHIR/-2025-02-04 16:44:02
rScudo/-2025-02-04 16:45:06
EWCE/-2025-02-04 16:44:21
HybridMTest/-2025-02-04 16:44:31
OmicCircos/-2025-02-04 16:44:53
derfinderHelper/-2025-02-04 16:44:15
cytoMEM/-2025-02-04 16:44:13
simPIC/-2025-02-04 16:45:13
microbiomeDASim/-2025-02-04 16:44:44
CONSTANd/-2025-02-04 16:44:11
MultimodalExperiment/-2025-02-04 16:44:49
alevinQC/-2025-02-04 16:43:58
IMPCdata/-2025-02-04 16:44:33
methyLImp2/-2025-02-04 16:44:43
DNAcopy/-2025-02-04 16:44:18
cbpManager/-2025-02-04 16:44:06
GraphPAC/-2025-02-04 16:44:29
biomformat/-2025-02-04 16:44:03
IMAS/-2025-02-04 16:44:33
CellMapper/-2025-02-04 16:44:07
hoodscanR/-2025-02-04 16:44:31
sincell/-2025-02-04 16:45:13
OmaDB/-2025-02-04 16:44:53
struct/-2025-02-04 16:45:17
ASSIGN/-2025-02-04 16:44:00
CaMutQC/-2025-02-04 16:44:06
DominoEffect/-2025-02-04 16:44:18
GRmetrics/-2025-02-04 16:44:29
terraTCGAdata/-2025-02-04 16:45:19
a4/-2025-02-04 16:43:55
mirIntegrator/-2025-02-04 16:44:45
regioneReloaded/-2025-02-04 16:45:03
RedeR/-2025-02-04 16:45:02
DegNorm/-2025-02-04 16:44:14
iSEEhex/-2025-02-04 16:44:34
VarCon/-2025-02-04 16:45:24
flowcatchR/-2025-02-04 16:44:22
rGenomeTracks/-2025-02-04 16:45:03
MultiAssayExperiment/-2025-02-04 16:44:48
pairedGSEA/-2025-02-04 16:44:54
cageminer/-2025-02-04 16:44:06
TREG/-2025-02-04 16:45:22
scReClassify/-2025-02-04 16:45:10
netprioR/-2025-02-04 16:44:50
metabomxtr/-2025-02-04 16:44:42
scHOT/-2025-02-04 16:45:09
basilisk.utils/-2025-02-04 16:44:01
scde/-2025-02-04 16:45:09
phantasus/-2025-02-04 16:44:56
GSVA/-2025-02-04 16:44:29
Harman/-2025-02-04 16:44:30
seqTools/-2025-02-04 16:45:11
FRASER/-2025-02-04 16:44:23
consICA/-2025-02-04 16:44:11
ngsReports/-2025-02-04 16:44:50
Rhisat2/-2025-02-04 16:45:04
RGraph2js/-2025-02-04 16:45:04
speckle/-2025-02-04 16:45:15
NTW/-2025-02-04 16:44:51
BPRMeth/-2025-02-04 16:44:05
recountmethylation/-2025-02-04 16:45:02
BANDITS/-2025-02-04 16:44:00
nempi/-2025-02-04 16:44:50
KnowSeq/-2025-02-04 16:44:35
scanMiR/-2025-02-04 16:45:08
biodb/-2025-02-04 16:44:03
pcaExplorer/-2025-02-04 16:44:55
oposSOM/-2025-02-04 16:44:53
CatsCradle/-2025-02-04 16:44:06
traviz/-2025-02-04 16:45:22
syntenet/-2025-02-04 16:45:18
TFBSTools/-2025-02-04 16:45:19
XINA/-2025-02-04 16:45:25
preprocessCore/-2025-02-04 16:44:58
FRGEpistasis/-2025-02-04 16:44:23
BiRewire/-2025-02-04 16:44:04
ffpe/-2025-02-04 16:44:22
SeqGate/-2025-02-04 16:45:11
RNAdecay/-2025-02-04 16:45:05
Mulcom/-2025-02-04 16:44:48
traseR/-2025-02-04 16:45:22
ProteoMM/-2025-02-04 16:44:59
condiments/-2025-02-04 16:44:11
scater/-2025-02-04 16:45:08
DelayedArray/-2025-02-04 16:44:15
myvariant/-2025-02-04 16:44:49
DelayedTensor/-2025-02-04 16:44:15
dearseq/-2025-02-04 16:44:14
MOGAMUN/-2025-02-04 16:44:46
circRNAprofiler/-2025-02-04 16:44:09
BaseSpaceR/-2025-02-04 16:44:01
MetNet/-2025-02-04 16:44:44
BG2/-2025-02-04 16:44:01
profileplyr/-2025-02-04 16:44:58
TCGAbiolinks/-2025-02-04 16:45:19
FlowSOM/-2025-02-04 16:44:23
BubbleTree/-2025-02-04 16:44:05
RgnTX/-2025-02-04 16:45:03
ggcyto/-2025-02-04 16:44:27
MsBackendMetaboLights/-2025-02-04 16:44:47
gdsfmt/-2025-02-04 16:44:24
tomoseqr/-2025-02-04 16:45:21
ISLET/-2025-02-04 16:44:34
ncGTW/-2025-02-04 16:44:50
MeasurementError.cor/-2025-02-04 16:44:41
MODA/-2025-02-04 16:44:46
regsplice/-2025-02-04 16:45:03
CTSV/-2025-02-04 16:44:13
AUCell/-2025-02-04 16:44:00
flowTrans/-2025-02-04 16:44:23
optimalFlow/-2025-02-04 16:44:54
CNVMetrics/-2025-02-04 16:44:10
PCAN/-2025-02-04 16:44:55
AnnotationHub/-2025-02-04 16:43:59
geyser/-2025-02-04 16:44:27
illuminaio/-2025-02-04 16:44:33
pqsfinder/-2025-02-04 16:44:58
G4SNVHunter/-2025-02-04 16:44:23
annaffy/-2025-02-04 16:43:58
bnbc/-2025-02-04 16:44:04
maskBAD/-2025-02-04 16:44:38
Rvisdiff/-2025-02-04 16:45:07
multiscan/-2025-02-04 16:44:49
glmGamPoi/-2025-02-04 16:44:27
CTexploreR/-2025-02-04 16:44:13
snm/-2025-02-04 16:45:14
seq2pathway/-2025-02-04 16:45:11
debCAM/-2025-02-04 16:44:14
scanMiRApp/-2025-02-04 16:45:08
a4Classif/-2025-02-04 16:43:55
CTDquerier/-2025-02-04 16:44:13
alabaster.bumpy/-2025-02-04 16:43:58
crisprBowtie/-2025-02-04 16:44:12
HiTC/-2025-02-04 16:44:31
CoGAPS/-2025-02-04 16:44:10
rqubic/-2025-02-04 16:45:06
bacon/-2025-02-04 16:44:00
MetaPhOR/-2025-02-04 16:44:42
biocthis/-2025-02-04 16:44:03
CIMICE/-2025-02-04 16:44:09
SPOTlight/-2025-02-04 16:45:16
systemPipeR/-2025-02-04 16:45:18
BiocCheck/-2025-02-04 16:44:02
rhdf5/-2025-02-04 16:45:04
TissueEnrich/-2025-02-04 16:45:20
infercnv/-2025-02-04 16:44:33
ddCt/-2025-02-04 16:44:14
GRaNIE/-2025-02-04 16:44:28
CNVRanger/-2025-02-04 16:44:10
famat/-2025-02-04 16:44:21
drugTargetInteractions/-2025-02-04 16:44:18
mitoClone2/-2025-02-04 16:44:45
hiAnnotator/-2025-02-04 16:44:30
MSnID/-2025-02-04 16:44:48
occugene/-2025-02-04 16:44:51
MultiBaC/-2025-02-04 16:44:48
SGSeq/-2025-02-04 16:45:12
miRNAtap/-2025-02-04 16:44:45
tomoda/-2025-02-04 16:45:21
SplineDV/-2025-02-04 16:45:16
muscat/-2025-02-04 16:44:49
CNEr/-2025-02-04 16:44:10
EpipwR/-2025-02-04 16:44:20
gcrma/-2025-02-04 16:44:24
openCyto/-2025-02-04 16:44:53
cellmigRation/-2025-02-04 16:44:07
dada2/-2025-02-04 16:44:13
satuRn/-2025-02-04 16:45:08
OpenStats/-2025-02-04 16:44:53
KinSwingR/-2025-02-04 16:44:35
EBarrays/-2025-02-04 16:44:19
ANCOMBC/-2025-02-04 16:43:58
lpNet/-2025-02-04 16:44:36
vsclust/-2025-02-04 16:45:25
a4Preproc/-2025-02-04 16:43:55
aroma.light/-2025-02-04 16:43:59
PREDA/-2025-02-04 16:44:58
PolySTest/-2025-02-04 16:44:58
BiocNeighbors/-2025-02-04 16:44:02
OMICsPCA/-2025-02-04 16:44:53
annotationTools/-2025-02-04 16:43:59
MSstatsLiP/-2025-02-04 16:44:48
BiocBook/-2025-02-04 16:44:02
OrganismDbi/-2025-02-04 16:44:54
fdrame/-2025-02-04 16:44:21
Category/-2025-02-04 16:44:06
HMMcopy/-2025-02-04 16:44:31
SingleCellSignalR/-2025-02-04 16:45:13
metabinR/-2025-02-04 16:44:42
ChIPsim/-2025-02-04 16:44:08
qvalue/-2025-02-04 16:45:00
snapcount/-2025-02-04 16:45:14
AMOUNTAIN/-2025-02-04 16:43:58
pogos/-2025-02-04 16:44:58
LOLA/-2025-02-04 16:44:36
biocGraph/-2025-02-04 16:44:02
PhyloProfile/-2025-02-04 16:44:56
rqt/-2025-02-04 16:45:06
CopyNumberPlots/-2025-02-04 16:44:11
ChIPanalyser/-2025-02-04 16:44:08
MMUPHin/-2025-02-04 16:44:46
fgsea/-2025-02-04 16:44:22
epiregulon.extra/-2025-02-04 16:44:20
CellBarcode/-2025-02-04 16:44:07
receptLoss/-2025-02-04 16:45:02
podkat/-2025-02-04 16:44:57
Dino/-2025-02-04 16:44:16
RiboDiPA/-2025-02-04 16:45:04
ExperimentHubData/-2025-02-04 16:44:21
weaver/-2025-02-04 16:45:25
BioCor/-2025-02-04 16:44:02
cliProfiler/-2025-02-04 16:44:09
MLInterfaces/-2025-02-04 16:44:45
rGADEM/-2025-02-04 16:45:03
ctc/-2025-02-04 16:44:12
segmentSeq/-2025-02-04 16:45:11
pvac/-2025-02-04 16:44:59
miRLAB/-2025-02-04 16:44:45
qmtools/-2025-02-04 16:45:00
nearBynding/-2025-02-04 16:44:50
spoon/-2025-02-04 16:45:16
IsoCorrectoRGUI/-2025-02-04 16:44:34
hmdbQuery/-2025-02-04 16:44:31
cicero/-2025-02-04 16:44:09
diffUTR/-2025-02-04 16:44:16
biomaRt/-2025-02-04 16:44:03
genomation/-2025-02-04 16:44:25
RTCA/-2025-02-04 16:45:06
memes/-2025-02-04 16:44:42
mist/-2025-02-04 16:44:45
scDataviz/-2025-02-04 16:45:08
mogsa/-2025-02-04 16:44:46
spiky/-2025-02-04 16:45:16
matter/-2025-02-04 16:44:38
Linnorm/-2025-02-04 16:44:36
alabaster.matrix/-2025-02-04 16:43:58
ChAMP/-2025-02-04 16:44:08
DNAshapeR/-2025-02-04 16:44:18
SimBu/-2025-02-04 16:45:12
ACME/-2025-02-04 16:43:56
affyILM/-2025-02-04 16:43:57
TrIdent/-2025-02-04 16:45:22
phenoTest/-2025-02-04 16:44:56
HDF5Array/-2025-02-04 16:44:30
dyebias/-2025-02-04 16:44:18
geneClassifiers/-2025-02-04 16:44:25
interactiveDisplay/-2025-02-04 16:44:34
glmSparseNet/-2025-02-04 16:44:27
ssrch/-2025-02-04 16:45:17
QuaternaryProd/-2025-02-04 16:45:00
ggtreeExtra/-2025-02-04 16:44:27
magpie/-2025-02-04 16:44:37
ggtreeSpace/-2025-02-04 16:44:27
PathoStat/-2025-02-04 16:44:55
adSplit/-2025-02-04 16:43:56
OLIN/-2025-02-04 16:44:53
enhancerHomologSearch/-2025-02-04 16:44:19
SCOPE/-2025-02-04 16:45:09
KEGGgraph/-2025-02-04 16:44:35
cellxgenedp/-2025-02-04 16:44:07
MEAT/-2025-02-04 16:44:41
gwascat/-2025-02-04 16:44:29
lmdme/-2025-02-04 16:44:36
alabaster.se/-2025-02-04 16:43:58
RadioGx/-2025-02-04 16:45:00
HubPub/-2025-02-04 16:44:31
easier/-2025-02-04 16:44:19
genomes/-2025-02-04 16:44:25
categoryCompare/-2025-02-04 16:44:06
SPEM/-2025-02-04 16:45:15
csdR/-2025-02-04 16:44:12
GEOquery/-2025-02-04 16:44:26
hapFabia/-2025-02-04 16:44:30
SeqGSEA/-2025-02-04 16:45:11
COTAN/-2025-02-04 16:44:12
SOMNiBUS/-2025-02-04 16:45:14
MsDataHub/-2025-02-04 16:44:47
quantiseqr/-2025-02-04 16:45:00
systemPipeTools/-2025-02-04 16:45:19
maaslin3/-2025-02-04 16:44:37
CellScore/-2025-02-04 16:44:07
compSPOT/-2025-02-04 16:44:11
scDesign3/-2025-02-04 16:45:09
AnnotationDbi/-2025-02-04 16:43:59
multicrispr/-2025-02-04 16:44:48
treekoR/-2025-02-04 16:45:22
nipalsMCIA/-2025-02-04 16:44:50
TFEA.ChIP/-2025-02-04 16:45:20
MACSQuantifyR/-2025-02-04 16:44:37
meshr/-2025-02-04 16:44:42
Guitar/-2025-02-04 16:44:29
GSAR/-2025-02-04 16:44:29
scider/-2025-02-04 16:45:09
QuasR/-2025-02-04 16:45:00
widgetTools/-2025-02-04 16:45:25
iCheck/-2025-02-04 16:44:32
alabaster.sce/-2025-02-04 16:43:58
EasyCellType/-2025-02-04 16:44:19
alabaster.spatial/-2025-02-04 16:43:58
EGSEA/-2025-02-04 16:44:19
regionReport/-2025-02-04 16:45:03
Xeva/-2025-02-04 16:45:25
tidyFlowCore/-2025-02-04 16:45:20
srnadiff/-2025-02-04 16:45:16
PADOG/-2025-02-04 16:44:54
treeclimbR/-2025-02-04 16:45:22
ClusterJudge/-2025-02-04 16:44:09
tidysbml/-2025-02-04 16:45:20
msPurity/-2025-02-04 16:44:48
biomvRCNS/-2025-02-04 16:44:04
flowTime/-2025-02-04 16:44:23
iSeq/-2025-02-04 16:44:34
ccImpute/-2025-02-04 16:44:06
Scale4C/-2025-02-04 16:45:08
synergyfinder/-2025-02-04 16:45:18
MsBackendSql/-2025-02-04 16:44:47
esATAC/-2025-02-04 16:44:20
affylmGUI/-2025-02-04 16:43:57
EpiCompare/-2025-02-04 16:44:20
RCM/-2025-02-04 16:45:02
pgxRpi/-2025-02-04 16:44:56
geNetClassifier/-2025-02-04 16:44:25
LinTInd/-2025-02-04 16:44:36
MSstatsQC/-2025-02-04 16:44:48
MOSClip/-2025-02-04 16:44:46
ComplexHeatmap/-2025-02-04 16:44:11
fobitools/-2025-02-04 16:44:23
SigFuge/-2025-02-04 16:45:12
RProtoBufLib/-2025-02-04 16:45:06
methylumi/-2025-02-04 16:44:43
hopach/-2025-02-04 16:44:31
a4Core/-2025-02-04 16:43:55
prebs/-2025-02-04 16:44:58
BeadDataPackR/-2025-02-04 16:44:01
multiWGCNA/-2025-02-04 16:44:49
VisiumIO/-2025-02-04 16:45:24
mistyR/-2025-02-04 16:44:45
ConsensusClusterPlus/-2025-02-04 16:44:11
MeSHDbi/-2025-02-04 16:44:42
QDNAseq/-2025-02-04 16:44:59
epimutacions/-2025-02-04 16:44:20
zlibbioc/-2025-02-04 16:45:26
omicsViewer/-2025-02-04 16:44:53
PhIPData/-2025-02-04 16:44:56
methylSig/-2025-02-04 16:44:43
universalmotif/-2025-02-04 16:45:23
GSEABase/-2025-02-04 16:44:29
AlphaMissenseR/-2025-02-04 16:43:58
AHMassBank/-2025-02-04 16:43:58
PepSetTest/-2025-02-04 16:44:56
isomiRs/-2025-02-04 16:44:35
GeoTcgaData/-2025-02-04 16:44:26
HiCcompare/-2025-02-04 16:44:30
easyreporting/-2025-02-04 16:44:19
isobar/-2025-02-04 16:44:34
Biostrings/-2025-02-04 16:44:04
KCsmart/-2025-02-04 16:44:35
MiChip/-2025-02-04 16:44:44
BAGS/-2025-02-04 16:44:00
TPP/-2025-02-04 16:45:21
MineICA/-2025-02-04 16:44:44
TurboNorm/-2025-02-04 16:45:23
koinar/-2025-02-04 16:44:35
cpvSNP/-2025-02-04 16:44:12
SingleR/-2025-02-04 16:45:13
sccomp/-2025-02-04 16:45:08
InterCellar/-2025-02-04 16:44:34
ropls/-2025-02-04 16:45:06
sitePath/-2025-02-04 16:45:13
DriverNet/-2025-02-04 16:44:18
EpiTxDb/-2025-02-04 16:44:20
SpatialOmicsOverlay/-2025-02-04 16:45:15
mina/-2025-02-04 16:44:44
CMA/-2025-02-04 16:44:10
AMARETTO/-2025-02-04 16:43:58
dcGSA/-2025-02-04 16:44:14
fishpond/-2025-02-04 16:44:22
factR/-2025-02-04 16:44:21
ncdfFlow/-2025-02-04 16:44:50
CRISPRseek/-2025-02-04 16:44:12
flowAI/-2025-02-04 16:44:22
miaViz/-2025-02-04 16:44:44
coseq/-2025-02-04 16:44:11
RLassoCox/-2025-02-04 16:45:05
GRENITS/-2025-02-04 16:44:29
RNAmodR.AlkAnilineSeq/-2025-02-04 16:45:05
RTCGAToolbox/-2025-02-04 16:45:06
TCGAutils/-2025-02-04 16:45:19
NormalyzerDE/-2025-02-04 16:44:51
DMRcate/-2025-02-04 16:44:18
vsn/-2025-02-04 16:45:25
ddPCRclust/-2025-02-04 16:44:14
signifinder/-2025-02-04 16:45:12
consensusDE/-2025-02-04 16:44:11
Rsamtools/-2025-02-04 16:45:06
CNORfeeder/-2025-02-04 16:44:10
RRHO/-2025-02-04 16:45:06
DynDoc/-2025-02-04 16:44:18
edgeR/-2025-02-04 16:44:19
GmicR/-2025-02-04 16:44:28
TFHAZ/-2025-02-04 16:45:20
bettr/-2025-02-04 16:44:01
pengls/-2025-02-04 16:44:56
flowFP/-2025-02-04 16:44:22
bioDist/-2025-02-04 16:44:03
shiny.gosling/-2025-02-04 16:45:12
scTHI/-2025-02-04 16:45:10
sights/-2025-02-04 16:45:12
GeneBreak/-2025-02-04 16:44:25
decontam/-2025-02-04 16:44:14
trio/-2025-02-04 16:45:22
SIMAT/-2025-02-04 16:45:12
methylclock/-2025-02-04 16:44:43
consensus/-2025-02-04 16:44:11
ccrepe/-2025-02-04 16:44:06
TreeAndLeaf/-2025-02-04 16:45:22
DESpace/-2025-02-04 16:44:15
rWikiPathways/-2025-02-04 16:45:07
rfaRm/-2025-02-04 16:45:03
IWTomics/-2025-02-04 16:44:35
DropletUtils/-2025-02-04 16:44:18
DFplyr/-2025-02-04 16:44:16
monaLisa/-2025-02-04 16:44:46
cghMCR/-2025-02-04 16:44:08
BasicSTARRseq/-2025-02-04 16:44:01
Mfuzz/-2025-02-04 16:44:44
ChIPseeker/-2025-02-04 16:44:08
splineTimeR/-2025-02-04 16:45:16
TTMap/-2025-02-04 16:45:23
divergence/-2025-02-04 16:44:17
GenomicSuperSignature/-2025-02-04 16:44:26
ILoReg/-2025-02-04 16:44:33
countsimQC/-2025-02-04 16:44:12
GenomicInteractions/-2025-02-04 16:44:26
PhenoGeneRanker/-2025-02-04 16:44:56
recoup/-2025-02-04 16:45:02
betaHMM/-2025-02-04 16:44:01
PPInfer/-2025-02-04 16:44:58
RUVcorr/-2025-02-04 16:45:07
DeepTarget/-2025-02-04 16:44:14
gDRcore/-2025-02-04 16:44:24
GSRI/-2025-02-04 16:44:29
CoreGx/-2025-02-04 16:44:11
gcatest/-2025-02-04 16:44:24
scTensor/-2025-02-04 16:45:10
sigsquared/-2025-02-04 16:45:12
ppcseq/-2025-02-04 16:44:58
LPE/-2025-02-04 16:44:36
bumphunter/-2025-02-04 16:44:05
VariantTools/-2025-02-04 16:45:24
pipeFrame/-2025-02-04 16:44:57
SIMLR/-2025-02-04 16:45:13
BindingSiteFinder/-2025-02-04 16:44:02
DEGreport/-2025-02-04 16:44:15
ReactomePA/-2025-02-04 16:45:02
DRIMSeq/-2025-02-04 16:44:18
covRNA/-2025-02-04 16:44:12
aCGH/-2025-02-04 16:43:56
TOP/-2025-02-04 16:45:21
RbcBook1/-2025-02-04 16:45:01
gtrellis/-2025-02-04 16:44:29
ClusterSignificance/-2025-02-04 16:44:09
CytoPipelineGUI/-2025-02-04 16:44:13
DuplexDiscovereR/-2025-02-04 16:44:18
GMRP/-2025-02-04 16:44:28
TSCAN/-2025-02-04 16:45:22
BrowserViz/-2025-02-04 16:44:05
omada/-2025-02-04 16:44:53
GeoDiff/-2025-02-04 16:44:26
CNORode/-2025-02-04 16:44:10
PharmacoGx/-2025-02-04 16:44:56
graph/-2025-02-04 16:44:28
MetaboSignal/-2025-02-04 16:44:42
MIRit/-2025-02-04 16:44:45
bluster/-2025-02-04 16:44:04
QuartPAC/-2025-02-04 16:45:00
TSAR/-2025-02-04 16:45:22
EBSEA/-2025-02-04 16:44:19
InTAD/-2025-02-04 16:44:33
PROMISE/-2025-02-04 16:44:59
PureCN/-2025-02-04 16:44:59
scMitoMut/-2025-02-04 16:45:09
MLP/-2025-02-04 16:44:45
ScreenR/-2025-02-04 16:45:10
omicsPrint/-2025-02-04 16:44:53
preciseTAD/-2025-02-04 16:44:58
flowBeads/-2025-02-04 16:44:22
iChip/-2025-02-04 16:44:32
IHW/-2025-02-04 16:44:33
NetActivity/-2025-02-04 16:44:50
BBCAnalyzer/-2025-02-04 16:44:01
ROCpAI/-2025-02-04 16:45:05
visiumStitched/-2025-02-04 16:45:24
scMerge/-2025-02-04 16:45:09
TAPseq/-2025-02-04 16:45:19
GeneNetworkBuilder/-2025-02-04 16:44:25
dir.expiry/-2025-02-04 16:44:16
rTRM/-2025-02-04 16:45:07
epigenomix/-2025-02-04 16:44:20
chimeraviz/-2025-02-04 16:44:08
clst/-2025-02-04 16:44:09
MiRaGE/-2025-02-04 16:44:45
RTopper/-2025-02-04 16:45:07
CytoPipeline/-2025-02-04 16:44:13
GreyListChIP/-2025-02-04 16:44:29
CuratedAtlasQueryR/-2025-02-04 16:44:13
ReactomeContentService4R/-2025-02-04 16:45:02
GladiaTOX/-2025-02-04 16:44:27
MBAmethyl/-2025-02-04 16:44:38
MetID/-2025-02-04 16:44:43
GBScleanR/-2025-02-04 16:44:24
tidyCoverage/-2025-02-04 16:45:20
Heatplus/-2025-02-04 16:44:30
msImpute/-2025-02-04 16:44:47
hdxmsqc/-2025-02-04 16:44:30
UniProt.ws/-2025-02-04 16:45:23
mpra/-2025-02-04 16:44:47
CGEN/-2025-02-04 16:44:07
GraphAT/-2025-02-04 16:44:29
MEDME/-2025-02-04 16:44:42
DMRcaller/-2025-02-04 16:44:18
msmsTests/-2025-02-04 16:44:48
SwathXtend/-2025-02-04 16:45:18
INDEED/-2025-02-04 16:44:33
BiocSingular/-2025-02-04 16:44:02
ERSSA/-2025-02-04 16:44:20
Oscope/-2025-02-04 16:44:54
magrene/-2025-02-04 16:44:37
primirTSS/-2025-02-04 16:44:58
coMET/-2025-02-04 16:44:11
omicRexposome/-2025-02-04 16:44:53
BERT/-2025-02-04 16:44:01
epiregulon/-2025-02-04 16:44:20
LoomExperiment/-2025-02-04 16:44:36
pepXMLTab/-2025-02-04 16:44:56
miRNAmeConverter/-2025-02-04 16:44:45
openPrimeR/-2025-02-04 16:44:53
matchBox/-2025-02-04 16:44:38
gpls/-2025-02-04 16:44:28
fCI/-2025-02-04 16:44:21
ASSET/-2025-02-04 16:44:00
MSstatsShiny/-2025-02-04 16:44:48
seqArchRplus/-2025-02-04 16:45:11
MSstats/-2025-02-04 16:44:48
triplex/-2025-02-04 16:45:22
cosmosR/-2025-02-04 16:44:12
TBSignatureProfiler/-2025-02-04 16:45:19
BSgenome/-2025-02-04 16:44:05
MuData/-2025-02-04 16:44:48
riboSeqR/-2025-02-04 16:45:04
DegCre/-2025-02-04 16:44:14
scmap/-2025-02-04 16:45:09
bioCancer/-2025-02-04 16:44:02
crisprScore/-2025-02-04 16:44:12
EpiDISH/-2025-02-04 16:44:20
ROTS/-2025-02-04 16:45:06
rgsepd/-2025-02-04 16:45:04
maSigPro/-2025-02-04 16:44:38
chihaya/-2025-02-04 16:44:08
SAIGEgds/-2025-02-04 16:45:07
MsBackendMsp/-2025-02-04 16:44:47
CausalR/-2025-02-04 16:44:06
Structstrings/-2025-02-04 16:45:17
OSAT/-2025-02-04 16:44:54
sparrow/-2025-02-04 16:45:14
SQLDataFrame/-2025-02-04 16:45:16
gemma.R/-2025-02-04 16:44:24
SEtools/-2025-02-04 16:45:11
cancerclass/-2025-02-04 16:44:06
decoupleR/-2025-02-04 16:44:14
lipidr/-2025-02-04 16:44:36
ExpressionAtlas/-2025-02-04 16:44:21
copa/-2025-02-04 16:44:11
goSorensen/-2025-02-04 16:44:28
DiffLogo/-2025-02-04 16:44:16
edge/-2025-02-04 16:44:19
OmnipathR/-2025-02-04 16:44:53
musicatk/-2025-02-04 16:44:49
IntramiRExploreR/-2025-02-04 16:44:34
miRspongeR/-2025-02-04 16:44:45
Organism.dplyr/-2025-02-04 16:44:54
qsvaR/-2025-02-04 16:45:00
amplican/-2025-02-04 16:43:58
GGPA/-2025-02-04 16:44:27
IdeoViz/-2025-02-04 16:44:32
TargetScore/-2025-02-04 16:45:19
RBioFormats/-2025-02-04 16:45:01
ReactomeGraph4R/-2025-02-04 16:45:02
mspms/-2025-02-04 16:44:48
scRecover/-2025-02-04 16:45:10
odseq/-2025-02-04 16:44:51
Melissa/-2025-02-04 16:44:42
vulcan/-2025-02-04 16:45:25
CHETAH/-2025-02-04 16:44:08
DExMA/-2025-02-04 16:44:16
GEOsubmission/-2025-02-04 16:44:26
ACE/-2025-02-04 16:43:55
factDesign/-2025-02-04 16:44:21
simona/-2025-02-04 16:45:13
statTarget/-2025-02-04 16:45:17
MouseFM/-2025-02-04 16:44:47
scran/-2025-02-04 16:45:10
MSstatsBig/-2025-02-04 16:44:48
flowGate/-2025-02-04 16:44:22
veloviz/-2025-02-04 16:45:24
REDseq/-2025-02-04 16:45:03
scuttle/-2025-02-04 16:45:10
Anaquin/-2025-02-04 16:43:58
ribosomeProfilingQC/-2025-02-04 16:45:04
MethPed/-2025-02-04 16:44:43
ggtree/-2025-02-04 16:44:27
SpectraQL/-2025-02-04 16:45:15
ROntoTools/-2025-02-04 16:45:06
Polytect/-2025-02-04 16:44:58
DMCHMM/-2025-02-04 16:44:18
bnem/-2025-02-04 16:44:04
TIN/-2025-02-04 16:45:20
scPipe/-2025-02-04 16:45:10
shinyMethyl/-2025-02-04 16:45:12
ChIPseqR/-2025-02-04 16:44:08
tkWidgets/-2025-02-04 16:45:20
supersigs/-2025-02-04 16:45:18
Macarron/-2025-02-04 16:44:37
CGHbase/-2025-02-04 16:44:07
metapone/-2025-02-04 16:44:43
DEP/-2025-02-04 16:44:15
seqLogo/-2025-02-04 16:45:11
flowVS/-2025-02-04 16:44:23
ExiMiR/-2025-02-04 16:44:21
GEM/-2025-02-04 16:44:24
MEIGOR/-2025-02-04 16:44:42
agilp/-2025-02-04 16:43:57
EnMCB/-2025-02-04 16:44:19
TnT/-2025-02-04 16:45:21
MesKit/-2025-02-04 16:44:42
GenomicScores/-2025-02-04 16:44:26
TCseq/-2025-02-04 16:45:19
SomaticSignatures/-2025-02-04 16:45:14
nullranges/-2025-02-04 16:44:51
pathRender/-2025-02-04 16:44:55
iGC/-2025-02-04 16:44:32
spatialDE/-2025-02-04 16:45:15
MAST/-2025-02-04 16:44:38
ggseqalign/-2025-02-04 16:44:27
CrispRVariants/-2025-02-04 16:44:12
monocle/-2025-02-04 16:44:46
MotifDb/-2025-02-04 16:44:46
hipathia/-2025-02-04 16:44:31
yamss/-2025-02-04 16:45:26
scifer/-2025-02-04 16:45:09
mastR/-2025-02-04 16:44:38
motifbreakR/-2025-02-04 16:44:46
HGC/-2025-02-04 16:44:30
GateFinder/-2025-02-04 16:44:24
roar/-2025-02-04 16:45:05
Rfastp/-2025-02-04 16:45:03
BloodGen3Module/-2025-02-04 16:44:04
mariner/-2025-02-04 16:44:38
RCSL/-2025-02-04 16:45:02
affyio/-2025-02-04 16:43:57
Rnits/-2025-02-04 16:45:05
chopsticks/-2025-02-04 16:44:08
RnBeads/-2025-02-04 16:45:05
screenCounter/-2025-02-04 16:45:10
customProDB/-2025-02-04 16:44:13
SCANVIS/-2025-02-04 16:45:08
MsQuality/-2025-02-04 16:44:48
MOMA/-2025-02-04 16:44:46
borealis/-2025-02-04 16:44:05
VERSO/-2025-02-04 16:45:24
motifcounter/-2025-02-04 16:44:46
evaluomeR/-2025-02-04 16:44:21
Maaslin2/-2025-02-04 16:44:37
rCGH/-2025-02-04 16:45:02
DCATS/-2025-02-04 16:44:14
iSEEhub/-2025-02-04 16:44:34
fgga/-2025-02-04 16:44:22
PIPETS/-2025-02-04 16:44:57
flowSpecs/-2025-02-04 16:44:23
PhosR/-2025-02-04 16:44:56
systemPipeShiny/-2025-02-04 16:45:19
fenr/-2025-02-04 16:44:22
Cogito/-2025-02-04 16:44:10
RNAmodR/-2025-02-04 16:45:05
treeio/-2025-02-04 16:45:22
VennDetail/-2025-02-04 16:45:24
made4/-2025-02-04 16:44:37
COMPASS/-2025-02-04 16:44:11
MSstatsTMT/-2025-02-04 16:44:48
VariantFiltering/-2025-02-04 16:45:24
eisaR/-2025-02-04 16:44:19
doubletrouble/-2025-02-04 16:44:18
clstutils/-2025-02-04 16:44:09
immunotation/-2025-02-04 16:44:33
methylCC/-2025-02-04 16:44:43
VCFArray/-2025-02-04 16:45:24
lineagespot/-2025-02-04 16:44:36
yarn/-2025-02-04 16:45:26
PoDCall/-2025-02-04 16:44:57
RedisParam/-2025-02-04 16:45:03
aggregateBioVar/-2025-02-04 16:43:57
GeomxTools/-2025-02-04 16:44:26
MsBackendMgf/-2025-02-04 16:44:47
SNAGEE/-2025-02-04 16:45:14
multiHiCcompare/-2025-02-04 16:44:49
S4Arrays/-2025-02-04 16:45:07
pandaR/-2025-02-04 16:44:54
DNABarcodeCompatibility/-2025-02-04 16:44:18
sagenhaft/-2025-02-04 16:45:07
transformGamPoi/-2025-02-04 16:45:21
RegEnrich/-2025-02-04 16:45:03
abseqR/-2025-02-04 16:43:55
graper/-2025-02-04 16:44:28
gCrisprTools/-2025-02-04 16:44:24
rnaseqcomp/-2025-02-04 16:45:05
rsemmed/-2025-02-04 16:45:06
metabCombiner/-2025-02-04 16:44:42
igvR/-2025-02-04 16:44:32
Rhtslib/-2025-02-04 16:45:04
alabaster/-2025-02-04 16:43:58
missMethyl/-2025-02-04 16:44:45
methylscaper/-2025-02-04 16:44:43
GenVisR/-2025-02-04 16:44:26
Rbowtie/-2025-02-04 16:45:01
censcyt/-2025-02-04 16:44:07
ProtGenerics/-2025-02-04 16:44:59
CelliD/-2025-02-04 16:44:07
ALDEx2/-2025-02-04 16:43:58
MGFM/-2025-02-04 16:44:44
CSAR/-2025-02-04 16:44:12
rain/-2025-02-04 16:45:01
SynMut/-2025-02-04 16:45:18
regutools/-2025-02-04 16:45:03
MetaboCoreUtils/-2025-02-04 16:44:42
UCell/-2025-02-04 16:45:23
derfinderPlot/-2025-02-04 16:44:15
weitrix/-2025-02-04 16:45:25
DSS/-2025-02-04 16:44:18
GenomicOZone/-2025-02-04 16:44:26
pageRank/-2025-02-04 16:44:54
peakPantheR/-2025-02-04 16:44:55
wavClusteR/-2025-02-04 16:45:25
ggsc/-2025-02-04 16:44:27
rnaEditr/-2025-02-04 16:45:05
panp/-2025-02-04 16:44:55
plyxp/-2025-02-04 16:44:57
MungeSumstats/-2025-02-04 16:44:49
mumosa/-2025-02-04 16:44:49
BEclear/-2025-02-04 16:44:01
TFutils/-2025-02-04 16:45:20
meshes/-2025-02-04 16:44:42
spatialHeatmap/-2025-02-04 16:45:15
Dune/-2025-02-04 16:44:18
EDIRquery/-2025-02-04 16:44:19
metaseqR2/-2025-02-04 16:44:43
gINTomics/-2025-02-04 16:44:27
S4Vectors/-2025-02-04 16:45:07
Rmmquant/-2025-02-04 16:45:05
recount3/-2025-02-04 16:45:02
PROPS/-2025-02-04 16:44:59
scMultiSim/-2025-02-04 16:45:09
seqPattern/-2025-02-04 16:45:11
ensembldb/-2025-02-04 16:44:20
Cardinal/-2025-02-04 16:44:06
MicrobiomeProfiler/-2025-02-04 16:44:44
LiquidAssociation/-2025-02-04 16:44:36
ramwas/-2025-02-04 16:45:01
rols/-2025-02-04 16:45:06
katdetectr/-2025-02-04 16:44:35
PeacoQC/-2025-02-04 16:44:55
SplicingGraphs/-2025-02-04 16:45:16
Director/-2025-02-04 16:44:16
kmcut/-2025-02-04 16:44:35
plyinteractions/-2025-02-04 16:44:57
bugsigdbr/-2025-02-04 16:44:05
Doscheda/-2025-02-04 16:44:18
mdqc/-2025-02-04 16:44:39
proDA/-2025-02-04 16:44:58
tripr/-2025-02-04 16:45:22
TOAST/-2025-02-04 16:45:21
orthogene/-2025-02-04 16:44:54
ProteoDisco/-2025-02-04 16:44:59
microbiome/-2025-02-04 16:44:44
OVESEG/-2025-02-04 16:44:54
GWENA/-2025-02-04 16:44:30
TEKRABber/-2025-02-04 16:45:19
CNORfuzzy/-2025-02-04 16:44:10
clustifyr/-2025-02-04 16:44:09
GenomicDataCommons/-2025-02-04 16:44:26
FuseSOM/-2025-02-04 16:44:23
fastreeR/-2025-02-04 16:44:21
LimROTS/-2025-02-04 16:44:36
sevenC/-2025-02-04 16:45:12
scatterHatch/-2025-02-04 16:45:08
GOfuncR/-2025-02-04 16:44:28
rrvgo/-2025-02-04 16:45:06
SGCP/-2025-02-04 16:45:12
ChIPpeakAnno/-2025-02-04 16:44:08
Rqc/-2025-02-04 16:45:06
ssPATHS/-2025-02-04 16:45:17
lumi/-2025-02-04 16:44:37
AWFisher/-2025-02-04 16:44:00
msmsEDA/-2025-02-04 16:44:47
iSEEindex/-2025-02-04 16:44:34
AffyRNADegradation/-2025-02-04 16:43:57
biocViews/-2025-02-04 16:44:03
splatter/-2025-02-04 16:45:16
diffGeneAnalysis/-2025-02-04 16:44:16
clustComp/-2025-02-04 16:44:09
affycoretools/-2025-02-04 16:43:57
scmeth/-2025-02-04 16:45:09
fabia/-2025-02-04 16:44:21
CytoDx/-2025-02-04 16:44:13
TargetDecoy/-2025-02-04 16:45:19
TRONCO/-2025-02-04 16:45:22
BgeeDB/-2025-02-04 16:44:02
cliqueMS/-2025-02-04 16:44:09
ipdDb/-2025-02-04 16:44:34
dmrseq/-2025-02-04 16:44:18
SpotClean/-2025-02-04 16:45:16
RLMM/-2025-02-04 16:45:05
iterativeBMA/-2025-02-04 16:44:35
unifiedWMWqPCR/-2025-02-04 16:45:23
MethReg/-2025-02-04 16:44:43
netresponse/-2025-02-04 16:44:50
nnSVG/-2025-02-04 16:44:50
procoil/-2025-02-04 16:44:58
lefser/-2025-02-04 16:44:36
CellMixS/-2025-02-04 16:44:07
BEARscc/-2025-02-04 16:44:01
RCAS/-2025-02-04 16:45:01
PROPER/-2025-02-04 16:44:59
Motif2Site/-2025-02-04 16:44:46
rSWeeP/-2025-02-04 16:45:06
rhinotypeR/-2025-02-04 16:45:04
TRESS/-2025-02-04 16:45:22
dittoSeq/-2025-02-04 16:44:17
GPA/-2025-02-04 16:44:28
InteractionSet/-2025-02-04 16:44:33
arrayQualityMetrics/-2025-02-04 16:43:59
viper/-2025-02-04 16:45:24
alabaster.base/-2025-02-04 16:43:58
IsoBayes/-2025-02-04 16:44:34
Prostar/-2025-02-04 16:44:59
biodbNci/-2025-02-04 16:44:03
ramr/-2025-02-04 16:45:01
AnVILBase/-2025-02-04 16:43:59
qcmetrics/-2025-02-04 16:44:59
RcisTarget/-2025-02-04 16:45:02
MsFeatures/-2025-02-04 16:44:47
scTGIF/-2025-02-04 16:45:10
epivizrStandalone/-2025-02-04 16:44:20
flowDensity/-2025-02-04 16:44:22
ChIPComp/-2025-02-04 16:44:08
SpacePAC/-2025-02-04 16:45:14
PING/-2025-02-04 16:44:57
target/-2025-02-04 16:45:19
RareVariantVis/-2025-02-04 16:45:01
gypsum/-2025-02-04 16:44:30
EnrichedHeatmap/-2025-02-04 16:44:19
flowPlots/-2025-02-04 16:44:23
BioTIP/-2025-02-04 16:44:04
OCplus/-2025-02-04 16:44:51
ARRmNormalization/-2025-02-04 16:43:59
metagene2/-2025-02-04 16:44:42
ChIPQC/-2025-02-04 16:44:08
OGRE/-2025-02-04 16:44:51
MPAC/-2025-02-04 16:44:47
nucleoSim/-2025-02-04 16:44:51
mbQTL/-2025-02-04 16:44:39
miQC/-2025-02-04 16:44:45
scMET/-2025-02-04 16:45:09
DIAlignR/-2025-02-04 16:44:16
covEB/-2025-02-04 16:44:12
GEOfastq/-2025-02-04 16:44:26
skewr/-2025-02-04 16:45:13
HPiP/-2025-02-04 16:44:31
clusterStab/-2025-02-04 16:44:09
AnVILPublish/-2025-02-04 16:43:59
CCPlotR/-2025-02-04 16:44:06
GSgalgoR/-2025-02-04 16:44:29
NOISeq/-2025-02-04 16:44:51
CellTrails/-2025-02-04 16:44:07
HuBMAPR/-2025-02-04 16:44:31
IONiseR/-2025-02-04 16:44:34
BiocParallel/-2025-02-04 16:44:02
GOexpress/-2025-02-04 16:44:28
MLSeq/-2025-02-04 16:44:45
rebook/-2025-02-04 16:45:02
MWASTools/-2025-02-04 16:44:49
RAREsim/-2025-02-04 16:45:01
synapter/-2025-02-04 16:45:18
piano/-2025-02-04 16:44:56
RNAsense/-2025-02-04 16:45:05
CRImage/-2025-02-04 16:44:12
frenchFISH/-2025-02-04 16:44:23
SPIAT/-2025-02-04 16:45:15
xcms/-2025-02-04 16:45:25
miloR/-2025-02-04 16:44:44
EmpiricalBrownsMethod/-2025-02-04 16:44:19
cardelino/-2025-02-04 16:44:06
vidger/-2025-02-04 16:45:24
distinct/-2025-02-04 16:44:17
Path2PPI/-2025-02-04 16:44:55
psichomics/-2025-02-04 16:44:59
MOSim/-2025-02-04 16:44:46
arrayQuality/-2025-02-04 16:43:59
BayesKnockdown/-2025-02-04 16:44:01
RSeqAn/-2025-02-04 16:45:06
clevRvis/-2025-02-04 16:44:09
geomeTriD/-2025-02-04 16:44:26
mobileRNA/-2025-02-04 16:44:46
rfPred/-2025-02-04 16:45:03
SCArray/-2025-02-04 16:45:08
ggtreeDendro/-2025-02-04 16:44:27
RTN/-2025-02-04 16:45:07
MSA2dist/-2025-02-04 16:44:47
SLqPCR/-2025-02-04 16:45:13
PAA/-2025-02-04 16:44:54
GraphAlignment/-2025-02-04 16:44:28
YAPSA/-2025-02-04 16:45:26
sevenbridges/-2025-02-04 16:45:12
lionessR/-2025-02-04 16:44:36
FindIT2/-2025-02-04 16:44:22
BiocStyle/-2025-02-04 16:44:03
animalcules/-2025-02-04 16:43:58
BufferedMatrix/-2025-02-04 16:44:05
Banksy/-2025-02-04 16:44:00
RBM/-2025-02-04 16:45:01
minfi/-2025-02-04 16:44:45
QFeatures/-2025-02-04 16:44:59
svaRetro/-2025-02-04 16:45:18
omicade4/-2025-02-04 16:44:53
flowPeaks/-2025-02-04 16:44:23
snifter/-2025-02-04 16:45:14
projectR/-2025-02-04 16:44:58
BioQC/-2025-02-04 16:44:04
PSMatch/-2025-02-04 16:44:59
iSEEfier/-2025-02-04 16:44:34
tRNAscanImport/-2025-02-04 16:45:22
sesame/-2025-02-04 16:45:11
tidybulk/-2025-02-04 16:45:20
SPIA/-2025-02-04 16:45:15
ChromHeatMap/-2025-02-04 16:44:08
CiteFuse/-2025-02-04 16:44:09
karyoploteR/-2025-02-04 16:44:35
AgiMicroRna/-2025-02-04 16:43:57
parody/-2025-02-04 16:44:55
tidySpatialExperiment/-2025-02-04 16:45:20
GeneExpressionSignature/-2025-02-04 16:44:25
loci2path/-2025-02-04 16:44:36
broadSeq/-2025-02-04 16:44:05
AlphaBeta/-2025-02-04 16:43:58
heatmaps/-2025-02-04 16:44:30
qpgraph/-2025-02-04 16:45:00
NanoStringDiff/-2025-02-04 16:44:49
acde/-2025-02-04 16:43:55
tximeta/-2025-02-04 16:45:23
pvca/-2025-02-04 16:44:59
brendaDb/-2025-02-04 16:44:05
deconvR/-2025-02-04 16:44:14
deltaGseg/-2025-02-04 16:44:15
hypeR/-2025-02-04 16:44:32
banocc/-2025-02-04 16:44:00
raer/-2025-02-04 16:45:00
eudysbiome/-2025-02-04 16:44:21
RTNduals/-2025-02-04 16:45:07
RPA/-2025-02-04 16:45:06
IMMAN/-2025-02-04 16:44:33
Rsubread/-2025-02-04 16:45:06
ClustIRR/-2025-02-04 16:44:09
flowCut/-2025-02-04 16:44:22
NADfinder/-2025-02-04 16:44:49
mosaics/-2025-02-04 16:44:46
TMixClust/-2025-02-04 16:45:20
cogeqc/-2025-02-04 16:44:10
PanomiR/-2025-02-04 16:44:55
levi/-2025-02-04 16:44:36
fmrs/-2025-02-04 16:44:23
GeneStructureTools/-2025-02-04 16:44:25
limma/-2025-02-04 16:44:36
VplotR/-2025-02-04 16:45:25
mgsa/-2025-02-04 16:44:44
goTools/-2025-02-04 16:44:28
Rmagpie/-2025-02-04 16:45:05
skipped-index.dcf19 B2025-02-04 16:38:22
DEVEL3b.png2.6 KiB2025-02-04 16:38:22
Renviron.bioc3.3 KiB2025-02-04 16:38:22
report.js6.0 KiB2025-02-04 16:38:22
kjohnson3-NodeInfo.html6.7 KiB2025-02-04 16:38:23
lconway-NodeInfo.html6.8 KiB2025-02-04 16:38:23
nebbiolo1-NodeInfo.html6.9 KiB2025-02-04 16:38:22
120px-Red_Light_Icon.svg.png7.0 KiB2025-02-04 16:38:22
palomino7-NodeInfo.html7.0 KiB2025-02-04 16:38:22
120px-Green_Light_Icon.svg.png7.1 KiB2025-02-04 16:38:22
120px-Blue_Light_Icon.svg.png7.1 KiB2025-02-04 16:38:22
kunpeng2-NodeInfo.html7.7 KiB2025-01-30 18:08:43
report.css11.0 KiB2025-02-04 16:38:22
meat-index.dcf236.1 KiB2025-02-04 16:38:22
pkg_dep_graph.txt376.9 KiB2025-02-04 16:38:22
palomino7-R-instpkgs.html460.2 KiB2025-02-04 16:38:23
nebbiolo1-R-instpkgs.html516.8 KiB2025-02-04 16:38:23
kunpeng2-R-instpkgs.html531.9 KiB2025-01-30 18:08:43
kjohnson3-R-instpkgs.html591.0 KiB2025-02-04 16:38:23
lconway-R-instpkgs.html601.6 KiB2025-02-04 16:38:23
PROPAGATION_STATUS_DB.txt711.8 KiB2025-02-04 16:38:22
BUILD_STATUS_DB.txt1.0 MiB2025-02-04 16:38:22
index.html1.3 MiB2025-02-04 16:45:41
kunpeng2-index.html2.0 MiB2025-01-30 18:13:52
nebbiolo1-index.html2.9 MiB2025-02-04 16:45:28
palomino7-index.html3.3 MiB2025-02-04 16:45:30
lconway-index.html3.3 MiB2025-02-04 16:45:35
kjohnson3-index.html3.3 MiB2025-02-04 16:45:41
long-report.html14.0 MiB2025-02-04 16:45:56
report.tgz90.8 MiB2025-02-04 16:47:06