Back to Multiple platform build/check report for BioC 3.21:   simplified   long
[A]BCDEFGHIJKLMNOPQRSTUVWXYZ

This page was generated on 2025-02-06 11:40 -0500 (Thu, 06 Feb 2025).

HostnameOSArch (*)R versionInstalled pkgs
nebbiolo1Linux (Ubuntu 24.04.1 LTS)x86_64R Under development (unstable) (2025-01-20 r87609) -- "Unsuffered Consequences" 4719
palomino7Windows Server 2022 Datacenterx64R Under development (unstable) (2025-01-21 r87610 ucrt) -- "Unsuffered Consequences" 4480
lconwaymacOS 12.7.1 Montereyx86_64R Under development (unstable) (2025-01-22 r87618) -- "Unsuffered Consequences" 4491
kjohnson3macOS 13.7.1 Venturaarm64R Under development (unstable) (2025-01-20 r87609) -- "Unsuffered Consequences" 4444
Click on any hostname to see more info about the system (e.g. compilers)      (*) as reported by 'uname -p', except on Windows and Mac OS X

Package 58/2295HostnameOS / ArchINSTALLBUILDCHECKBUILD BIN
AlpsNMR 4.9.0  (landing page)
Sergio Oller Moreno
Snapshot Date: 2025-02-05 13:48 -0500 (Wed, 05 Feb 2025)
git_url: https://git.bioconductor.org/packages/AlpsNMR
git_branch: devel
git_last_commit: f8b70f5
git_last_commit_date: 2024-10-29 10:53:23 -0500 (Tue, 29 Oct 2024)
nebbiolo1Linux (Ubuntu 24.04.1 LTS) / x86_64  OK    OK    OK  UNNEEDED, same version is already published
palomino7Windows Server 2022 Datacenter / x64  OK    OK    OK    OK  UNNEEDED, same version is already published
lconwaymacOS 12.7.1 Monterey / x86_64  OK    OK    OK    OK  UNNEEDED, same version is already published
kjohnson3macOS 13.7.1 Ventura / arm64  OK    OK    OK    OK  UNNEEDED, same version is already published


CHECK results for AlpsNMR on palomino7

To the developers/maintainers of the AlpsNMR package:
- Allow up to 24 hours (and sometimes 48 hours) for your latest push to git@git.bioconductor.org:packages/AlpsNMR.git to reflect on this report. See Troubleshooting Build Report for more information.
- Use the following Renviron settings to reproduce errors and warnings.
- If 'R CMD check' started to fail recently on the Linux builder(s) over a missing dependency, add the missing dependency to 'Suggests:' in your DESCRIPTION file. See Renviron.bioc for more information.

raw results


Summary

Package: AlpsNMR
Version: 4.9.0
Command: E:\biocbuild\bbs-3.21-bioc\R\bin\R.exe CMD check --no-multiarch --install=check:AlpsNMR.install-out.txt --library=E:\biocbuild\bbs-3.21-bioc\R\library --no-vignettes --timings AlpsNMR_4.9.0.tar.gz
StartedAt: 2025-02-05 23:04:34 -0500 (Wed, 05 Feb 2025)
EndedAt: 2025-02-05 23:14:41 -0500 (Wed, 05 Feb 2025)
EllapsedTime: 606.4 seconds
RetCode: 0
Status:   OK  
CheckDir: AlpsNMR.Rcheck
Warnings: 0

Command output

##############################################################################
##############################################################################
###
### Running command:
###
###   E:\biocbuild\bbs-3.21-bioc\R\bin\R.exe CMD check --no-multiarch --install=check:AlpsNMR.install-out.txt --library=E:\biocbuild\bbs-3.21-bioc\R\library --no-vignettes --timings AlpsNMR_4.9.0.tar.gz
###
##############################################################################
##############################################################################


* using log directory 'E:/biocbuild/bbs-3.21-bioc/meat/AlpsNMR.Rcheck'
* using R Under development (unstable) (2025-01-21 r87610 ucrt)
* using platform: x86_64-w64-mingw32
* R was compiled by
    gcc.exe (GCC) 13.3.0
    GNU Fortran (GCC) 13.3.0
* running under: Windows Server 2022 x64 (build 20348)
* using session charset: UTF-8
* using option '--no-vignettes'
* checking for file 'AlpsNMR/DESCRIPTION' ... OK
* checking extension type ... Package
* this is package 'AlpsNMR' version '4.9.0'
* package encoding: UTF-8
* checking package namespace information ... OK
* checking package dependencies ... OK
* checking if this is a source package ... OK
* checking if there is a namespace ... OK
* checking for hidden files and directories ... OK
* checking for portable file names ... OK
* checking whether package 'AlpsNMR' can be installed ... OK
* checking installed package size ... OK
* checking package directory ... OK
* checking 'build' directory ... OK
* checking DESCRIPTION meta-information ... OK
* checking top-level files ... OK
* checking for left-over files ... OK
* checking index information ... OK
* checking package subdirectories ... OK
* checking code files for non-ASCII characters ... OK
* checking R files for syntax errors ... OK
* checking whether the package can be loaded ... OK
* checking whether the package can be loaded with stated dependencies ... OK
* checking whether the package can be unloaded cleanly ... OK
* checking whether the namespace can be loaded with stated dependencies ... OK
* checking whether the namespace can be unloaded cleanly ... OK
* checking dependencies in R code ... OK
* checking S3 generic/method consistency ... OK
* checking replacement functions ... OK
* checking foreign function calls ... OK
* checking R code for possible problems ... OK
* checking Rd files ... OK
* checking Rd metadata ... OK
* checking Rd cross-references ... NOTE
Found the following Rd file(s) with Rd \link{} targets missing package
anchors:
  filter.nmr_dataset_family.Rd: dplyr
Please provide package anchors for all Rd \link{} targets not in the
package itself and the base packages.
* checking for missing documentation entries ... OK
* checking for code/documentation mismatches ... OK
* checking Rd \usage sections ... OK
* checking Rd contents ... OK
* checking for unstated dependencies in examples ... OK
* checking contents of 'data' directory ... OK
* checking data for non-ASCII characters ... OK
* checking data for ASCII and uncompressed saves ... OK
* checking sizes of PDF files under 'inst/doc' ... OK
* checking files in 'vignettes' ... OK
* checking examples ... OK
Examples with CPU (user + system) or elapsed time > 5s
                                               user system elapsed
SummarizedExperiment_to_nmr_data_1r            6.76   0.29   11.28
nmr_pca_outliers_robust                        6.22   0.12   10.64
Peak_detection                                 2.98   0.27   29.67
plsda_auroc_vip_compare                        2.92   0.03   18.77
nmr_meta_add                                   2.25   0.08   11.40
permutation_test_model                         2.23   0.03   15.81
permutation_test_plot                          2.19   0.03   16.38
bp_VIP_analysis                                2.10   0.05   14.00
nmr_interpolate_1D                             1.91   0.14   11.01
nmr_pca_build_model                            1.94   0.11   14.00
validate_nmr_dataset                           1.96   0.06   10.70
nmr_read_samples                               1.81   0.08   10.39
nmr_data_analysis                              1.54   0.05   10.11
AlpsNMR-package                                1.38   0.14    6.66
models_stability_plot_plsda                    1.44   0.05   10.14
plot_plsda_multimodel                          1.42   0.04    9.27
nmr_data_1r_to_SummarizedExperiment            1.36   0.09    6.20
bp_kfold_VIP_analysis                          1.33   0.08    9.67
plot_plsda_samples                             1.31   0.02    8.45
SummarizedExperiment_to_nmr_dataset_peak_table 1.18   0.15    5.83
to_ChemoSpec                                   1.20   0.10    5.85
nmr_dataset_peak_table_to_SummarizedExperiment 1.27   0.02    5.96
nmr_pca_outliers_filter                        1.16   0.06    5.50
tidy.nmr_dataset_1D                            1.08   0.05    5.73
nmr_pca_outliers                               1.09   0.02    5.92
print.nmr_dataset_peak_table                   1.03   0.05    5.42
sub-.nmr_dataset_1D                            1.04   0.03    5.46
filter.nmr_dataset_family                      1.04   0.01    5.67
print.nmr_dataset_1D                           0.97   0.08    5.14
sub-.nmr_dataset_peak_table                    1.02   0.03    5.56
is.nmr_dataset_peak_table                      1.02   0.02    5.58
validate_nmr_dataset_family                    0.98   0.03    5.25
format.nmr_dataset_1D                          0.97   0.03    5.25
new_nmr_dataset_peak_table                     0.97   0.03    5.79
sub-.nmr_dataset                               0.96   0.03    5.47
format.nmr_dataset_peak_table                  0.87   0.11    5.36
nmr_meta_get                                   0.97   0.01    5.45
plot_interactive                               0.94   0.04    5.28
nmr_autophase                                  0.88   0.09    5.44
is.nmr_dataset                                 0.94   0.01    5.43
nmr_meta_get_column                            0.91   0.02    5.22
nmr_meta_export                                0.89   0.03    5.51
nmr_export_data_1r                             0.89   0.02    5.44
format.nmr_dataset                             0.88   0.02    5.17
is.nmr_dataset_1D                              0.87   0.03    5.78
print.nmr_dataset                              0.86   0.03    5.23
load_and_save_functions                        0.87   0.00    5.28
nmr_meta_groups                                0.81   0.03    6.41
* checking for unstated dependencies in 'tests' ... OK
* checking tests ...
  Running 'testthat.R'
 OK
* checking for unstated dependencies in vignettes ... OK
* checking package vignettes ... OK
* checking running R code from vignettes ... SKIPPED
* checking re-building of vignette outputs ... SKIPPED
* checking PDF version of manual ... OK
* DONE

Status: 1 NOTE
See
  'E:/biocbuild/bbs-3.21-bioc/meat/AlpsNMR.Rcheck/00check.log'
for details.


Installation output

AlpsNMR.Rcheck/00install.out

##############################################################################
##############################################################################
###
### Running command:
###
###   E:\biocbuild\bbs-3.21-bioc\R\bin\R.exe CMD INSTALL AlpsNMR
###
##############################################################################
##############################################################################


* installing to library 'E:/biocbuild/bbs-3.21-bioc/R/library'
* installing *source* package 'AlpsNMR' ...
** this is package 'AlpsNMR' version '4.9.0'
** using staged installation
** R
** data
** inst
** byte-compile and prepare package for lazy loading
** help
*** installing help indices
*** copying figures
** building package indices
** installing vignettes
** testing if installed package can be loaded from temporary location
** testing if installed package can be loaded from final location
** testing if installed package keeps a record of temporary installation path
* DONE (AlpsNMR)

Tests output

AlpsNMR.Rcheck/tests/testthat.Rout


R Under development (unstable) (2025-01-21 r87610 ucrt) -- "Unsuffered Consequences"
Copyright (C) 2025 The R Foundation for Statistical Computing
Platform: x86_64-w64-mingw32/x64

R is free software and comes with ABSOLUTELY NO WARRANTY.
You are welcome to redistribute it under certain conditions.
Type 'license()' or 'licence()' for distribution details.

R is a collaborative project with many contributors.
Type 'contributors()' for more information and
'citation()' on how to cite R or R packages in publications.

Type 'demo()' for some demos, 'help()' for on-line help, or
'help.start()' for an HTML browser interface to help.
Type 'q()' to quit R.

> library(testthat)
> library(AlpsNMR)

Attaching package: 'AlpsNMR'

The following object is masked from 'package:stats':

    filter

> 
> test_check("AlpsNMR")
[ FAIL 0 | WARN 0 | SKIP 1 | PASS 93 ]

══ Skipped tests (1) ═══════════════════════════════════════════════════════════
• On Bioconductor (1): 'test_rDolphin.R:2:5'

[ FAIL 0 | WARN 0 | SKIP 1 | PASS 93 ]
> 
> proc.time()
   user  system elapsed 
  24.18    1.35   82.10 

Example timings

AlpsNMR.Rcheck/AlpsNMR-Ex.timings

nameusersystemelapsed
AlpsNMR-package1.380.146.66
HMDB_blood0.000.020.01
HMDB_cell0.000.020.02
HMDB_urine0.020.000.01
Parameters_blood000
Parameters_cell000
Parameters_urine0.000.010.02
Peak_detection 2.98 0.2729.67
Pipelines0.000.010.02
ROI_blood000
ROI_cell0.000.020.01
ROI_urine0.020.000.02
SummarizedExperiment_to_nmr_data_1r 6.76 0.2911.28
SummarizedExperiment_to_nmr_dataset_peak_table1.180.155.83
bp_VIP_analysis 2.10 0.0514.00
bp_kfold_VIP_analysis1.330.089.67
download_MTBLS242000
file_lister0.080.000.18
files_to_rDolphin000
filter.nmr_dataset_family1.040.015.67
format.nmr_dataset0.880.025.17
format.nmr_dataset_1D0.970.035.25
format.nmr_dataset_peak_table0.870.115.36
get_integration_with_metadata0.050.000.11
hmdb0.060.080.14
is.nmr_dataset0.940.015.43
is.nmr_dataset_1D0.870.035.78
is.nmr_dataset_peak_table1.020.025.58
load_and_save_functions0.870.005.28
models_stability_plot_bootstrap000
models_stability_plot_plsda 1.44 0.0510.14
new_nmr_dataset000
new_nmr_dataset_1D000
new_nmr_dataset_peak_table0.970.035.79
nmr_autophase0.880.095.44
nmr_baseline_estimation0.000.000.06
nmr_baseline_removal000
nmr_baseline_threshold000
nmr_baseline_threshold_plot0.20.00.2
nmr_batman000
nmr_batman_options000
nmr_build_peak_table0.040.000.03
nmr_data0.060.000.07
nmr_data_1r_to_SummarizedExperiment1.360.096.20
nmr_data_analysis 1.54 0.0510.11
nmr_dataset000
nmr_dataset_1D0.020.000.01
nmr_dataset_peak_table_to_SummarizedExperiment1.270.025.96
nmr_exclude_region000
nmr_export_data_1r0.890.025.44
nmr_get_peak_distances0.010.000.02
nmr_identify_regions_blood0.020.000.01
nmr_identify_regions_cell0.010.000.02
nmr_identify_regions_urine0.030.000.03
nmr_integrate_regions000
nmr_interpolate_1D 1.91 0.1411.01
nmr_meta_add 2.25 0.0811.40
nmr_meta_export0.890.035.51
nmr_meta_get0.970.015.45
nmr_meta_get_column0.910.025.22
nmr_meta_groups0.810.036.41
nmr_normalize0.250.000.25
nmr_pca_build_model 1.94 0.1114.00
nmr_pca_outliers1.090.025.92
nmr_pca_outliers_filter1.160.065.50
nmr_pca_outliers_plot000
nmr_pca_outliers_robust 6.22 0.1210.64
nmr_pca_plots0.430.000.44
nmr_peak_clustering0.100.000.09
nmr_ppm_resolution0.010.000.02
nmr_read_bruker_fid000
nmr_read_samples 1.81 0.0810.39
nmr_zip_bruker_samples0.040.030.42
peaklist_accept_peaks000
permutation_test_model 2.23 0.0315.81
permutation_test_plot 2.19 0.0316.38
plot.nmr_dataset_1D000
plot_bootstrap_multimodel000
plot_interactive0.940.045.28
plot_plsda_multimodel1.420.049.27
plot_plsda_samples1.310.028.45
plot_vip_scores0.020.000.01
plot_webgl000
plsda_auroc_vip_compare 2.92 0.0318.77
plsda_auroc_vip_method000
ppm_resolution0.010.000.02
print.nmr_dataset0.860.035.23
print.nmr_dataset_1D0.970.085.14
print.nmr_dataset_peak_table1.030.055.42
random_subsampling0.010.000.01
save_files_to_rDolphin000
save_profiling_output000
sub-.nmr_dataset0.960.035.47
sub-.nmr_dataset_1D1.040.035.46
sub-.nmr_dataset_peak_table1.020.035.56
tidy.nmr_dataset_1D1.080.055.73
to_ASICS1.060.181.25
to_ChemoSpec1.200.105.85
validate_nmr_dataset 1.96 0.0610.70
validate_nmr_dataset_family0.980.035.25
validate_nmr_dataset_peak_table000
zzz0.000.002.03