Back to Multiple platform build/check report for BioC 3.21:   simplified   long
A[B]CDEFGHIJKLMNOPQRSTUVWXYZ

This page was generated on 2025-02-06 11:43 -0500 (Thu, 06 Feb 2025).

HostnameOSArch (*)R versionInstalled pkgs
nebbiolo1Linux (Ubuntu 24.04.1 LTS)x86_64R Under development (unstable) (2025-01-20 r87609) -- "Unsuffered Consequences" 4719
palomino7Windows Server 2022 Datacenterx64R Under development (unstable) (2025-01-21 r87610 ucrt) -- "Unsuffered Consequences" 4480
lconwaymacOS 12.7.1 Montereyx86_64R Under development (unstable) (2025-01-22 r87618) -- "Unsuffered Consequences" 4491
kjohnson3macOS 13.7.1 Venturaarm64R Under development (unstable) (2025-01-20 r87609) -- "Unsuffered Consequences" 4444
Click on any hostname to see more info about the system (e.g. compilers)      (*) as reported by 'uname -p', except on Windows and Mac OS X

Package 170/2295HostnameOS / ArchINSTALLBUILDCHECKBUILD BIN
BindingSiteFinder 2.5.2  (landing page)
Mirko Brüggemann
Snapshot Date: 2025-02-05 13:48 -0500 (Wed, 05 Feb 2025)
git_url: https://git.bioconductor.org/packages/BindingSiteFinder
git_branch: devel
git_last_commit: d7f7545
git_last_commit_date: 2024-11-20 15:23:27 -0500 (Wed, 20 Nov 2024)
nebbiolo1Linux (Ubuntu 24.04.1 LTS) / x86_64  OK    OK    OK  UNNEEDED, same version is already published
palomino7Windows Server 2022 Datacenter / x64  OK    OK    OK    OK  UNNEEDED, same version is already published
lconwaymacOS 12.7.1 Monterey / x86_64  OK    OK    OK    OK  YES
kjohnson3macOS 13.7.1 Ventura / arm64  OK    OK    OK    OK  YES


CHECK results for BindingSiteFinder on kjohnson3

To the developers/maintainers of the BindingSiteFinder package:
- Allow up to 24 hours (and sometimes 48 hours) for your latest push to git@git.bioconductor.org:packages/BindingSiteFinder.git to reflect on this report. See Troubleshooting Build Report for more information.
- Use the following Renviron settings to reproduce errors and warnings.
- If 'R CMD check' started to fail recently on the Linux builder(s) over a missing dependency, add the missing dependency to 'Suggests:' in your DESCRIPTION file. See Renviron.bioc for more information.

raw results


Summary

Package: BindingSiteFinder
Version: 2.5.2
Command: /Library/Frameworks/R.framework/Resources/bin/R CMD check --install=check:BindingSiteFinder.install-out.txt --library=/Library/Frameworks/R.framework/Resources/library --no-vignettes --timings BindingSiteFinder_2.5.2.tar.gz
StartedAt: 2025-02-05 18:16:06 -0500 (Wed, 05 Feb 2025)
EndedAt: 2025-02-05 18:20:52 -0500 (Wed, 05 Feb 2025)
EllapsedTime: 286.4 seconds
RetCode: 0
Status:   OK  
CheckDir: BindingSiteFinder.Rcheck
Warnings: 0

Command output

##############################################################################
##############################################################################
###
### Running command:
###
###   /Library/Frameworks/R.framework/Resources/bin/R CMD check --install=check:BindingSiteFinder.install-out.txt --library=/Library/Frameworks/R.framework/Resources/library --no-vignettes --timings BindingSiteFinder_2.5.2.tar.gz
###
##############################################################################
##############################################################################


* using log directory ‘/Users/biocbuild/bbs-3.21-bioc/meat/BindingSiteFinder.Rcheck’
* using R Under development (unstable) (2025-01-20 r87609)
* using platform: aarch64-apple-darwin20
* R was compiled by
    Apple clang version 14.0.0 (clang-1400.0.29.202)
    GNU Fortran (GCC) 14.2.0
* running under: macOS Ventura 13.7.1
* using session charset: UTF-8
* using option ‘--no-vignettes’
* checking for file ‘BindingSiteFinder/DESCRIPTION’ ... OK
* checking extension type ... Package
* this is package ‘BindingSiteFinder’ version ‘2.5.2’
* package encoding: UTF-8
* checking package namespace information ... OK
* checking package dependencies ... OK
* checking if this is a source package ... OK
* checking if there is a namespace ... OK
* checking for hidden files and directories ... OK
* checking for portable file names ... OK
* checking for sufficient/correct file permissions ... OK
* checking whether package ‘BindingSiteFinder’ can be installed ... OK
* checking installed package size ... OK
* checking package directory ... OK
* checking ‘build’ directory ... OK
* checking DESCRIPTION meta-information ... OK
* checking top-level files ... OK
* checking for left-over files ... OK
* checking index information ... OK
* checking package subdirectories ... OK
* checking code files for non-ASCII characters ... OK
* checking R files for syntax errors ... OK
* checking whether the package can be loaded ... OK
* checking whether the package can be loaded with stated dependencies ... OK
* checking whether the package can be unloaded cleanly ... OK
* checking whether the namespace can be loaded with stated dependencies ... OK
* checking whether the namespace can be unloaded cleanly ... OK
* checking dependencies in R code ... OK
* checking S3 generic/method consistency ... OK
* checking replacement functions ... OK
* checking foreign function calls ... OK
* checking R code for possible problems ... OK
* checking Rd files ... OK
* checking Rd metadata ... OK
* checking Rd cross-references ... NOTE
Found the following Rd file(s) with Rd \link{} targets missing package
anchors:
  BSFind.Rd: GenomicRanges, CompressedGRangesList
  annotateWithScore.Rd: GenomicRanges
  assignToGenes.Rd: GenomicRanges, overlaps
  assignToTranscriptRegions.Rd: CompressedGRangesList, overlaps
  bindingSiteDefinednessPlot.Rd: ggplot
  calculateBsBackground.Rd: GenomicRanges
  duplicatedSitesPlot.Rd: ggplot
  estimateBsWidth.Rd: GenomicRanges
  estimateBsWidthPlot.Rd: ggplot
  geneOverlapsPlot.Rd: ggplot
  globalScorePlot.Rd: ggplot
  makeBsSummaryPlot.Rd: ggplot
  mergeCrosslinkDiagnosticsPlot.Rd: ggplot
  plotBsBackgroundFilter.Rd: ggplot
  plotBsMA.Rd: ggplot
  plotBsVolcano.Rd: ggplot
  processingStepsFlowChart.Rd: ggplot
  pureClipGeneWiseFilter.Rd: GenomicRanges, overlaps
  pureClipGlobalFilter.Rd: GenomicRanges
  pureClipGlobalFilterPlot.Rd: ggplot
  reproducibilityFilterPlot.Rd: ggplot
  reproducibilitySamplesPlot.Rd: ggplot
  targetGeneSpectrumPlot.Rd: ggplot
  transcriptRegionOverlapsPlot.Rd: ggplot
  transcriptRegionSpectrumPlot.Rd: ggplot
Please provide package anchors for all Rd \link{} targets not in the
package itself and the base packages.
* checking for missing documentation entries ... OK
* checking for code/documentation mismatches ... OK
* checking Rd \usage sections ... OK
* checking Rd contents ... OK
* checking for unstated dependencies in examples ... OK
* checking files in ‘vignettes’ ... OK
* checking examples ... OK
Examples with CPU (user + system) or elapsed time > 5s
                            user system elapsed
quickFigure                9.337  0.134   9.492
BSFind                     8.668  0.198   9.033
bindingSiteDefinednessPlot 8.602  0.183   8.841
processingStepsFlowChart   8.537  0.166   8.743
calculateBsFoldChange      6.030  0.121   6.154
* checking for unstated dependencies in ‘tests’ ... OK
* checking tests ...
  Running ‘testthat.R’
 OK
* checking for unstated dependencies in vignettes ... OK
* checking package vignettes ... OK
* checking running R code from vignettes ... SKIPPED
* checking re-building of vignette outputs ... SKIPPED
* checking PDF version of manual ... OK
* DONE

Status: 1 NOTE
See
  ‘/Users/biocbuild/bbs-3.21-bioc/meat/BindingSiteFinder.Rcheck/00check.log’
for details.


Installation output

BindingSiteFinder.Rcheck/00install.out

##############################################################################
##############################################################################
###
### Running command:
###
###   /Library/Frameworks/R.framework/Resources/bin/R CMD INSTALL BindingSiteFinder
###
##############################################################################
##############################################################################


* installing to library ‘/Library/Frameworks/R.framework/Versions/4.5-arm64/Resources/library’
* installing *source* package ‘BindingSiteFinder’ ...
** this is package ‘BindingSiteFinder’ version ‘2.5.2’
** using staged installation
** R
** inst
** byte-compile and prepare package for lazy loading
** help
*** installing help indices
** building package indices
** installing vignettes
** testing if installed package can be loaded from temporary location
** testing if installed package can be loaded from final location
** testing if installed package keeps a record of temporary installation path
* DONE (BindingSiteFinder)

Tests output

BindingSiteFinder.Rcheck/tests/testthat.Rout


R Under development (unstable) (2025-01-20 r87609) -- "Unsuffered Consequences"
Copyright (C) 2025 The R Foundation for Statistical Computing
Platform: aarch64-apple-darwin20

R is free software and comes with ABSOLUTELY NO WARRANTY.
You are welcome to redistribute it under certain conditions.
Type 'license()' or 'licence()' for distribution details.

R is a collaborative project with many contributors.
Type 'contributors()' for more information and
'citation()' on how to cite R or R packages in publications.

Type 'demo()' for some demos, 'help()' for on-line help, or
'help.start()' for an HTML browser interface to help.
Type 'q()' to quit R.

> library("testthat")
> library("BindingSiteFinder")
Loading required package: GenomicRanges
Loading required package: stats4
Loading required package: BiocGenerics
Loading required package: generics

Attaching package: 'generics'

The following objects are masked from 'package:base':

    as.difftime, as.factor, as.ordered, intersect, is.element, setdiff,
    setequal, union


Attaching package: 'BiocGenerics'

The following objects are masked from 'package:stats':

    IQR, mad, sd, var, xtabs

The following objects are masked from 'package:base':

    Filter, Find, Map, Position, Reduce, anyDuplicated, aperm, append,
    as.data.frame, basename, cbind, colnames, dirname, do.call,
    duplicated, eval, evalq, get, grep, grepl, is.unsorted, lapply,
    mapply, match, mget, order, paste, pmax, pmax.int, pmin, pmin.int,
    rank, rbind, rownames, sapply, saveRDS, table, tapply, unique,
    unsplit, which.max, which.min

Loading required package: S4Vectors

Attaching package: 'S4Vectors'

The following object is masked from 'package:utils':

    findMatches

The following objects are masked from 'package:base':

    I, expand.grid, unname

Loading required package: IRanges
Loading required package: GenomeInfoDb
> test_check("BindingSiteFinder")
[1] "make bs"
[1] "calc ratio"
[1] "make bs"
[1] "calc ratio"
[ FAIL 0 | WARN 0 | SKIP 0 | PASS 240 ]
> 
> proc.time()
   user  system elapsed 
 79.525   1.593  81.440 

Example timings

BindingSiteFinder.Rcheck/BindingSiteFinder-Ex.timings

nameusersystemelapsed
BSFDataSet0.0570.0040.069
BSFind8.6680.1989.033
add-BSFDataSet0.6640.0310.711
annotateWithScore0.4390.0180.514
assignToGenes0.6240.0130.636
assignToTranscriptRegions0.7290.0090.738
bindingSiteCoveragePlot3.9740.1344.200
bindingSiteDefinednessPlot8.6020.1838.841
calculateBsBackground1.4490.0341.484
calculateBsFoldChange6.0300.1216.154
calculateSignalToFlankScore0.4890.0160.506
clipCoverage0.5580.0110.572
collapseReplicates0.0530.0020.056
combineBSF0.9770.0381.022
coverageOverRanges0.3270.0170.344
duplicatedSitesPlot0.1950.0060.203
estimateBsWidth3.4010.0853.500
estimateBsWidthPlot2.8910.0822.977
exportTargetGenes0.0090.0010.011
exportToBED0.0090.0010.011
filterBsBackground1.1460.0211.169
geneOverlapsPlot0.8490.0150.868
getMeta0.0110.0000.012
getName0.0100.0010.011
getRanges0.0160.0010.017
getSignal0.0220.0010.024
getSummary0.3850.0070.397
globalScorePlot0.4540.0100.466
imputeBsDifferencesForTestdata0.6940.0120.711
makeBindingSites0.7460.0160.764
makeBsSummaryPlot0.3980.0080.409
mergeCrosslinkDiagnosticsPlot0.4470.0060.454
mergeSummaryPlot1.1860.0311.229
plotBsBackgroundFilter1.5540.0401.598
plotBsMA4.1660.0424.212
plotBsVolcano3.8790.0513.941
processingStepsFlowChart8.5370.1668.743
processingStepsTable0.0220.0010.022
pureClipGeneWiseFilter0.1140.0040.118
pureClipGlobalFilter0.0200.0020.022
pureClipGlobalFilterPlot0.0860.0030.089
quickFigure9.3370.1349.492
rangeCoveragePlot1.7380.0481.789
reproducibilityCutoffPlot0.8040.0190.830
reproducibilityFilter0.4900.0070.498
reproducibilityFilterPlot0.6050.0150.625
reproducibilitySamplesPlot0.5490.0170.574
reproducibilityScatterPlot1.7030.0331.760
setMeta0.0120.0010.012
setName0.0100.0010.012
setRanges0.0280.0010.038
setSignal0.0190.0010.020
setSummary0.0100.0010.011
show0.0110.0010.011
subset-BSFDataSet0.0140.0000.015
summary0.0180.0010.019
supportRatio0.9890.0181.019
supportRatioPlot1.0350.0241.078
targetGeneSpectrumPlot0.6530.0130.673
transcriptRegionOverlapsPlot0.7110.0120.725
transcriptRegionSpectrumPlot0.7450.0100.757