Back to Multiple platform build/check report for BioC 3.21:   simplified   long
A[B]CDEFGHIJKLMNOPQRSTUVWXYZ

This page was generated on 2025-02-06 11:38 -0500 (Thu, 06 Feb 2025).

HostnameOSArch (*)R versionInstalled pkgs
nebbiolo1Linux (Ubuntu 24.04.1 LTS)x86_64R Under development (unstable) (2025-01-20 r87609) -- "Unsuffered Consequences" 4719
palomino7Windows Server 2022 Datacenterx64R Under development (unstable) (2025-01-21 r87610 ucrt) -- "Unsuffered Consequences" 4480
lconwaymacOS 12.7.1 Montereyx86_64R Under development (unstable) (2025-01-22 r87618) -- "Unsuffered Consequences" 4491
kjohnson3macOS 13.7.1 Venturaarm64R Under development (unstable) (2025-01-20 r87609) -- "Unsuffered Consequences" 4444
Click on any hostname to see more info about the system (e.g. compilers)      (*) as reported by 'uname -p', except on Windows and Mac OS X

All results for package BiocNeighbors


To the developers/maintainers of the BiocNeighbors package:
- Allow up to 24 hours (and sometimes 48 hours) for your latest push to git@git.bioconductor.org:packages/BiocNeighbors.git to reflect on this report. See Troubleshooting Build Report for more information.
- Use the following Renviron settings to reproduce errors and warnings.
- If 'R CMD check' started to fail recently on the Linux builder(s) over a missing dependency, add the missing dependency to 'Suggests:' in your DESCRIPTION file. See Renviron.bioc for more information.

raw results

Package 188/2295HostnameOS / ArchINSTALLBUILDCHECKBUILD BIN
BiocNeighbors 2.1.2  (landing page)
Aaron Lun
Snapshot Date: 2025-02-05 13:48 -0500 (Wed, 05 Feb 2025)
git_url: https://git.bioconductor.org/packages/BiocNeighbors
git_branch: devel
git_last_commit: 4407310
git_last_commit_date: 2024-12-09 13:26:09 -0500 (Mon, 09 Dec 2024)
nebbiolo1Linux (Ubuntu 24.04.1 LTS) / x86_64  OK    OK    OK  UNNEEDED, same version is already published
palomino7Windows Server 2022 Datacenter / x64  OK    OK    WARNINGS    OK  UNNEEDED, same version is already published
lconwaymacOS 12.7.1 Monterey / x86_64  OK    OK    OK    OK  UNNEEDED, same version is already published
kjohnson3macOS 13.7.1 Ventura / arm64  OK    OK    OK    OK  UNNEEDED, same version is already published



Results for Bioconductor software packages that depend directly on package BiocNeighbors

QUICK STATSOS / ArchINSTALLBUILDCHECKBUILD BIN
nebbiolo1Linux (Ubuntu 24.04.1 LTS) / x86_64
0019
0019
00118
palomino7Windows Server 2022 Datacenter / x64
0019
0019
00118
0019
lconwaymacOS 12.7.1 Monterey / x86_64
0019
0019
00118
0019
kjohnson3macOS 13.7.1 Ventura / arm64
0019
0019
03115
0019
Package 1/19HostnameOS / ArchINSTALLBUILDCHECKBUILD BIN
batchelor 1.23.0  (landing page)
Aaron Lun
git_last_commit: 045cc75
git_last_commit_date: 2024-10-29 10:35:58 -0500
nebbiolo1Linux (Ubuntu 24.04.1 LTS) / x86_64  OK    OK    OK  UNNEEDED, same version is already published
palomino7Windows Server 2022 Datacenter / x64  OK    OK    OK    OK  UNNEEDED, same version is already published
lconwaymacOS 12.7.1 Monterey / x86_64  OK    OK    OK    OK  UNNEEDED, same version is already published
kjohnson3macOS 13.7.1 Ventura / arm64  OK    OK    OK    OK  UNNEEDED, same version is already published
Package 2/19HostnameOS / ArchINSTALLBUILDCHECKBUILD BIN
bluster 1.17.0  (landing page)
Aaron Lun
git_last_commit: 510e7a1
git_last_commit_date: 2024-10-29 10:48:33 -0500
nebbiolo1Linux (Ubuntu 24.04.1 LTS) / x86_64  OK    OK    OK  UNNEEDED, same version is already published
palomino7Windows Server 2022 Datacenter / x64  OK    OK    OK    OK  UNNEEDED, same version is already published
lconwaymacOS 12.7.1 Monterey / x86_64  OK    OK    OK    OK  UNNEEDED, same version is already published
kjohnson3macOS 13.7.1 Ventura / arm64  OK    OK    OK    OK  UNNEEDED, same version is already published
Package 3/19HostnameOS / ArchINSTALLBUILDCHECKBUILD BIN
CellMixS 1.23.0  (landing page)
Almut Lütge
git_last_commit: 0d878da
git_last_commit_date: 2024-10-29 10:36:09 -0500
nebbiolo1Linux (Ubuntu 24.04.1 LTS) / x86_64  OK    OK    OK  UNNEEDED, same version is already published
palomino7Windows Server 2022 Datacenter / x64  OK    OK    OK    OK  UNNEEDED, same version is already published
lconwaymacOS 12.7.1 Monterey / x86_64  OK    OK    OK    OK  UNNEEDED, same version is already published
kjohnson3macOS 13.7.1 Ventura / arm64  OK    OK    OK    OK  UNNEEDED, same version is already published
Package 4/19HostnameOS / ArchINSTALLBUILDCHECKBUILD BIN
concordexR 1.7.1  (landing page)
Kayla Jackson
git_last_commit: 82b99bd
git_last_commit_date: 2025-01-16 20:22:51 -0500
nebbiolo1Linux (Ubuntu 24.04.1 LTS) / x86_64  OK    OK    OK  UNNEEDED, same version is already published
palomino7Windows Server 2022 Datacenter / x64  OK    OK    OK    OK  UNNEEDED, same version is already published
lconwaymacOS 12.7.1 Monterey / x86_64  OK    OK    OK    OK  UNNEEDED, same version is already published
kjohnson3macOS 13.7.1 Ventura / arm64  OK    OK    OK    OK  UNNEEDED, same version is already published
Package 5/19HostnameOS / ArchINSTALLBUILDCHECKBUILD BIN
cydar 1.31.0  (landing page)
Aaron Lun
git_last_commit: 8dc413e
git_last_commit_date: 2024-10-29 10:18:13 -0500
nebbiolo1Linux (Ubuntu 24.04.1 LTS) / x86_64  OK    OK    OK  UNNEEDED, same version is already published
palomino7Windows Server 2022 Datacenter / x64  OK    OK    OK    OK  UNNEEDED, same version is already published
lconwaymacOS 12.7.1 Monterey / x86_64  OK    OK    OK    OK  UNNEEDED, same version is already published
kjohnson3macOS 13.7.1 Ventura / arm64  OK    OK    OK    OK  UNNEEDED, same version is already published
Package 6/19HostnameOS / ArchINSTALLBUILDCHECKBUILD BIN
GeDi 1.3.0  (landing page)
Annekathrin Nedwed
git_last_commit: 8157757
git_last_commit_date: 2024-10-29 11:30:20 -0500
nebbiolo1Linux (Ubuntu 24.04.1 LTS) / x86_64  OK    OK    OK  UNNEEDED, same version is already published
palomino7Windows Server 2022 Datacenter / x64  OK    OK    OK    OK  UNNEEDED, same version is already published
lconwaymacOS 12.7.1 Monterey / x86_64  OK    OK    OK    OK  UNNEEDED, same version is already published
kjohnson3macOS 13.7.1 Ventura / arm64  OK    OK    OK    OK  UNNEEDED, same version is already published
Package 7/19HostnameOS / ArchINSTALLBUILDCHECKBUILD BIN
imcRtools 1.13.0  (landing page)
Daniel Schulz
git_last_commit: 19f5a4b
git_last_commit_date: 2024-10-29 11:04:39 -0500
nebbiolo1Linux (Ubuntu 24.04.1 LTS) / x86_64  OK    OK    OK  UNNEEDED, same version is already published
palomino7Windows Server 2022 Datacenter / x64  OK    OK    OK    OK  UNNEEDED, same version is already published
lconwaymacOS 12.7.1 Monterey / x86_64  OK    OK    OK    OK  UNNEEDED, same version is already published
kjohnson3macOS 13.7.1 Ventura / arm64  OK    OK    ERROR    OK  
Package 8/19HostnameOS / ArchINSTALLBUILDCHECKBUILD BIN
lemur 1.5.0  (landing page)
Constantin Ahlmann-Eltze
git_last_commit: 6e2e508
git_last_commit_date: 2024-10-29 11:25:12 -0500
nebbiolo1Linux (Ubuntu 24.04.1 LTS) / x86_64  OK    OK    WARNINGS  UNNEEDED, same version is already published
palomino7Windows Server 2022 Datacenter / x64  OK    OK    WARNINGS    OK  UNNEEDED, same version is already published
lconwaymacOS 12.7.1 Monterey / x86_64  OK    OK    WARNINGS    OK  UNNEEDED, same version is already published
kjohnson3macOS 13.7.1 Ventura / arm64  OK    OK    WARNINGS    OK  UNNEEDED, same version is already published
Package 9/19HostnameOS / ArchINSTALLBUILDCHECKBUILD BIN
miloR 2.3.0  (landing page)
Mike Morgan
git_last_commit: 959804d
git_last_commit_date: 2024-10-29 10:59:29 -0500
nebbiolo1Linux (Ubuntu 24.04.1 LTS) / x86_64  OK    OK    OK  UNNEEDED, same version is already published
palomino7Windows Server 2022 Datacenter / x64  OK    OK    OK    OK  UNNEEDED, same version is already published
lconwaymacOS 12.7.1 Monterey / x86_64  OK    OK    OK    OK  UNNEEDED, same version is already published
kjohnson3macOS 13.7.1 Ventura / arm64  OK    OK    OK    OK  UNNEEDED, same version is already published
Package 10/19HostnameOS / ArchINSTALLBUILDCHECKBUILD BIN
mumosa 1.15.0  (landing page)
Aaron Lun
git_last_commit: df075a8
git_last_commit_date: 2024-10-29 10:54:13 -0500
nebbiolo1Linux (Ubuntu 24.04.1 LTS) / x86_64  OK    OK    OK  UNNEEDED, same version is already published
palomino7Windows Server 2022 Datacenter / x64  OK    OK    OK    OK  UNNEEDED, same version is already published
lconwaymacOS 12.7.1 Monterey / x86_64  OK    OK    OK    OK  UNNEEDED, same version is already published
kjohnson3macOS 13.7.1 Ventura / arm64  OK    OK    OK    OK  UNNEEDED, same version is already published
Package 11/19HostnameOS / ArchINSTALLBUILDCHECKBUILD BIN
scater 1.35.1  (landing page)
Alan O'Callaghan
git_last_commit: 3fc1ffa
git_last_commit_date: 2025-01-31 16:15:29 -0500
nebbiolo1Linux (Ubuntu 24.04.1 LTS) / x86_64  OK    OK    OK  UNNEEDED, same version is already published
palomino7Windows Server 2022 Datacenter / x64  OK    OK    OK    OK  UNNEEDED, same version is already published
lconwaymacOS 12.7.1 Monterey / x86_64  OK    OK    OK    OK  UNNEEDED, same version is already published
kjohnson3macOS 13.7.1 Ventura / arm64  OK    OK    ERROR    OK  
Package 12/19HostnameOS / ArchINSTALLBUILDCHECKBUILD BIN
scDblFinder 1.21.1  (landing page)
Pierre-Luc Germain
git_last_commit: a490046
git_last_commit_date: 2025-01-08 04:09:42 -0500
nebbiolo1Linux (Ubuntu 24.04.1 LTS) / x86_64  OK    OK    OK  UNNEEDED, same version is already published
palomino7Windows Server 2022 Datacenter / x64  OK    OK    OK    OK  UNNEEDED, same version is already published
lconwaymacOS 12.7.1 Monterey / x86_64  OK    OK    OK    OK  YES
kjohnson3macOS 13.7.1 Ventura / arm64  OK    OK    OK    OK  YES
Package 13/19HostnameOS / ArchINSTALLBUILDCHECKBUILD BIN
scMerge 1.23.0  (landing page)
Yingxin Lin
git_last_commit: d99a8f2
git_last_commit_date: 2024-10-29 10:37:00 -0500
nebbiolo1Linux (Ubuntu 24.04.1 LTS) / x86_64  OK    OK    OK  UNNEEDED, same version is already published
palomino7Windows Server 2022 Datacenter / x64  OK    OK    OK    OK  UNNEEDED, same version is already published
lconwaymacOS 12.7.1 Monterey / x86_64  OK    OK    OK    OK  UNNEEDED, same version is already published
kjohnson3macOS 13.7.1 Ventura / arm64  OK    OK    OK    OK  UNNEEDED, same version is already published
Package 14/19HostnameOS / ArchINSTALLBUILDCHECKBUILD BIN
scrapper 1.1.12  (landing page)
Aaron Lun
git_last_commit: 0f251ee
git_last_commit_date: 2025-01-06 13:31:50 -0500
nebbiolo1Linux (Ubuntu 24.04.1 LTS) / x86_64  OK    OK    OK  UNNEEDED, same version is already published
palomino7Windows Server 2022 Datacenter / x64  OK    OK    OK    OK  UNNEEDED, same version is already published
lconwaymacOS 12.7.1 Monterey / x86_64  OK    OK    OK    OK  UNNEEDED, same version is already published
kjohnson3macOS 13.7.1 Ventura / arm64  OK    OK    OK    OK  UNNEEDED, same version is already published
Package 15/19HostnameOS / ArchINSTALLBUILDCHECKBUILD BIN
SingleR 2.9.4  (landing page)
Aaron Lun
git_last_commit: c2922b3
git_last_commit_date: 2024-12-20 15:12:36 -0500
nebbiolo1Linux (Ubuntu 24.04.1 LTS) / x86_64  OK    OK    OK  UNNEEDED, same version is already published
palomino7Windows Server 2022 Datacenter / x64  OK    OK    OK    OK  UNNEEDED, same version is already published
lconwaymacOS 12.7.1 Monterey / x86_64  OK    OK    OK    OK  UNNEEDED, same version is already published
kjohnson3macOS 13.7.1 Ventura / arm64  OK    OK    OK    OK  UNNEEDED, same version is already published
Package 16/19HostnameOS / ArchINSTALLBUILDCHECKBUILD BIN
SpatialFeatureExperiment 1.9.7  (landing page)
Lambda Moses
git_last_commit: ef7929c
git_last_commit_date: 2025-02-04 23:00:52 -0500
nebbiolo1Linux (Ubuntu 24.04.1 LTS) / x86_64  OK    OK    OK  UNNEEDED, same version is already published
palomino7Windows Server 2022 Datacenter / x64  OK    OK    OK    OK  UNNEEDED, same version is already published
lconwaymacOS 12.7.1 Monterey / x86_64  OK    OK    OK    OK  UNNEEDED, same version is already published
kjohnson3macOS 13.7.1 Ventura / arm64  OK    OK    ERROR    OK  
Package 17/19HostnameOS / ArchINSTALLBUILDCHECKBUILD BIN
SpotSweeper 1.3.3  (landing page)
Michael Totty
git_last_commit: d39575f
git_last_commit_date: 2024-12-24 10:00:07 -0500
nebbiolo1Linux (Ubuntu 24.04.1 LTS) / x86_64  OK    OK    OK  UNNEEDED, same version is already published
palomino7Windows Server 2022 Datacenter / x64  OK    OK    OK    OK  UNNEEDED, same version is already published
lconwaymacOS 12.7.1 Monterey / x86_64  OK    OK    OK    OK  UNNEEDED, same version is already published
kjohnson3macOS 13.7.1 Ventura / arm64  OK    OK    OK    OK  UNNEEDED, same version is already published
Package 18/19HostnameOS / ArchINSTALLBUILDCHECKBUILD BIN
StabMap 1.1.0  (landing page)
Shila Ghazanfar
git_last_commit: 2005245
git_last_commit_date: 2024-10-29 11:32:53 -0500
nebbiolo1Linux (Ubuntu 24.04.1 LTS) / x86_64  OK    OK    OK  UNNEEDED, same version is already published
palomino7Windows Server 2022 Datacenter / x64  OK    OK    OK    OK  UNNEEDED, same version is already published
lconwaymacOS 12.7.1 Monterey / x86_64  OK    OK    OK    OK  UNNEEDED, same version is already published
kjohnson3macOS 13.7.1 Ventura / arm64  OK    OK    OK    OK  UNNEEDED, same version is already published
Package 19/19HostnameOS / ArchINSTALLBUILDCHECKBUILD BIN
UCell 2.11.1  (landing page)
Massimo Andreatta
git_last_commit: 10bccc9
git_last_commit_date: 2024-10-31 10:27:00 -0500
nebbiolo1Linux (Ubuntu 24.04.1 LTS) / x86_64  OK    OK    OK  UNNEEDED, same version is already published
palomino7Windows Server 2022 Datacenter / x64  OK    OK    OK    OK  UNNEEDED, same version is already published
lconwaymacOS 12.7.1 Monterey / x86_64  OK    OK    OK    OK  UNNEEDED, same version is already published
kjohnson3macOS 13.7.1 Ventura / arm64  OK    OK    OK    OK  UNNEEDED, same version is already published