Back to Multiple platform build/check report for BioC 3.21:   simplified   long
A[B]CDEFGHIJKLMNOPQRSTUVWXYZ

This page was generated on 2025-02-04 11:44 -0500 (Tue, 04 Feb 2025).

HostnameOSArch (*)R versionInstalled pkgs
nebbiolo1Linux (Ubuntu 24.04.1 LTS)x86_64R Under development (unstable) (2025-01-20 r87609) -- "Unsuffered Consequences" 4716
palomino7Windows Server 2022 Datacenterx64R Under development (unstable) (2025-01-21 r87610 ucrt) -- "Unsuffered Consequences" 4478
lconwaymacOS 12.7.1 Montereyx86_64R Under development (unstable) (2025-01-22 r87618) -- "Unsuffered Consequences" 4489
kjohnson3macOS 13.7.1 Venturaarm64R Under development (unstable) (2025-01-20 r87609) -- "Unsuffered Consequences" 4442
Click on any hostname to see more info about the system (e.g. compilers)      (*) as reported by 'uname -p', except on Windows and Mac OS X

Package 250/2295HostnameOS / ArchINSTALLBUILDCHECKBUILD BIN
BulkSignalR 0.99.22  (landing page)
Jean-Philippe Villemin
Snapshot Date: 2025-02-03 13:40 -0500 (Mon, 03 Feb 2025)
git_url: https://git.bioconductor.org/packages/BulkSignalR
git_branch: devel
git_last_commit: a707d8a
git_last_commit_date: 2024-12-20 10:25:07 -0500 (Fri, 20 Dec 2024)
nebbiolo1Linux (Ubuntu 24.04.1 LTS) / x86_64  OK    OK    OK  UNNEEDED, same version is already published
palomino7Windows Server 2022 Datacenter / x64  OK    OK    OK    OK  UNNEEDED, same version is already published
lconwaymacOS 12.7.1 Monterey / x86_64  OK    OK    OK    OK  UNNEEDED, same version is already published
kjohnson3macOS 13.7.1 Ventura / arm64  OK    OK    OK    OK  UNNEEDED, same version is already published


CHECK results for BulkSignalR on kjohnson3

To the developers/maintainers of the BulkSignalR package:
- Allow up to 24 hours (and sometimes 48 hours) for your latest push to git@git.bioconductor.org:packages/BulkSignalR.git to reflect on this report. See Troubleshooting Build Report for more information.
- Use the following Renviron settings to reproduce errors and warnings.
- If 'R CMD check' started to fail recently on the Linux builder(s) over a missing dependency, add the missing dependency to 'Suggests:' in your DESCRIPTION file. See Renviron.bioc for more information.

raw results


Summary

Package: BulkSignalR
Version: 0.99.22
Command: /Library/Frameworks/R.framework/Resources/bin/R CMD check --install=check:BulkSignalR.install-out.txt --library=/Library/Frameworks/R.framework/Resources/library --no-vignettes --timings BulkSignalR_0.99.22.tar.gz
StartedAt: 2025-02-03 18:57:59 -0500 (Mon, 03 Feb 2025)
EndedAt: 2025-02-03 19:00:48 -0500 (Mon, 03 Feb 2025)
EllapsedTime: 170.0 seconds
RetCode: 0
Status:   OK  
CheckDir: BulkSignalR.Rcheck
Warnings: 0

Command output

##############################################################################
##############################################################################
###
### Running command:
###
###   /Library/Frameworks/R.framework/Resources/bin/R CMD check --install=check:BulkSignalR.install-out.txt --library=/Library/Frameworks/R.framework/Resources/library --no-vignettes --timings BulkSignalR_0.99.22.tar.gz
###
##############################################################################
##############################################################################


* using log directory ‘/Users/biocbuild/bbs-3.21-bioc/meat/BulkSignalR.Rcheck’
* using R Under development (unstable) (2025-01-20 r87609)
* using platform: aarch64-apple-darwin20
* R was compiled by
    Apple clang version 14.0.0 (clang-1400.0.29.202)
    GNU Fortran (GCC) 14.2.0
* running under: macOS Ventura 13.7.1
* using session charset: UTF-8
* using option ‘--no-vignettes’
* checking for file ‘BulkSignalR/DESCRIPTION’ ... OK
* checking extension type ... Package
* this is package ‘BulkSignalR’ version ‘0.99.22’
* package encoding: UTF-8
* checking package namespace information ... OK
* checking package dependencies ... INFO
Imports includes 28 non-default packages.
Importing from so many packages makes the package vulnerable to any of
them becoming unavailable.  Move as many as possible to Suggests and
use conditionally.
* checking if this is a source package ... OK
* checking if there is a namespace ... OK
* checking for hidden files and directories ... OK
* checking for portable file names ... OK
* checking for sufficient/correct file permissions ... OK
* checking whether package ‘BulkSignalR’ can be installed ... OK
* checking installed package size ... OK
* checking package directory ... OK
* checking ‘build’ directory ... OK
* checking DESCRIPTION meta-information ... OK
* checking top-level files ... OK
* checking for left-over files ... OK
* checking index information ... OK
* checking package subdirectories ... OK
* checking code files for non-ASCII characters ... OK
* checking R files for syntax errors ... OK
* checking whether the package can be loaded ... OK
* checking whether the package can be loaded with stated dependencies ... OK
* checking whether the package can be unloaded cleanly ... OK
* checking whether the namespace can be loaded with stated dependencies ... OK
* checking whether the namespace can be unloaded cleanly ... OK
* checking whether startup messages can be suppressed ... OK
* checking dependencies in R code ... OK
* checking S3 generic/method consistency ... OK
* checking replacement functions ... OK
* checking foreign function calls ... OK
* checking R code for possible problems ... OK
* checking Rd files ... OK
* checking Rd metadata ... OK
* checking Rd cross-references ... OK
* checking for missing documentation entries ... OK
* checking for code/documentation mismatches ... OK
* checking Rd \usage sections ... OK
* checking Rd contents ... OK
* checking for unstated dependencies in examples ... OK
* checking contents of ‘data’ directory ... OK
* checking data for non-ASCII characters ... OK
* checking data for ASCII and uncompressed saves ... OK
* checking files in ‘vignettes’ ... OK
* checking examples ... OK
* checking for unstated dependencies in ‘tests’ ... OK
* checking tests ...
  Running ‘testthat.R’
 OK
* checking for unstated dependencies in vignettes ... OK
* checking package vignettes ... OK
* checking running R code from vignettes ... SKIPPED
* checking re-building of vignette outputs ... SKIPPED
* checking PDF version of manual ... OK
* DONE

Status: OK


Installation output

BulkSignalR.Rcheck/00install.out

##############################################################################
##############################################################################
###
### Running command:
###
###   /Library/Frameworks/R.framework/Resources/bin/R CMD INSTALL BulkSignalR
###
##############################################################################
##############################################################################


* installing to library ‘/Library/Frameworks/R.framework/Versions/4.5-arm64/Resources/library’
* installing *source* package ‘BulkSignalR’ ...
** this is package ‘BulkSignalR’ version ‘0.99.22’
** using staged installation
** R
** data
** inst
** byte-compile and prepare package for lazy loading
** help
*** installing help indices
*** copying figures
** building package indices
** installing vignettes
** testing if installed package can be loaded from temporary location
** testing if installed package can be loaded from final location
** testing if installed package keeps a record of temporary installation path
* DONE (BulkSignalR)

Tests output

BulkSignalR.Rcheck/tests/testthat.Rout


R Under development (unstable) (2025-01-20 r87609) -- "Unsuffered Consequences"
Copyright (C) 2025 The R Foundation for Statistical Computing
Platform: aarch64-apple-darwin20

R is free software and comes with ABSOLUTELY NO WARRANTY.
You are welcome to redistribute it under certain conditions.
Type 'license()' or 'licence()' for distribution details.

R is a collaborative project with many contributors.
Type 'contributors()' for more information and
'citation()' on how to cite R or R packages in publications.

Type 'demo()' for some demos, 'help()' for on-line help, or
'help.start()' for an HTML browser interface to help.
Type 'q()' to quit R.

> library(testthat)
> library(BulkSignalR)
Local "database" is up to date.

Local "resources" are up to date.

> test_check("BulkSignalR")
[ FAIL 0 | WARN 0 | SKIP 0 | PASS 1 ]
> 
> proc.time()
   user  system elapsed 
  5.710   0.316   6.666 

Example timings

BulkSignalR.Rcheck/BulkSignalR-Ex.timings

nameusersystemelapsed
BSRClusterComp-class0.0020.0000.002
BSRClusterComp0.0990.0070.106
BSRDataModel-class0.0020.0000.002
BSRDataModel0.0680.0020.069
BSRDataModelComp-class0.0020.0000.002
BSRInference-class0.0010.0000.001
BSRInference0.6690.0270.697
BSRInferenceComp-class0.0020.0000.002
BSRInferenceComp0.4450.0560.500
BSRSignature-class0.0000.0000.001
BSRSignature0.0090.0010.008
BSRSignatureComp-class0.0010.0000.001
BSRSignatureComp0.0040.0000.004
LRinter000
LRinterScore0.0010.0010.002
LRinterShort0.0010.0000.001
addClusterComp0.0930.0110.105
alluvialPlot0.1210.0050.125
assignCellTypesToInteractions0.5350.0100.546
bubblePlotPathwaysLR0.1040.0090.112
cacheClear0.8750.0232.193
cacheInfo0.0580.0050.064
cacheVersion0.1270.0140.490
cellTypeFrequency0.2110.0120.224
cellularNetwork0.1880.0100.198
cellularNetworkTable0.1790.0070.188
chordDiagramLR0.3470.0060.365
coerce0.0010.0000.001
colClusterA000
colClusterB000
comparison000
comparisonName000
convertToHuman0.1330.0093.282
createDatabase000
createResources0.2310.0320.332
differentialStats0.0010.0000.001
findOrthoGenes0.0520.0020.317
generateSpatialPlots0.5340.0470.421
getComplexes0.0320.0030.036
getInteractions0.4060.0030.413
getLRIntracellNetwork0.6600.1020.767
getLRNetwork0.0100.0000.011
getPathwayStats0.0050.0010.005
getResource0.1010.0070.108
inferenceParameters0.0010.0000.001
initialOrganism000
initialOrthologs000
learnParameters0.6600.0040.665
ligands000
logTransformed0.0010.0000.000
maxLigandSpatialCounts0.0190.0010.020
mu0.0000.0000.001
ncounts0.0010.0000.000
normalization000
parameters000
pathways000
receptors000
reduceToBestPathway0.0250.0010.026
reduceToLigand0.0110.0010.012
reduceToPathway0.0230.0000.023
reduceToReceptor0.0050.0010.005
relateToGeneSet0.0250.0010.026
removeClusterComp0.0990.0160.115
rescoreInference0.0180.0010.018
resetLRdb0.0060.0000.006
resetNetwork0.0020.0010.002
resetPathways0.1010.0050.105
resetToInitialOrganism0.0510.0020.053
scoreLRGeneSignatures0.1460.0100.156
scoreSignatures0.1110.0040.116
separatedLRPlot0.4100.0290.448
signatureHeatmaps0.0110.0010.012
simpleHeatmap0.3370.0240.394
smoothSpatialCounts0.0180.0000.019
sourceComparisonName0.0010.0000.000
spatialAssociation0.0220.0010.025
spatialAssociationPlot1.1590.0261.187
spatialDiversityPlot0.2760.0170.293
spatialIndexPlot0.3540.0180.373
spatialPlot0.2900.0150.323
summarizedCellularNetwork0.2030.0090.212
tgCorr000
tgExpr0.0000.0010.000
tgGenes000
tgLogFC0.0000.0000.001
tgPval000
updateInference0.0330.0010.034