Back to Multiple platform build/check report for BioC 3.21:   simplified   long
AB[C]DEFGHIJKLMNOPQRSTUVWXYZ

This page was generated on 2025-02-06 11:43 -0500 (Thu, 06 Feb 2025).

HostnameOSArch (*)R versionInstalled pkgs
nebbiolo1Linux (Ubuntu 24.04.1 LTS)x86_64R Under development (unstable) (2025-01-20 r87609) -- "Unsuffered Consequences" 4719
palomino7Windows Server 2022 Datacenterx64R Under development (unstable) (2025-01-21 r87610 ucrt) -- "Unsuffered Consequences" 4480
lconwaymacOS 12.7.1 Montereyx86_64R Under development (unstable) (2025-01-22 r87618) -- "Unsuffered Consequences" 4491
kjohnson3macOS 13.7.1 Venturaarm64R Under development (unstable) (2025-01-20 r87609) -- "Unsuffered Consequences" 4444
Click on any hostname to see more info about the system (e.g. compilers)      (*) as reported by 'uname -p', except on Windows and Mac OS X

Package 263/2295HostnameOS / ArchINSTALLBUILDCHECKBUILD BIN
CAGEr 2.13.0  (landing page)
Charles Plessy
Snapshot Date: 2025-02-05 13:48 -0500 (Wed, 05 Feb 2025)
git_url: https://git.bioconductor.org/packages/CAGEr
git_branch: devel
git_last_commit: cdfe2b1
git_last_commit_date: 2024-10-29 09:44:43 -0500 (Tue, 29 Oct 2024)
nebbiolo1Linux (Ubuntu 24.04.1 LTS) / x86_64  OK    OK    OK  UNNEEDED, same version is already published
palomino7Windows Server 2022 Datacenter / x64  OK    OK    OK    OK  UNNEEDED, same version is already published
lconwaymacOS 12.7.1 Monterey / x86_64  OK    OK    OK    OK  YES
kjohnson3macOS 13.7.1 Ventura / arm64  OK    OK    OK    OK  YES


CHECK results for CAGEr on kjohnson3

To the developers/maintainers of the CAGEr package:
- Allow up to 24 hours (and sometimes 48 hours) for your latest push to git@git.bioconductor.org:packages/CAGEr.git to reflect on this report. See Troubleshooting Build Report for more information.
- Use the following Renviron settings to reproduce errors and warnings.
- If 'R CMD check' started to fail recently on the Linux builder(s) over a missing dependency, add the missing dependency to 'Suggests:' in your DESCRIPTION file. See Renviron.bioc for more information.

raw results


Summary

Package: CAGEr
Version: 2.13.0
Command: /Library/Frameworks/R.framework/Resources/bin/R CMD check --install=check:CAGEr.install-out.txt --library=/Library/Frameworks/R.framework/Resources/library --no-vignettes --timings CAGEr_2.13.0.tar.gz
StartedAt: 2025-02-05 18:26:26 -0500 (Wed, 05 Feb 2025)
EndedAt: 2025-02-05 18:29:53 -0500 (Wed, 05 Feb 2025)
EllapsedTime: 207.5 seconds
RetCode: 0
Status:   OK  
CheckDir: CAGEr.Rcheck
Warnings: 0

Command output

##############################################################################
##############################################################################
###
### Running command:
###
###   /Library/Frameworks/R.framework/Resources/bin/R CMD check --install=check:CAGEr.install-out.txt --library=/Library/Frameworks/R.framework/Resources/library --no-vignettes --timings CAGEr_2.13.0.tar.gz
###
##############################################################################
##############################################################################


* using log directory ‘/Users/biocbuild/bbs-3.21-bioc/meat/CAGEr.Rcheck’
* using R Under development (unstable) (2025-01-20 r87609)
* using platform: aarch64-apple-darwin20
* R was compiled by
    Apple clang version 14.0.0 (clang-1400.0.29.202)
    GNU Fortran (GCC) 14.2.0
* running under: macOS Ventura 13.7.1
* using session charset: UTF-8
* using option ‘--no-vignettes’
* checking for file ‘CAGEr/DESCRIPTION’ ... OK
* this is package ‘CAGEr’ version ‘2.13.0’
* package encoding: UTF-8
* checking package namespace information ... OK
* checking package dependencies ... INFO
Imports includes 29 non-default packages.
Importing from so many packages makes the package vulnerable to any of
them becoming unavailable.  Move as many as possible to Suggests and
use conditionally.
* checking if this is a source package ... OK
* checking if there is a namespace ... OK
* checking for hidden files and directories ... OK
* checking for portable file names ... OK
* checking for sufficient/correct file permissions ... OK
* checking whether package ‘CAGEr’ can be installed ... OK
* checking installed package size ... OK
* checking package directory ... OK
* checking ‘build’ directory ... OK
* checking DESCRIPTION meta-information ... OK
* checking top-level files ... OK
* checking for left-over files ... OK
* checking index information ... OK
* checking package subdirectories ... OK
* checking code files for non-ASCII characters ... OK
* checking R files for syntax errors ... OK
* checking whether the package can be loaded ... OK
* checking whether the package can be loaded with stated dependencies ... OK
* checking whether the package can be unloaded cleanly ... OK
* checking whether the namespace can be loaded with stated dependencies ... OK
* checking whether the namespace can be unloaded cleanly ... OK
* checking dependencies in R code ... OK
* checking S3 generic/method consistency ... OK
* checking replacement functions ... OK
* checking foreign function calls ... OK
* checking R code for possible problems ... OK
* checking Rd files ... OK
* checking Rd metadata ... OK
* checking Rd cross-references ... NOTE
Found the following Rd file(s) with Rd \link{} targets missing package
anchors:
  CAGEexp-class.Rd: MultiAssayExperiment, DataFrame, Rle
  CAGEr-class.Rd: MultiAssayExperiment
  CTSStagCount.Rd: DataFrame, Rle, RangedSummarizedExperiment
  CTSStoGenes.Rd: SummarizedExperiment
  CustomConsensusClusters.Rd: GRanges, RangedSummarizedExperiment
  TSSlogo.Rd: BSgenome
  aggregateTagClusters.Rd: RangedSummarizedExperiment
  annotateCTSS.Rd: GRanges, TxDb
  bam2CTSS.Rd: GRanges
  byCtss.Rd: data.table
  consensusClusters.Rd: GRanges, SummarizedExperiment
  distclu.Rd: GRangesList
  dot-ctss_summary_for_clusters.Rd: GRanges
  expressionClasses.Rd: Rle
  flagLowExpCTSS.Rd: Rle
  getCTSS.Rd: RangedSummarizedExperiment
  import.CAGEscanMolecule.Rd: GRanges
  import.CTSS.Rd: GPos
  loadFileIntoGPos.Rd: GPos
  moleculesGR2CTSS.Rd: GRanges
  paraclu.Rd: RangedSummarizedExperiment, GRangesList
  plotCorrelation.Rd: SummarizedExperiment, DataFrame
  quantilePositions.Rd: RangedSummarizedExperiment
  ranges2annot.Rd: rowRanges, Rle
  ranges2names.Rd: Rle
  strandInvaders.Rd: Rle
Please provide package anchors for all Rd \link{} targets not in the
package itself and the base packages.
* checking for missing documentation entries ... OK
* checking for code/documentation mismatches ... OK
* checking Rd \usage sections ... OK
* checking Rd contents ... OK
* checking for unstated dependencies in examples ... OK
* checking contents of ‘data’ directory ... OK
* checking data for non-ASCII characters ... OK
* checking LazyData ... OK
* checking data for ASCII and uncompressed saves ... OK
* checking files in ‘vignettes’ ... OK
* checking examples ... OK
Examples with CPU (user + system) or elapsed time > 5s
                       user system elapsed
paraclu              12.019  0.037  11.942
exportToTrack        10.013  0.056  10.077
aggregateTagClusters  5.958  0.061   6.032
scoreShift            5.160  0.061   5.289
* checking for unstated dependencies in vignettes ... OK
* checking package vignettes ... OK
* checking running R code from vignettes ... SKIPPED
* checking re-building of vignette outputs ... SKIPPED
* checking PDF version of manual ... OK
* DONE

Status: 1 NOTE
See
  ‘/Users/biocbuild/bbs-3.21-bioc/meat/CAGEr.Rcheck/00check.log’
for details.


Installation output

CAGEr.Rcheck/00install.out

##############################################################################
##############################################################################
###
### Running command:
###
###   /Library/Frameworks/R.framework/Resources/bin/R CMD INSTALL CAGEr
###
##############################################################################
##############################################################################


* installing to library ‘/Library/Frameworks/R.framework/Versions/4.5-arm64/Resources/library’
* installing *source* package ‘CAGEr’ ...
** this is package ‘CAGEr’ version ‘2.13.0’
** using staged installation
** R
** data
*** moving datasets to lazyload DB
** inst
** byte-compile and prepare package for lazy loading
** help
*** installing help indices
** building package indices
** installing vignettes
** testing if installed package can be loaded from temporary location
** testing if installed package can be loaded from final location
** testing if installed package keeps a record of temporary installation path
* DONE (CAGEr)

Tests output


Example timings

CAGEr.Rcheck/CAGEr-Ex.timings

nameusersystemelapsed
CAGEexp-class1.7990.2822.126
CAGEr_Multicore1.5690.0101.579
CTSS-class0.0730.0000.074
CTSScoordinates0.0230.0010.024
CTSSnormalizedTpm0.2050.0030.208
CTSStagCount0.1880.0160.204
CTSStoGenes0.1550.0120.167
CustomConsensusClusters1.3430.0231.367
GeneExpDESeq20.1640.0040.168
GeneExpSE0.0010.0010.001
QuantileWidthFunctions0.0430.0000.043
TSSlogo0.7600.0150.780
aggregateTagClusters5.9580.0616.032
annotateCTSS3.4360.0133.452
byCtss0.0060.0000.006
consensusClusters0.0440.0010.045
consensusClustersDESeq20.5500.0010.550
consensusClustersTpm0.0020.0000.002
cumulativeCTSSdistribution1.1470.0261.173
distclu2.6080.0062.622
dot-ctss_summary_for_clusters0.2460.0010.247
exampleCAGEexp000
exportToTrack10.013 0.05610.077
expressionClasses0.5110.0000.511
filteredCTSSidx0.0030.0010.003
flagLowExpCTSS0.0110.0000.011
genomeName000
getCTSS0.3450.0070.366
getExpressionProfiles1.5820.0081.598
getShiftingPromoters0.5200.0010.530
hanabi0.0750.0040.078
hanabiPlot0.0870.0060.092
import.CAGEscanMolecule000
import.CTSS0.0230.0010.024
import.bam000
import.bedCTSS000
import.bedScore000
import.bedmolecule0.0000.0010.000
importPublicData0.0000.0000.001
inputFiles0.0010.0000.001
inputFilesType000
librarySizes000
mapStats0.0160.0010.017
mergeCAGEsets0.7000.0130.741
mergeSamples0.1850.0030.188
moleculesGR2CTSS0.0360.0000.036
normalizeTagCount0.2740.0080.200
paraclu12.019 0.03711.942
parseCAGEscanBlocksToGrangeTSS0.0060.0010.007
plotAnnot0.6480.0240.677
plotCorrelation0.0670.0010.067
plotExpressionProfiles2.7620.0642.833
plotInterquantileWidth0.6080.0050.615
plotReverseCumulatives1.1340.0790.709
quantilePositions3.6170.0283.543
quickEnhancers000
ranges2annot0.0980.0000.098
ranges2genes0.0180.0010.018
ranges2names0.0180.0000.018
resetCAGEexp0.1000.0010.101
rowSums.RleDataFrame0.0060.0000.006
rowsum.RleDataFrame0.0060.0000.007
sampleLabels0.0010.0000.002
scoreShift5.1600.0615.289
seqNameTotalsSE0.0010.0000.002
setColors0.1370.0020.140
strandInvaders0.2510.0300.312
summariseChrExpr0.1660.0070.181
tagClusters0.1210.0070.141