Back to Multiple platform build/check report for BioC 3.21: simplified long |
|
This page was generated on 2025-02-06 11:42 -0500 (Thu, 06 Feb 2025).
Hostname | OS | Arch (*) | R version | Installed pkgs |
---|---|---|---|---|
nebbiolo1 | Linux (Ubuntu 24.04.1 LTS) | x86_64 | R Under development (unstable) (2025-01-20 r87609) -- "Unsuffered Consequences" | 4719 |
palomino7 | Windows Server 2022 Datacenter | x64 | R Under development (unstable) (2025-01-21 r87610 ucrt) -- "Unsuffered Consequences" | 4480 |
lconway | macOS 12.7.1 Monterey | x86_64 | R Under development (unstable) (2025-01-22 r87618) -- "Unsuffered Consequences" | 4491 |
kjohnson3 | macOS 13.7.1 Ventura | arm64 | R Under development (unstable) (2025-01-20 r87609) -- "Unsuffered Consequences" | 4444 |
Click on any hostname to see more info about the system (e.g. compilers) (*) as reported by 'uname -p', except on Windows and Mac OS X |
Package 414/2295 | Hostname | OS / Arch | INSTALL | BUILD | CHECK | BUILD BIN | ||||||||
COMPASS 1.45.0 (landing page) Greg Finak
| nebbiolo1 | Linux (Ubuntu 24.04.1 LTS) / x86_64 | OK | OK | OK | ![]() | ||||||||
palomino7 | Windows Server 2022 Datacenter / x64 | OK | OK | OK | OK | ![]() | ||||||||
lconway | macOS 12.7.1 Monterey / x86_64 | OK | OK | OK | OK | ![]() | ||||||||
kjohnson3 | macOS 13.7.1 Ventura / arm64 | OK | OK | OK | OK | ![]() | ||||||||
To the developers/maintainers of the COMPASS package: - Allow up to 24 hours (and sometimes 48 hours) for your latest push to git@git.bioconductor.org:packages/COMPASS.git to reflect on this report. See Troubleshooting Build Report for more information. - Use the following Renviron settings to reproduce errors and warnings. - If 'R CMD check' started to fail recently on the Linux builder(s) over a missing dependency, add the missing dependency to 'Suggests:' in your DESCRIPTION file. See Renviron.bioc for more information. |
Package: COMPASS |
Version: 1.45.0 |
Command: rm -rf COMPASS.buildbin-libdir && mkdir COMPASS.buildbin-libdir && /Users/biocbuild/BBS/utils/build-universal.sh COMPASS_1.45.0.tar.gz /Library/Frameworks/R.framework/Resources/bin/R COMPASS.buildbin-libdir |
StartedAt: 2025-02-06 00:24:48 -0500 (Thu, 06 Feb 2025) |
EndedAt: 2025-02-06 00:25:12 -0500 (Thu, 06 Feb 2025) |
EllapsedTime: 24.3 seconds |
RetCode: 0 |
Status: OK |
PackageFile: COMPASS_1.45.0.tgz |
PackageFileSize: 1.419 MiB |
############################################################################## ############################################################################## ### ### Running command: ### ### rm -rf COMPASS.buildbin-libdir && mkdir COMPASS.buildbin-libdir && /Users/biocbuild/BBS/utils/build-universal.sh COMPASS_1.45.0.tar.gz /Library/Frameworks/R.framework/Resources/bin/R COMPASS.buildbin-libdir ### ############################################################################## ############################################################################## >>>>>>> >>>>>>> INSTALLATION WITH 'R CMD INSTALL --preclean --no-multiarch --library=COMPASS.buildbin-libdir COMPASS_1.45.0.tar.gz' >>>>>>> * installing *source* package ‘COMPASS’ ... ** this is package ‘COMPASS’ version ‘1.45.0’ ** using staged installation R Under development (unstable) (2025-01-22 r87618) -- "Unsuffered Consequences" Copyright (C) 2025 The R Foundation for Statistical Computing Platform: x86_64-apple-darwin20 R is free software and comes with ABSOLUTELY NO WARRANTY. You are welcome to redistribute it under certain conditions. Type 'license()' or 'licence()' for distribution details. Natural language support but running in an English locale R is a collaborative project with many contributors. Type 'contributors()' for more information and 'citation()' on how to cite R or R packages in publications. Type 'demo()' for some demos, 'help()' for on-line help, or 'help.start()' for an HTML browser interface to help. Type 'q()' to quit R. > source('R/cleanup.R'); cleanup() It looks like this isn't being called from R CMD build; bailing out > ** libs using C compiler: ‘Apple clang version 14.0.0 (clang-1400.0.29.202)’ using C++ compiler: ‘Apple clang version 14.0.0 (clang-1400.0.29.202)’ using SDK: ‘MacOSX11.3.sdk’ clang -arch x86_64 -I"/Library/Frameworks/R.framework/Resources/include" -DNDEBUG -I'/Library/Frameworks/R.framework/Versions/4.5-x86_64/Resources/library/Rcpp/include' -I/opt/R/x86_64/include -fPIC -falign-functions=64 -Wall -g -O2 -c COMPASS_c.c -o COMPASS_c.o clang++ -arch x86_64 -std=gnu++17 -I"/Library/Frameworks/R.framework/Resources/include" -DNDEBUG -I'/Library/Frameworks/R.framework/Versions/4.5-x86_64/Resources/library/Rcpp/include' -I/opt/R/x86_64/include -fPIC -falign-functions=64 -Wall -g -O2 -DR_NO_REMAP -c COMPASS_cpp.cpp -o COMPASS_cpp.o COMPASS_cpp.cpp:517:10: warning: variable 'psik' set but not used [-Wunused-but-set-variable] double psik = 0.; ^ COMPASS_cpp.cpp:526:7: warning: variable 'flagkk' set but not used [-Wunused-but-set-variable] int flagkk = 0; ^ 2 warnings generated. clang -arch x86_64 -I"/Library/Frameworks/R.framework/Resources/include" -DNDEBUG -I'/Library/Frameworks/R.framework/Versions/4.5-x86_64/Resources/library/Rcpp/include' -I/opt/R/x86_64/include -fPIC -falign-functions=64 -Wall -g -O2 -c COMPASS_init.c -o COMPASS_init.o clang++ -arch x86_64 -std=gnu++17 -dynamiclib -Wl,-headerpad_max_install_names -undefined dynamic_lookup -L/Library/Frameworks/R.framework/Resources/lib -L/opt/R/x86_64/lib -o COMPASS.so COMPASS_c.o COMPASS_cpp.o COMPASS_init.o -L/Library/Frameworks/R.framework/Resources/lib -lRlapack -L/Library/Frameworks/R.framework/Resources/lib -lRblas -L/opt/gfortran/lib/gcc/x86_64-apple-darwin20.0/14.2.0 -L/opt/gfortran/lib -lemutls_w -lheapt_w -lgfortran -lquadmath -F/Library/Frameworks/R.framework/.. -framework R -Wl,-framework -Wl,CoreFoundation installing to /Users/biocbuild/bbs-3.21-bioc/meat/COMPASS.buildbin-libdir/00LOCK-COMPASS/00new/COMPASS/libs ** R ** data *** moving datasets to lazyload DB ** inst ** byte-compile and prepare package for lazy loading ** help *** installing help indices ** building package indices ** installing vignettes ** testing if installed package can be loaded from temporary location ** checking absolute paths in shared objects and dynamic libraries ** testing if installed package can be loaded from final location ** testing if installed package keeps a record of temporary installation path * DONE (COMPASS) >>>>>>> >>>>>>> FIXING PATHS TO DYNAMIC LIBRARIES FOR COMPASS.buildbin-libdir/COMPASS/libs/COMPASS.so >>>>>>> >>>>>>> Paths before fix: COMPASS.buildbin-libdir/COMPASS/libs/COMPASS.so: COMPASS.so (compatibility version 0.0.0, current version 0.0.0) /Library/Frameworks/R.framework/Versions/4.5-x86_64/Resources/lib/libRlapack.dylib (compatibility version 4.5.0, current version 4.5.0) /Library/Frameworks/R.framework/Versions/4.5-x86_64/Resources/lib/libRblas.dylib (compatibility version 0.0.0, current version 0.0.0) /opt/gfortran/lib/gcc/x86_64-apple-darwin20.0/14.2.0/libgfortran.5.dylib (compatibility version 6.0.0, current version 6.0.0) /opt/gfortran/lib/gcc/x86_64-apple-darwin20.0/14.2.0/libquadmath.0.dylib (compatibility version 1.0.0, current version 1.0.0) /Library/Frameworks/R.framework/Versions/4.5-x86_64/Resources/lib/libR.dylib (compatibility version 4.5.0, current version 4.5.0) /System/Library/Frameworks/CoreFoundation.framework/Versions/A/CoreFoundation (compatibility version 150.0.0, current version 1775.118.101) /usr/lib/libc++.1.dylib (compatibility version 1.0.0, current version 905.6.0) /usr/lib/libSystem.B.dylib (compatibility version 1.0.0, current version 1292.100.5) >>>>>>> Fix with install_name_tool: install_name_tool -change "/usr/local/lib/libgcc_s.1.1.dylib" "/Library/Frameworks/R.framework/Versions/4.5-x86_64/Resources/lib/libgcc_s.1.1.dylib" "COMPASS.buildbin-libdir/COMPASS/libs/COMPASS.so" install_name_tool -change "/usr/local/lib/libgfortran.5.dylib" "/Library/Frameworks/R.framework/Versions/4.5-x86_64/Resources/lib/libgfortran.5.dylib" "COMPASS.buildbin-libdir/COMPASS/libs/COMPASS.so" install_name_tool -change "/usr/local/lib/libquadmath.0.dylib" "/Library/Frameworks/R.framework/Versions/4.5-x86_64/Resources/lib/libquadmath.0.dylib" "COMPASS.buildbin-libdir/COMPASS/libs/COMPASS.so" install_name_tool -change "/opt/gfortran/lib/gcc/x86_64-apple-darwin20.0/14.2.0/libgfortran.5.dylib" "/Library/Frameworks/R.framework/Versions/4.5-x86_64/Resources/lib/libgfortran.5.dylib" "COMPASS.buildbin-libdir/COMPASS/libs/COMPASS.so" install_name_tool -change "/opt/gfortran/lib/gcc/x86_64-apple-darwin20.0/14.2.0/libquadmath.0.dylib" "/Library/Frameworks/R.framework/Versions/4.5-x86_64/Resources/lib/libquadmath.0.dylib" "COMPASS.buildbin-libdir/COMPASS/libs/COMPASS.so" >>>>>>> Paths after fix: COMPASS.buildbin-libdir/COMPASS/libs/COMPASS.so: COMPASS.so (compatibility version 0.0.0, current version 0.0.0) /Library/Frameworks/R.framework/Versions/4.5-x86_64/Resources/lib/libRlapack.dylib (compatibility version 4.5.0, current version 4.5.0) /Library/Frameworks/R.framework/Versions/4.5-x86_64/Resources/lib/libRblas.dylib (compatibility version 0.0.0, current version 0.0.0) /Library/Frameworks/R.framework/Versions/4.5-x86_64/Resources/lib/libgfortran.5.dylib (compatibility version 6.0.0, current version 6.0.0) /Library/Frameworks/R.framework/Versions/4.5-x86_64/Resources/lib/libquadmath.0.dylib (compatibility version 1.0.0, current version 1.0.0) /Library/Frameworks/R.framework/Versions/4.5-x86_64/Resources/lib/libR.dylib (compatibility version 4.5.0, current version 4.5.0) /System/Library/Frameworks/CoreFoundation.framework/Versions/A/CoreFoundation (compatibility version 150.0.0, current version 1775.118.101) /usr/lib/libc++.1.dylib (compatibility version 1.0.0, current version 905.6.0) /usr/lib/libSystem.B.dylib (compatibility version 1.0.0, current version 1292.100.5)