Back to Multiple platform build/check report for BioC 3.21:   simplified   long
AB[C]DEFGHIJKLMNOPQRSTUVWXYZ

This page was generated on 2025-02-10 11:40 -0500 (Mon, 10 Feb 2025).

HostnameOSArch (*)R versionInstalled pkgs
nebbiolo1Linux (Ubuntu 24.04.1 LTS)x86_64R Under development (unstable) (2025-01-20 r87609) -- "Unsuffered Consequences" 4719
palomino7Windows Server 2022 Datacenterx64R Under development (unstable) (2025-01-21 r87610 ucrt) -- "Unsuffered Consequences" 4480
lconwaymacOS 12.7.1 Montereyx86_64R Under development (unstable) (2025-01-22 r87618) -- "Unsuffered Consequences" 4491
kjohnson3macOS 13.7.1 Venturaarm64R Under development (unstable) (2025-01-20 r87609) -- "Unsuffered Consequences" 4444
Click on any hostname to see more info about the system (e.g. compilers)      (*) as reported by 'uname -p', except on Windows and Mac OS X

Package 270/2295HostnameOS / ArchINSTALLBUILDCHECKBUILD BIN
Cardinal 3.9.0  (landing page)
Kylie Ariel Bemis
Snapshot Date: 2025-02-09 13:40 -0500 (Sun, 09 Feb 2025)
git_url: https://git.bioconductor.org/packages/Cardinal
git_branch: devel
git_last_commit: 92a4a47
git_last_commit_date: 2024-12-18 22:04:01 -0500 (Wed, 18 Dec 2024)
nebbiolo1Linux (Ubuntu 24.04.1 LTS) / x86_64  OK    OK    OK  UNNEEDED, same version is already published
palomino7Windows Server 2022 Datacenter / x64  OK    OK    OK    OK  UNNEEDED, same version is already published
lconwaymacOS 12.7.1 Monterey / x86_64  OK    OK    OK    OK  UNNEEDED, same version is already published
kjohnson3macOS 13.7.1 Ventura / arm64  OK    OK    OK    OK  UNNEEDED, same version is already published


CHECK results for Cardinal on palomino7

To the developers/maintainers of the Cardinal package:
- Allow up to 24 hours (and sometimes 48 hours) for your latest push to git@git.bioconductor.org:packages/Cardinal.git to reflect on this report. See Troubleshooting Build Report for more information.
- Use the following Renviron settings to reproduce errors and warnings.
- If 'R CMD check' started to fail recently on the Linux builder(s) over a missing dependency, add the missing dependency to 'Suggests:' in your DESCRIPTION file. See Renviron.bioc for more information.

raw results


Summary

Package: Cardinal
Version: 3.9.0
Command: E:\biocbuild\bbs-3.21-bioc\R\bin\R.exe CMD check --no-multiarch --install=check:Cardinal.install-out.txt --library=E:\biocbuild\bbs-3.21-bioc\R\library --no-vignettes --timings Cardinal_3.9.0.tar.gz
StartedAt: 2025-02-09 23:20:45 -0500 (Sun, 09 Feb 2025)
EndedAt: 2025-02-09 23:30:10 -0500 (Sun, 09 Feb 2025)
EllapsedTime: 564.7 seconds
RetCode: 0
Status:   OK  
CheckDir: Cardinal.Rcheck
Warnings: 0

Command output

##############################################################################
##############################################################################
###
### Running command:
###
###   E:\biocbuild\bbs-3.21-bioc\R\bin\R.exe CMD check --no-multiarch --install=check:Cardinal.install-out.txt --library=E:\biocbuild\bbs-3.21-bioc\R\library --no-vignettes --timings Cardinal_3.9.0.tar.gz
###
##############################################################################
##############################################################################


* using log directory 'E:/biocbuild/bbs-3.21-bioc/meat/Cardinal.Rcheck'
* using R Under development (unstable) (2025-01-21 r87610 ucrt)
* using platform: x86_64-w64-mingw32
* R was compiled by
    gcc.exe (GCC) 13.3.0
    GNU Fortran (GCC) 13.3.0
* running under: Windows Server 2022 x64 (build 20348)
* using session charset: UTF-8
* using option '--no-vignettes'
* checking for file 'Cardinal/DESCRIPTION' ... OK
* checking extension type ... Package
* this is package 'Cardinal' version '3.9.0'
* checking package namespace information ... OK
* checking package dependencies ... OK
* checking if this is a source package ... OK
* checking if there is a namespace ... OK
* checking for hidden files and directories ... OK
* checking for portable file names ... OK
* checking whether package 'Cardinal' can be installed ... OK
* checking installed package size ... OK
* checking package directory ... OK
* checking 'build' directory ... OK
* checking DESCRIPTION meta-information ... OK
* checking top-level files ... OK
* checking for left-over files ... OK
* checking index information ... OK
* checking package subdirectories ... OK
* checking code files for non-ASCII characters ... OK
* checking R files for syntax errors ... OK
* checking whether the package can be loaded ... OK
* checking whether the package can be loaded with stated dependencies ... OK
* checking whether the package can be unloaded cleanly ... OK
* checking whether the namespace can be loaded with stated dependencies ... OK
* checking whether the namespace can be unloaded cleanly ... OK
* checking whether startup messages can be suppressed ... OK
* checking dependencies in R code ... OK
* checking S3 generic/method consistency ... OK
* checking replacement functions ... OK
* checking foreign function calls ... OK
* checking R code for possible problems ... OK
* checking Rd files ... OK
* checking Rd metadata ... OK
* checking Rd cross-references ... NOTE
Found the following Rd file(s) with Rd \link{} targets missing package
anchors:
  Cardinal-package.Rd: bplapply, simple_logger
  MSImagingArrays-class.Rd: ImzMeta-class, ProcessingStep-class
  MSImagingExperiment-class.Rd: ImzMeta-class, ProcessingStep-class
  MeansTest.Rd: lme, chunkApply, bplapply
  ResultsList-class.Rd: SimpleList-class
  SpatialCV.Rd: chunkApply, bplapply, cv_do
  SpatialDGMM.Rd: chunkApply, bplapply
  SpatialFastmap.Rd: chunkApply, bplapply
  SpatialKMeans.Rd: chunkApply, bplapply
  SpatialPCA.Rd: chunkApply, bplapply, irlba
  SpatialPLS.Rd: chunkApply, bplapply
  SpatialResults-class.Rd: DataFrame-class
  SpatialShrunkenCentroids.Rd: chunkApply, bplapply
  SpectraArrays-class.Rd: SimpleList-class
  SpectralImagingArrays-class.Rd: ProcessingStep-class
  SpectralImagingData-class.Rd: ProcessingStep-class
  SpectralImagingExperiment-class.Rd: DataFrame-class,
    ProcessingStep-class
  XDataFrame-class.Rd: DataFrame-class, DataFrame
  colocalized.Rd: chunkApply, bplapply
  estimateDomain.Rd: chunkApply, bplapply, chunkLapply
  findNeighbors.Rd: sparse_mat-class
  normalize.Rd: rescale_sum, rescale_rms, rescale_ref
  peakAlign.Rd: chunkApply, bplapply
  peakPick.Rd: estnoise_diff, estnoise_sd, estnoise_mad,
    estnoise_quant, estnoise_filt, findpeaks_cwt
  peakProcess.Rd: chunkApply, bplapply
  plot-image.Rd: enhance, filt2, plot_image
  plot-spectra.Rd: downsample, plot_signal
  process.Rd: chunkApply, bplapply
  readMSIData.Rd: matter, chunkApply, bplapply
  recalibrate.Rd: warp1_loc, warp1_dtw, warp1_cow
  reduceBaseline.Rd: estbase_loc, estbase_hull, estbase_snip,
    estbase_med
  simulateSpectra.Rd: chunkApply, bplapply
  smooth.Rd: filt1_gauss, filt1_bi, filt1_adapt, filt1_diff,
    filt1_guide, filt1_pag, filt1_sg, filt1_ma
  spatialDists.Rd: chunkApply, bplapply
  spatialWeights.Rd: chunkApply, bplapply, sparse_mat-class
  spectrapply.Rd: chunkApply, bplapply
  summarize.Rd: chunkApply, bplapply
  writeMSIData.Rd: chunkApply, bplapply
Please provide package anchors for all Rd \link{} targets not in the
package itself and the base packages.
* checking for missing documentation entries ... OK
* checking for code/documentation mismatches ... OK
* checking Rd \usage sections ... OK
* checking Rd contents ... OK
* checking for unstated dependencies in examples ... OK
* checking files in 'vignettes' ... OK
* checking examples ... OK
Examples with CPU (user + system) or elapsed time > 5s
            user system elapsed
MeansTest  12.59   0.14   12.73
plot-image  6.56   0.12    6.68
* checking for unstated dependencies in 'tests' ... OK
* checking tests ...
  Running 'testthat.R'
 OK
* checking for unstated dependencies in vignettes ... OK
* checking package vignettes ... OK
* checking running R code from vignettes ... SKIPPED
* checking re-building of vignette outputs ... SKIPPED
* checking PDF version of manual ... OK
* DONE

Status: 1 NOTE
See
  'E:/biocbuild/bbs-3.21-bioc/meat/Cardinal.Rcheck/00check.log'
for details.


Installation output

Cardinal.Rcheck/00install.out

##############################################################################
##############################################################################
###
### Running command:
###
###   E:\biocbuild\bbs-3.21-bioc\R\bin\R.exe CMD INSTALL Cardinal
###
##############################################################################
##############################################################################


* installing to library 'E:/biocbuild/bbs-3.21-bioc/R/library'
* installing *source* package 'Cardinal' ...
** this is package 'Cardinal' version '3.9.0'
** using staged installation
** R
** inst
** byte-compile and prepare package for lazy loading
** help
*** installing help indices
** building package indices
** installing vignettes
** testing if installed package can be loaded from temporary location
** testing if installed package can be loaded from final location
** testing if installed package keeps a record of temporary installation path
* DONE (Cardinal)

Tests output

Cardinal.Rcheck/tests/testthat.Rout


R Under development (unstable) (2025-01-21 r87610 ucrt) -- "Unsuffered Consequences"
Copyright (C) 2025 The R Foundation for Statistical Computing
Platform: x86_64-w64-mingw32/x64

R is free software and comes with ABSOLUTELY NO WARRANTY.
You are welcome to redistribute it under certain conditions.
Type 'license()' or 'licence()' for distribution details.

R is a collaborative project with many contributors.
Type 'contributors()' for more information and
'citation()' on how to cite R or R packages in publications.

Type 'demo()' for some demos, 'help()' for on-line help, or
'help.start()' for an HTML browser interface to help.
Type 'q()' to quit R.

> library(testthat)
> library(Cardinal)
Loading required package: BiocParallel
Loading required package: BiocGenerics
Loading required package: generics

Attaching package: 'generics'

The following objects are masked from 'package:base':

    as.difftime, as.factor, as.ordered, intersect, is.element, setdiff,
    setequal, union


Attaching package: 'BiocGenerics'

The following objects are masked from 'package:stats':

    IQR, mad, sd, var, xtabs

The following objects are masked from 'package:base':

    Filter, Find, Map, Position, Reduce, anyDuplicated, aperm, append,
    as.data.frame, basename, cbind, colnames, dirname, do.call,
    duplicated, eval, evalq, get, grep, grepl, is.unsorted, lapply,
    mapply, match, mget, order, paste, pmax, pmax.int, pmin, pmin.int,
    rank, rbind, rownames, sapply, saveRDS, table, tapply, unique,
    unsplit, which.max, which.min

Loading required package: ProtGenerics

Attaching package: 'ProtGenerics'

The following object is masked from 'package:stats':

    smooth

Loading required package: S4Vectors
Loading required package: stats4

Attaching package: 'S4Vectors'

The following object is masked from 'package:utils':

    findMatches

The following objects are masked from 'package:base':

    I, expand.grid, unname

> 
> test_check("Cardinal")
[ FAIL 0 | WARN 0 | SKIP 0 | PASS 756 ]
> 
> proc.time()
   user  system elapsed 
 233.20    5.81  343.36 

Example timings

Cardinal.Rcheck/Cardinal-Ex.timings

nameusersystemelapsed
MSImagingArrays-class0.20.00.2
MSImagingExperiment-class0.420.000.43
MassDataFrame-class0.050.000.05
MeansTest12.59 0.1412.73
PositionDataFrame-class0.050.000.05
SpatialDGMM2.860.022.88
SpatialFastmap2.630.002.62
SpatialKMeans2.540.002.55
SpatialNMF2.380.012.47
SpatialPCA2.560.052.61
SpatialPLS2.440.052.48
SpatialShrunkenCentroids3.010.033.05
SpectraArrays-class0.020.000.01
SpectralImagingArrays-class0.050.000.05
SpectralImagingExperiment-class0.060.000.06
XDataFrame-class0.010.000.02
bin0.500.010.51
colocalized2.710.082.78
features2.120.052.18
findNeighbors0.060.000.06
normalize0.600.000.59
peakAlign0.760.030.80
peakPick0.710.000.70
peakProcess0.780.000.78
pixels2.200.002.21
plot-image6.560.126.68
plot-spectra0.80.00.8
process0.810.040.84
recalibrate0.640.010.66
reduceBaseline0.570.000.56
simulateSpectra2.590.022.61
sliceImage2.440.032.47
smooth0.840.010.86
spatialDists3.060.063.12
spatialWeights2.660.052.70
spectrapply2.710.012.73
subset2.720.052.77
summarize2.470.032.50