Back to Multiple platform build/check report for BioC 3.21:   simplified   long
ABCD[E]FGHIJKLMNOPQRSTUVWXYZ

This page was generated on 2025-02-06 11:40 -0500 (Thu, 06 Feb 2025).

HostnameOSArch (*)R versionInstalled pkgs
nebbiolo1Linux (Ubuntu 24.04.1 LTS)x86_64R Under development (unstable) (2025-01-20 r87609) -- "Unsuffered Consequences" 4719
palomino7Windows Server 2022 Datacenterx64R Under development (unstable) (2025-01-21 r87610 ucrt) -- "Unsuffered Consequences" 4480
lconwaymacOS 12.7.1 Montereyx86_64R Under development (unstable) (2025-01-22 r87618) -- "Unsuffered Consequences" 4491
kjohnson3macOS 13.7.1 Venturaarm64R Under development (unstable) (2025-01-20 r87609) -- "Unsuffered Consequences" 4444
Click on any hostname to see more info about the system (e.g. compilers)      (*) as reported by 'uname -p', except on Windows and Mac OS X

Package 639/2295HostnameOS / ArchINSTALLBUILDCHECKBUILD BIN
EMDomics 2.37.0  (landing page)
Sadhika Malladi and Daniel Schmolze
Snapshot Date: 2025-02-05 13:48 -0500 (Wed, 05 Feb 2025)
git_url: https://git.bioconductor.org/packages/EMDomics
git_branch: devel
git_last_commit: 593aa0c
git_last_commit_date: 2024-10-29 10:01:19 -0500 (Tue, 29 Oct 2024)
nebbiolo1Linux (Ubuntu 24.04.1 LTS) / x86_64  OK    OK    OK  UNNEEDED, same version is already published
palomino7Windows Server 2022 Datacenter / x64  OK    OK    OK    OK  UNNEEDED, same version is already published
lconwaymacOS 12.7.1 Monterey / x86_64  OK    OK    OK    OK  UNNEEDED, same version is already published
kjohnson3macOS 13.7.1 Ventura / arm64  OK    OK    OK    OK  UNNEEDED, same version is already published


CHECK results for EMDomics on palomino7

To the developers/maintainers of the EMDomics package:
- Allow up to 24 hours (and sometimes 48 hours) for your latest push to git@git.bioconductor.org:packages/EMDomics.git to reflect on this report. See Troubleshooting Build Report for more information.
- Use the following Renviron settings to reproduce errors and warnings.
- If 'R CMD check' started to fail recently on the Linux builder(s) over a missing dependency, add the missing dependency to 'Suggests:' in your DESCRIPTION file. See Renviron.bioc for more information.

raw results


Summary

Package: EMDomics
Version: 2.37.0
Command: E:\biocbuild\bbs-3.21-bioc\R\bin\R.exe CMD check --no-multiarch --install=check:EMDomics.install-out.txt --library=E:\biocbuild\bbs-3.21-bioc\R\library --no-vignettes --timings EMDomics_2.37.0.tar.gz
StartedAt: 2025-02-06 01:18:37 -0500 (Thu, 06 Feb 2025)
EndedAt: 2025-02-06 01:20:12 -0500 (Thu, 06 Feb 2025)
EllapsedTime: 95.5 seconds
RetCode: 0
Status:   OK  
CheckDir: EMDomics.Rcheck
Warnings: 0

Command output

##############################################################################
##############################################################################
###
### Running command:
###
###   E:\biocbuild\bbs-3.21-bioc\R\bin\R.exe CMD check --no-multiarch --install=check:EMDomics.install-out.txt --library=E:\biocbuild\bbs-3.21-bioc\R\library --no-vignettes --timings EMDomics_2.37.0.tar.gz
###
##############################################################################
##############################################################################


* using log directory 'E:/biocbuild/bbs-3.21-bioc/meat/EMDomics.Rcheck'
* using R Under development (unstable) (2025-01-21 r87610 ucrt)
* using platform: x86_64-w64-mingw32
* R was compiled by
    gcc.exe (GCC) 13.3.0
    GNU Fortran (GCC) 13.3.0
* running under: Windows Server 2022 x64 (build 20348)
* using session charset: UTF-8
* using option '--no-vignettes'
* checking for file 'EMDomics/DESCRIPTION' ... OK
* this is package 'EMDomics' version '2.37.0'
* checking package namespace information ... OK
* checking package dependencies ... OK
* checking if this is a source package ... OK
* checking if there is a namespace ... OK
* checking for hidden files and directories ... OK
* checking for portable file names ... OK
* checking whether package 'EMDomics' can be installed ... OK
* checking installed package size ... OK
* checking package directory ... OK
* checking 'build' directory ... OK
* checking DESCRIPTION meta-information ... NOTE
Authors@R field gives more than one person with maintainer role:
  Sadhika Malladi <contact@sadhikamalladi.com> [aut, cre]
  Daniel Schmolze <emd@schmolze.com> [aut, cre]
* checking top-level files ... OK
* checking for left-over files ... OK
* checking index information ... OK
* checking package subdirectories ... OK
* checking code files for non-ASCII characters ... OK
* checking R files for syntax errors ... OK
* checking whether the package can be loaded ... OK
* checking whether the package can be loaded with stated dependencies ... OK
* checking whether the package can be unloaded cleanly ... OK
* checking whether the namespace can be loaded with stated dependencies ... OK
* checking whether the namespace can be unloaded cleanly ... OK
* checking dependencies in R code ... OK
* checking S3 generic/method consistency ... OK
* checking replacement functions ... OK
* checking foreign function calls ... OK
* checking R code for possible problems ... NOTE
.cvm_pairwise_q: no visible global function definition for 'combn'
.cvm_pairwise_q : <anonymous>: no visible global function definition
  for 'median'
.emd_gene_pairwise: no visible global function definition for 'hist'
.emd_pairwise_q: no visible global function definition for 'combn'
.emd_pairwise_q : <anonymous>: no visible global function definition
  for 'median'
.ks_pairwise_table: no visible global function definition for 'ks.test'
calculate_cvm: no visible global function definition for 'combn'
calculate_cvm : <anonymous>: no visible global function definition for
  'median'
calculate_cvm_gene: no visible global function definition for 'combn'
calculate_emd: no visible global function definition for 'combn'
calculate_emd : <anonymous>: no visible global function definition for
  'median'
calculate_emd_gene: no visible global function definition for 'combn'
calculate_ks: no visible global function definition for 'combn'
calculate_ks : <anonymous>: no visible global function definition for
  'p.adjust'
calculate_ks : <anonymous>: no visible global function definition for
  'median'
calculate_ks_gene: no visible global function definition for 'combn'
calculate_ks_gene: no visible global function definition for 'ks.test'
Undefined global functions or variables:
  combn hist ks.test median p.adjust
Consider adding
  importFrom("graphics", "hist")
  importFrom("stats", "ks.test", "median", "p.adjust")
  importFrom("utils", "combn")
to your NAMESPACE file.
* checking Rd files ... OK
* checking Rd metadata ... NOTE
Invalid package aliases in Rd file 'emdomics-package.Rd':
  'emdomics-package'
* checking Rd cross-references ... OK
* checking for missing documentation entries ... OK
* checking for code/documentation mismatches ... OK
* checking Rd \usage sections ... OK
* checking Rd contents ... OK
* checking for unstated dependencies in examples ... OK
* checking files in 'vignettes' ... OK
* checking examples ... OK
Examples with CPU (user + system) or elapsed time > 5s
                 user system elapsed
plot_cvm_density 8.16   0.14    8.33
plot_cvmperms    7.54   0.08    7.65
calculate_cvm    7.33   0.09    7.43
* checking for unstated dependencies in vignettes ... OK
* checking package vignettes ... OK
* checking running R code from vignettes ... SKIPPED
* checking re-building of vignette outputs ... SKIPPED
* checking PDF version of manual ... OK
* DONE

Status: 3 NOTEs
See
  'E:/biocbuild/bbs-3.21-bioc/meat/EMDomics.Rcheck/00check.log'
for details.


Installation output

EMDomics.Rcheck/00install.out

##############################################################################
##############################################################################
###
### Running command:
###
###   E:\biocbuild\bbs-3.21-bioc\R\bin\R.exe CMD INSTALL EMDomics
###
##############################################################################
##############################################################################


* installing to library 'E:/biocbuild/bbs-3.21-bioc/R/library'
* installing *source* package 'EMDomics' ...
** this is package 'EMDomics' version '2.37.0'
** using staged installation
** R
** byte-compile and prepare package for lazy loading
** help
*** installing help indices
** building package indices
** installing vignettes
** testing if installed package can be loaded from temporary location
** testing if installed package can be loaded from final location
** testing if installed package keeps a record of temporary installation path
* DONE (EMDomics)

Tests output


Example timings

EMDomics.Rcheck/EMDomics-Ex.timings

nameusersystemelapsed
calculate_cvm7.330.097.43
calculate_cvm_gene000
calculate_emd4.250.054.29
calculate_emd_gene000
calculate_ks1.740.081.82
calculate_ks_gene0.010.000.01
plot_cvm_density8.160.148.33
plot_cvmnull2.830.012.84
plot_cvmperms7.540.087.65
plot_emd_density4.770.084.86
plot_emdnull2.030.062.09
plot_emdperms4.530.014.55
plot_ks_density1.740.021.75
plot_ksnull1.150.001.15
plot_ksperms1.920.041.96