Back to Multiple platform build/check report for BioC 3.21:   simplified   long
ABCDE[F]GHIJKLMNOPQRSTUVWXYZ

This page was generated on 2025-02-06 11:42 -0500 (Thu, 06 Feb 2025).

HostnameOSArch (*)R versionInstalled pkgs
nebbiolo1Linux (Ubuntu 24.04.1 LTS)x86_64R Under development (unstable) (2025-01-20 r87609) -- "Unsuffered Consequences" 4719
palomino7Windows Server 2022 Datacenterx64R Under development (unstable) (2025-01-21 r87610 ucrt) -- "Unsuffered Consequences" 4480
lconwaymacOS 12.7.1 Montereyx86_64R Under development (unstable) (2025-01-22 r87618) -- "Unsuffered Consequences" 4491
kjohnson3macOS 13.7.1 Venturaarm64R Under development (unstable) (2025-01-20 r87609) -- "Unsuffered Consequences" 4444
Click on any hostname to see more info about the system (e.g. compilers)      (*) as reported by 'uname -p', except on Windows and Mac OS X

Package 741/2295HostnameOS / ArchINSTALLBUILDCHECKBUILD BIN
FlowSOM 2.15.0  (landing page)
Sofie Van Gassen
Snapshot Date: 2025-02-05 13:48 -0500 (Wed, 05 Feb 2025)
git_url: https://git.bioconductor.org/packages/FlowSOM
git_branch: devel
git_last_commit: b617807
git_last_commit_date: 2024-10-29 09:57:26 -0500 (Tue, 29 Oct 2024)
nebbiolo1Linux (Ubuntu 24.04.1 LTS) / x86_64  OK    OK    OK  UNNEEDED, same version is already published
palomino7Windows Server 2022 Datacenter / x64  OK    OK    OK    OK  UNNEEDED, same version is already published
lconwaymacOS 12.7.1 Monterey / x86_64  OK    OK    OK    OK  UNNEEDED, same version is already published
kjohnson3macOS 13.7.1 Ventura / arm64  OK    OK    OK    OK  UNNEEDED, same version is already published


CHECK results for FlowSOM on lconway

To the developers/maintainers of the FlowSOM package:
- Allow up to 24 hours (and sometimes 48 hours) for your latest push to git@git.bioconductor.org:packages/FlowSOM.git to reflect on this report. See Troubleshooting Build Report for more information.
- Use the following Renviron settings to reproduce errors and warnings.
- If 'R CMD check' started to fail recently on the Linux builder(s) over a missing dependency, add the missing dependency to 'Suggests:' in your DESCRIPTION file. See Renviron.bioc for more information.

raw results


Summary

Package: FlowSOM
Version: 2.15.0
Command: /Library/Frameworks/R.framework/Resources/bin/R CMD check --install=check:FlowSOM.install-out.txt --library=/Library/Frameworks/R.framework/Resources/library --no-vignettes --timings FlowSOM_2.15.0.tar.gz
StartedAt: 2025-02-05 20:32:51 -0500 (Wed, 05 Feb 2025)
EndedAt: 2025-02-05 20:42:06 -0500 (Wed, 05 Feb 2025)
EllapsedTime: 555.2 seconds
RetCode: 0
Status:   OK  
CheckDir: FlowSOM.Rcheck
Warnings: 0

Command output

##############################################################################
##############################################################################
###
### Running command:
###
###   /Library/Frameworks/R.framework/Resources/bin/R CMD check --install=check:FlowSOM.install-out.txt --library=/Library/Frameworks/R.framework/Resources/library --no-vignettes --timings FlowSOM_2.15.0.tar.gz
###
##############################################################################
##############################################################################


* using log directory ‘/Users/biocbuild/bbs-3.21-bioc/meat/FlowSOM.Rcheck’
* using R Under development (unstable) (2025-01-22 r87618)
* using platform: x86_64-apple-darwin20
* R was compiled by
    Apple clang version 14.0.0 (clang-1400.0.29.202)
    GNU Fortran (GCC) 14.2.0
* running under: macOS Monterey 12.7.6
* using session charset: UTF-8
* using option ‘--no-vignettes’
* checking for file ‘FlowSOM/DESCRIPTION’ ... OK
* this is package ‘FlowSOM’ version ‘2.15.0’
* package encoding: UTF-8
* checking package namespace information ... OK
* checking package dependencies ... OK
* checking if this is a source package ... OK
* checking if there is a namespace ... OK
* checking for hidden files and directories ... OK
* checking for portable file names ... OK
* checking for sufficient/correct file permissions ... OK
* checking whether package ‘FlowSOM’ can be installed ... OK
* used C compiler: ‘Apple clang version 14.0.0 (clang-1400.0.29.202)’
* used SDK: ‘MacOSX11.3.sdk’
* checking installed package size ... OK
* checking package directory ... OK
* checking ‘build’ directory ... OK
* checking DESCRIPTION meta-information ... OK
* checking top-level files ... OK
* checking for left-over files ... OK
* checking index information ... OK
* checking package subdirectories ... OK
* checking code files for non-ASCII characters ... OK
* checking R files for syntax errors ... OK
* checking whether the package can be loaded ... OK
* checking whether the package can be loaded with stated dependencies ... OK
* checking whether the package can be unloaded cleanly ... OK
* checking whether the namespace can be loaded with stated dependencies ... OK
* checking whether the namespace can be unloaded cleanly ... OK
* checking whether startup messages can be suppressed ... OK
* checking dependencies in R code ... OK
* checking S3 generic/method consistency ... OK
* checking replacement functions ... OK
* checking foreign function calls ... OK
* checking R code for possible problems ... OK
* checking Rd files ... NOTE
checkRd: (-1) PlotDimRed.Rd:55: Lost braces
    55 | of the dimred default = function(dimred){dimred$Y}.}
       |                                         ^
* checking Rd metadata ... OK
* checking Rd cross-references ... OK
* checking for missing documentation entries ... OK
* checking for code/documentation mismatches ... OK
* checking Rd \usage sections ... OK
* checking Rd contents ... OK
* checking for unstated dependencies in examples ... OK
* checking line endings in C/C++/Fortran sources/headers ... OK
* checking compiled code ... NOTE
Note: information on .o files is not available
* checking sizes of PDF files under ‘inst/doc’ ... OK
* checking files in ‘vignettes’ ... OK
* checking examples ... OK
Examples with CPU (user + system) or elapsed time > 5s
                                    user system elapsed
FlowSOMmary                       48.167  2.185  50.454
PlotDimRed                        41.879  2.433  44.794
PlotOutliers                      19.667  1.013  20.914
UpdateMetaclusters                16.654  1.328  18.175
PlotMarker                        16.717  1.151  18.022
PlotStars                         14.392  1.016  15.579
GroupStats                        12.218  0.941  13.286
FlowSOM                           11.730  0.986  12.838
PlotGroups                        10.848  1.179  12.158
QueryMultiple                      9.289  0.552   9.949
Plot2DScatters                     8.935  0.844   9.901
AddAnnotation                      8.755  0.646   9.473
query_multiple                     8.773  0.506   9.382
PlotManualBars                     8.219  0.840   9.185
GetFlowJoLabels                    7.459  0.664   8.194
PlotNode                           6.966  0.814   7.882
PlotVariable                       6.813  0.787   7.721
QueryStarPlot                      7.075  0.385   7.546
PlotPies                           6.605  0.848   7.541
PlotNumbers                        6.604  0.810   7.536
CountGroups                        6.050  0.585   6.700
SaveClustersToFCS                  5.694  0.901   6.697
PlotFlowSOM                        5.817  0.720   6.600
NMetaclusters                      5.727  0.788   6.619
UpdateNodeSize                     6.215  0.299   6.600
PlotLabels                         5.734  0.682   6.513
NClusters                          5.425  0.871   6.386
GetFeatures                        5.580  0.385   6.017
MetaclusterMFIs                    5.099  0.760   5.919
TestOutliers                       4.960  0.652   5.690
GetMFIs                            4.611  0.757   5.465
PlotOverview2D                     4.621  0.596   5.290
print.FlowSOM                      4.435  0.720   5.222
GetPercentages                     4.379  0.752   5.185
GetMetaclusters                    4.392  0.610   5.047
MetaclusterCVs                     4.398  0.600   5.041
GetMetaclusterPercentagesPositive  4.237  0.718   5.009
* checking for unstated dependencies in vignettes ... OK
* checking package vignettes ... OK
* checking running R code from vignettes ... SKIPPED
* checking re-building of vignette outputs ... SKIPPED
* checking PDF version of manual ... OK
* DONE

Status: 2 NOTEs
See
  ‘/Users/biocbuild/bbs-3.21-bioc/meat/FlowSOM.Rcheck/00check.log’
for details.


Installation output

FlowSOM.Rcheck/00install.out

##############################################################################
##############################################################################
###
### Running command:
###
###   /Library/Frameworks/R.framework/Resources/bin/R CMD INSTALL FlowSOM
###
##############################################################################
##############################################################################


* installing to library ‘/Library/Frameworks/R.framework/Versions/4.5-x86_64/Resources/library’
* installing *source* package ‘FlowSOM’ ...
** this is package ‘FlowSOM’ version ‘2.15.0’
** using staged installation
** libs
using C compiler: ‘Apple clang version 14.0.0 (clang-1400.0.29.202)’
using SDK: ‘MacOSX11.3.sdk’
clang -arch x86_64 -I"/Library/Frameworks/R.framework/Resources/include" -DNDEBUG   -I/opt/R/x86_64/include    -fPIC  -falign-functions=64 -Wall -g -O2  -c som.c -o som.o
clang -arch x86_64 -dynamiclib -Wl,-headerpad_max_install_names -undefined dynamic_lookup -L/Library/Frameworks/R.framework/Resources/lib -L/opt/R/x86_64/lib -o FlowSOM.so som.o -F/Library/Frameworks/R.framework/.. -framework R -Wl,-framework -Wl,CoreFoundation
installing to /Library/Frameworks/R.framework/Versions/4.5-x86_64/Resources/library/00LOCK-FlowSOM/00new/FlowSOM/libs
** R
** inst
** byte-compile and prepare package for lazy loading
** help
*** installing help indices
** building package indices
** installing vignettes
** testing if installed package can be loaded from temporary location
** checking absolute paths in shared objects and dynamic libraries
** testing if installed package can be loaded from final location
** testing if installed package keeps a record of temporary installation path
* DONE (FlowSOM)

Tests output


Example timings

FlowSOM.Rcheck/FlowSOM-Ex.timings

nameusersystemelapsed
AddAnnotation8.7550.6469.473
AggregateFlowFrames0.1030.0050.109
BuildMST1.5310.1111.665
BuildSOM1.2720.0771.364
CountGroups6.0500.5856.700
FMeasure0.0020.0000.002
FlowSOM11.730 0.98612.838
FlowSOMSubset4.1420.4294.621
FlowSOMmary48.167 2.18550.454
GetChannels0.0400.0030.043
GetClusterMFIs4.0080.4784.517
GetClusterPercentagesPositive4.0560.4534.547
GetClusters4.0480.5384.616
GetCounts3.9280.4604.421
GetFeatures5.5800.3856.017
GetFlowJoLabels7.4590.6648.194
GetMFIs4.6110.7575.465
GetMarkers0.0490.0060.061
GetMetaclusterCVs4.3260.5374.914
GetMetaclusterMFIs4.2690.5934.911
GetMetaclusterPercentagesPositive4.2370.7185.009
GetMetaclusters4.3920.6105.047
GetPercentages4.3790.7525.185
GroupStats12.218 0.94113.286
Initialize_KWSP0.0040.0010.004
Initialize_PCA0.0010.0000.002
MetaClustering3.4240.6314.101
MetaclusterCVs4.3980.6005.041
MetaclusterMFIs5.0990.7605.919
NClusters5.4250.8716.386
NMetaclusters5.7270.7886.619
NewData4.1080.4264.600
Plot2DScatters8.9350.8449.901
PlotCenters1.3710.0841.477
PlotClusters2D1.3890.1691.578
PlotDimRed41.879 2.43344.794
PlotFileScatters0.8320.0360.870
PlotFlowSOM5.8170.7206.600
PlotGroups10.848 1.17912.158
PlotLabels5.7340.6826.513
PlotManualBars8.2190.8409.185
PlotMarker16.717 1.15118.022
PlotNode6.9660.8147.882
PlotNumbers6.6040.8107.536
PlotOutliers19.667 1.01320.914
PlotOverview2D4.6210.5965.290
PlotPies6.6050.8487.541
PlotSD2.1640.1392.330
PlotStars14.392 1.01615.579
PlotVariable6.8130.7877.721
Purity0.0010.0010.001
QueryMultiple9.2890.5529.949
QueryStarPlot7.0750.3857.546
ReadInput3.3170.5833.955
SaveClustersToFCS5.6940.9016.697
TestOutliers4.9600.6525.690
UpdateMetaclusters16.654 1.32818.175
UpdateNodeSize6.2150.2996.600
get_channels0.0410.0030.044
get_markers0.0440.0030.049
metaClustering_consensus2.9460.6023.620
plotStarLegend0.4240.0040.430
print.FlowSOM4.4350.7205.222
query_multiple8.7730.5069.382