Back to Multiple platform build/check report for BioC 3.21: simplified long |
|
This page was generated on 2025-02-06 11:43 -0500 (Thu, 06 Feb 2025).
Hostname | OS | Arch (*) | R version | Installed pkgs |
---|---|---|---|---|
nebbiolo1 | Linux (Ubuntu 24.04.1 LTS) | x86_64 | R Under development (unstable) (2025-01-20 r87609) -- "Unsuffered Consequences" | 4719 |
palomino7 | Windows Server 2022 Datacenter | x64 | R Under development (unstable) (2025-01-21 r87610 ucrt) -- "Unsuffered Consequences" | 4480 |
lconway | macOS 12.7.1 Monterey | x86_64 | R Under development (unstable) (2025-01-22 r87618) -- "Unsuffered Consequences" | 4491 |
kjohnson3 | macOS 13.7.1 Ventura | arm64 | R Under development (unstable) (2025-01-20 r87609) -- "Unsuffered Consequences" | 4444 |
Click on any hostname to see more info about the system (e.g. compilers) (*) as reported by 'uname -p', except on Windows and Mac OS X |
Package 898/2295 | Hostname | OS / Arch | INSTALL | BUILD | CHECK | BUILD BIN | ||||||||
GRaNIE 1.11.0 (landing page) Christian Arnold
| nebbiolo1 | Linux (Ubuntu 24.04.1 LTS) / x86_64 | OK | OK | OK | ![]() | ||||||||
palomino7 | Windows Server 2022 Datacenter / x64 | OK | OK | WARNINGS | OK | ![]() | ||||||||
lconway | macOS 12.7.1 Monterey / x86_64 | OK | OK | OK | OK | ![]() | ||||||||
kjohnson3 | macOS 13.7.1 Ventura / arm64 | OK | OK | OK | OK | ![]() | ||||||||
To the developers/maintainers of the GRaNIE package: - Allow up to 24 hours (and sometimes 48 hours) for your latest push to git@git.bioconductor.org:packages/GRaNIE.git to reflect on this report. See Troubleshooting Build Report for more information. - Use the following Renviron settings to reproduce errors and warnings. - If 'R CMD check' started to fail recently on the Linux builder(s) over a missing dependency, add the missing dependency to 'Suggests:' in your DESCRIPTION file. See Renviron.bioc for more information. |
Package: GRaNIE |
Version: 1.11.0 |
Command: /Library/Frameworks/R.framework/Resources/bin/R CMD check --install=check:GRaNIE.install-out.txt --library=/Library/Frameworks/R.framework/Resources/library --no-vignettes --timings GRaNIE_1.11.0.tar.gz |
StartedAt: 2025-02-05 19:38:10 -0500 (Wed, 05 Feb 2025) |
EndedAt: 2025-02-05 19:41:22 -0500 (Wed, 05 Feb 2025) |
EllapsedTime: 192.4 seconds |
RetCode: 0 |
Status: OK |
CheckDir: GRaNIE.Rcheck |
Warnings: 0 |
############################################################################## ############################################################################## ### ### Running command: ### ### /Library/Frameworks/R.framework/Resources/bin/R CMD check --install=check:GRaNIE.install-out.txt --library=/Library/Frameworks/R.framework/Resources/library --no-vignettes --timings GRaNIE_1.11.0.tar.gz ### ############################################################################## ############################################################################## * using log directory ‘/Users/biocbuild/bbs-3.21-bioc/meat/GRaNIE.Rcheck’ * using R Under development (unstable) (2025-01-20 r87609) * using platform: aarch64-apple-darwin20 * R was compiled by Apple clang version 14.0.0 (clang-1400.0.29.202) GNU Fortran (GCC) 14.2.0 * running under: macOS Ventura 13.7.1 * using session charset: UTF-8 * using option ‘--no-vignettes’ * checking for file ‘GRaNIE/DESCRIPTION’ ... OK * this is package ‘GRaNIE’ version ‘1.11.0’ * package encoding: UTF-8 * checking package namespace information ... OK * checking package dependencies ... INFO Imports includes 37 non-default packages. Importing from so many packages makes the package vulnerable to any of them becoming unavailable. Move as many as possible to Suggests and use conditionally. * checking if this is a source package ... OK * checking if there is a namespace ... OK * checking for hidden files and directories ... OK * checking for portable file names ... OK * checking for sufficient/correct file permissions ... OK * checking whether package ‘GRaNIE’ can be installed ... OK * checking installed package size ... OK * checking package directory ... OK * checking ‘build’ directory ... OK * checking DESCRIPTION meta-information ... OK * checking top-level files ... OK * checking for left-over files ... OK * checking index information ... OK * checking package subdirectories ... OK * checking code files for non-ASCII characters ... OK * checking R files for syntax errors ... OK * checking whether the package can be loaded ... OK * checking whether the package can be loaded with stated dependencies ... OK * checking whether the package can be unloaded cleanly ... OK * checking whether the namespace can be loaded with stated dependencies ... OK * checking whether the namespace can be unloaded cleanly ... OK * checking whether startup messages can be suppressed ... OK * checking dependencies in R code ... OK * checking S3 generic/method consistency ... OK * checking replacement functions ... OK * checking foreign function calls ... OK * checking R code for possible problems ... NOTE .performIHW: no visible binding for global variable 'adj_pvalue' Undefined global functions or variables: adj_pvalue * checking Rd files ... OK * checking Rd metadata ... OK * checking Rd cross-references ... OK * checking for missing documentation entries ... OK * checking for code/documentation mismatches ... OK * checking Rd \usage sections ... OK * checking Rd contents ... OK * checking for unstated dependencies in examples ... OK * checking files in ‘vignettes’ ... OK * checking examples ... OK * checking for unstated dependencies in vignettes ... OK * checking package vignettes ... OK * checking running R code from vignettes ... SKIPPED * checking re-building of vignette outputs ... SKIPPED * checking PDF version of manual ... OK * DONE Status: 1 NOTE See ‘/Users/biocbuild/bbs-3.21-bioc/meat/GRaNIE.Rcheck/00check.log’ for details.
GRaNIE.Rcheck/00install.out
############################################################################## ############################################################################## ### ### Running command: ### ### /Library/Frameworks/R.framework/Resources/bin/R CMD INSTALL GRaNIE ### ############################################################################## ############################################################################## * installing to library ‘/Library/Frameworks/R.framework/Versions/4.5-arm64/Resources/library’ * installing *source* package ‘GRaNIE’ ... ** this is package ‘GRaNIE’ version ‘1.11.0’ ** using staged installation ** R ** byte-compile and prepare package for lazy loading ** help *** installing help indices *** copying figures ** building package indices ** installing vignettes ** testing if installed package can be loaded from temporary location ** testing if installed package can be loaded from final location ** testing if installed package keeps a record of temporary installation path * DONE (GRaNIE)
GRaNIE.Rcheck/GRaNIE-Ex.timings
name | user | system | elapsed | |
AR_classification_wrapper | 0 | 0 | 0 | |
addConnections_TF_peak | 1.803 | 0.258 | 3.367 | |
addConnections_peak_gene | 1.212 | 0.024 | 1.908 | |
addData | 0 | 0 | 0 | |
addSNPData | 1.761 | 0.111 | 4.475 | |
addTFBS | 0 | 0 | 0 | |
add_TF_gene_correlation | 1.201 | 0.035 | 1.994 | |
add_featureVariation | 0.000 | 0.000 | 0.001 | |
build_eGRN_graph | 0.928 | 0.025 | 1.682 | |
calculateCommunitiesEnrichment | 1.719 | 0.064 | 2.918 | |
calculateCommunitiesStats | 0.883 | 0.031 | 1.596 | |
calculateGeneralEnrichment | 1.329 | 0.027 | 2.161 | |
calculateTFEnrichment | 0.932 | 0.022 | 1.651 | |
changeOutputDirectory | 0.948 | 0.028 | 1.897 | |
deleteIntermediateData | 0.804 | 0.022 | 1.379 | |
filterConnectionsForPlotting | 0.893 | 0.025 | 1.641 | |
filterData | 1.264 | 0.033 | 2.271 | |
filterGRNAndConnectGenes | 0.861 | 0.024 | 1.393 | |
generateStatsSummary | 2.787 | 0.072 | 3.338 | |
getCounts | 0.746 | 0.026 | 1.222 | |
getGRNConnections | 0.753 | 0.023 | 1.228 | |
getGRNSummary | 1.411 | 0.025 | 1.874 | |
getParameters | 0.727 | 0.018 | 1.192 | |
getTopNodes | 0.805 | 0.023 | 1.244 | |
initializeGRN | 0.005 | 0.001 | 0.006 | |
loadExampleObject | 0.805 | 0.018 | 1.260 | |
nGenes | 1.183 | 0.025 | 1.647 | |
nPeaks | 0.712 | 0.018 | 1.156 | |
nTFs | 0.774 | 0.024 | 1.204 | |
overlapPeaksAndTFBS | 0.752 | 0.021 | 1.227 | |
performAllNetworkAnalyses | 0 | 0 | 0 | |
plotCommunitiesEnrichment | 1.178 | 0.039 | 1.640 | |
plotCommunitiesStats | 1.139 | 0.029 | 1.669 | |
plotCorrelations | 1.347 | 0.032 | 1.855 | |
plotDiagnosticPlots_TFPeaks | 1.397 | 0.047 | 1.941 | |
plotDiagnosticPlots_peakGene | 2.430 | 0.057 | 2.948 | |
plotGeneralEnrichment | 0.842 | 0.018 | 1.275 | |
plotGeneralGraphStats | 1.008 | 0.023 | 1.453 | |
plotPCA_all | 1.583 | 0.063 | 2.103 | |
plotTFEnrichment | 0.994 | 0.032 | 1.471 | |
plot_stats_connectionSummary | 0.962 | 0.029 | 1.437 | |
visualizeGRN | 1.601 | 0.046 | 2.088 | |