Back to Multiple platform build/check report for BioC 3.21: simplified long |
|
This page was generated on 2025-02-06 11:43 -0500 (Thu, 06 Feb 2025).
Hostname | OS | Arch (*) | R version | Installed pkgs |
---|---|---|---|---|
nebbiolo1 | Linux (Ubuntu 24.04.1 LTS) | x86_64 | R Under development (unstable) (2025-01-20 r87609) -- "Unsuffered Consequences" | 4719 |
palomino7 | Windows Server 2022 Datacenter | x64 | R Under development (unstable) (2025-01-21 r87610 ucrt) -- "Unsuffered Consequences" | 4480 |
lconway | macOS 12.7.1 Monterey | x86_64 | R Under development (unstable) (2025-01-22 r87618) -- "Unsuffered Consequences" | 4491 |
kjohnson3 | macOS 13.7.1 Ventura | arm64 | R Under development (unstable) (2025-01-20 r87609) -- "Unsuffered Consequences" | 4444 |
Click on any hostname to see more info about the system (e.g. compilers) (*) as reported by 'uname -p', except on Windows and Mac OS X |
Package 815/2295 | Hostname | OS / Arch | INSTALL | BUILD | CHECK | BUILD BIN | ||||||||
GenomAutomorphism 1.9.1 (landing page) Robersy Sanchez
| nebbiolo1 | Linux (Ubuntu 24.04.1 LTS) / x86_64 | OK | OK | OK | ![]() | ||||||||
palomino7 | Windows Server 2022 Datacenter / x64 | OK | OK | OK | OK | ![]() | ||||||||
lconway | macOS 12.7.1 Monterey / x86_64 | OK | OK | OK | OK | ![]() | ||||||||
kjohnson3 | macOS 13.7.1 Ventura / arm64 | OK | OK | OK | OK | ![]() | ||||||||
To the developers/maintainers of the GenomAutomorphism package: - Allow up to 24 hours (and sometimes 48 hours) for your latest push to git@git.bioconductor.org:packages/GenomAutomorphism.git to reflect on this report. See Troubleshooting Build Report for more information. - Use the following Renviron settings to reproduce errors and warnings. - If 'R CMD check' started to fail recently on the Linux builder(s) over a missing dependency, add the missing dependency to 'Suggests:' in your DESCRIPTION file. See Renviron.bioc for more information. |
Package: GenomAutomorphism |
Version: 1.9.1 |
Command: /Library/Frameworks/R.framework/Resources/bin/R CMD check --install=check:GenomAutomorphism.install-out.txt --library=/Library/Frameworks/R.framework/Resources/library --no-vignettes --timings GenomAutomorphism_1.9.1.tar.gz |
StartedAt: 2025-02-05 19:27:40 -0500 (Wed, 05 Feb 2025) |
EndedAt: 2025-02-05 19:29:57 -0500 (Wed, 05 Feb 2025) |
EllapsedTime: 136.5 seconds |
RetCode: 0 |
Status: OK |
CheckDir: GenomAutomorphism.Rcheck |
Warnings: 0 |
############################################################################## ############################################################################## ### ### Running command: ### ### /Library/Frameworks/R.framework/Resources/bin/R CMD check --install=check:GenomAutomorphism.install-out.txt --library=/Library/Frameworks/R.framework/Resources/library --no-vignettes --timings GenomAutomorphism_1.9.1.tar.gz ### ############################################################################## ############################################################################## * using log directory ‘/Users/biocbuild/bbs-3.21-bioc/meat/GenomAutomorphism.Rcheck’ * using R Under development (unstable) (2025-01-20 r87609) * using platform: aarch64-apple-darwin20 * R was compiled by Apple clang version 14.0.0 (clang-1400.0.29.202) GNU Fortran (GCC) 14.2.0 * running under: macOS Ventura 13.7.1 * using session charset: UTF-8 * using option ‘--no-vignettes’ * checking for file ‘GenomAutomorphism/DESCRIPTION’ ... OK * this is package ‘GenomAutomorphism’ version ‘1.9.1’ * package encoding: UTF-8 * checking package namespace information ... OK * checking package dependencies ... OK * checking if this is a source package ... OK * checking if there is a namespace ... OK * checking for hidden files and directories ... OK * checking for portable file names ... OK * checking for sufficient/correct file permissions ... OK * checking whether package ‘GenomAutomorphism’ can be installed ... OK * checking installed package size ... OK * checking package directory ... OK * checking ‘build’ directory ... OK * checking DESCRIPTION meta-information ... OK * checking top-level files ... OK * checking for left-over files ... OK * checking index information ... OK * checking package subdirectories ... OK * checking code files for non-ASCII characters ... OK * checking R files for syntax errors ... OK * checking whether the package can be loaded ... OK * checking whether the package can be loaded with stated dependencies ... OK * checking whether the package can be unloaded cleanly ... OK * checking whether the namespace can be loaded with stated dependencies ... OK * checking whether the namespace can be unloaded cleanly ... OK * checking dependencies in R code ... OK * checking S3 generic/method consistency ... OK * checking replacement functions ... OK * checking foreign function calls ... OK * checking R code for possible problems ... OK * checking Rd files ... OK * checking Rd metadata ... OK * checking Rd cross-references ... OK * checking for missing documentation entries ... OK * checking for code/documentation mismatches ... OK * checking Rd \usage sections ... OK * checking Rd contents ... OK * checking for unstated dependencies in examples ... OK * checking contents of ‘data’ directory ... OK * checking data for non-ASCII characters ... OK * checking data for ASCII and uncompressed saves ... OK * checking files in ‘vignettes’ ... OK * checking examples ... OK Examples with CPU (user + system) or elapsed time > 5s user system elapsed automorphisms 2.482 0.058 20.298 autZ64 0.934 0.021 6.904 aut3D 0.729 0.053 6.621 autZ125 0.696 0.019 5.347 autZ5 0.550 0.022 6.589 * checking for unstated dependencies in ‘tests’ ... OK * checking tests ... Running ‘spelling.R’ Running ‘testthat.R’ OK * checking for unstated dependencies in vignettes ... OK * checking package vignettes ... OK * checking running R code from vignettes ... SKIPPED * checking re-building of vignette outputs ... SKIPPED * checking PDF version of manual ... OK * DONE Status: OK
GenomAutomorphism.Rcheck/00install.out
############################################################################## ############################################################################## ### ### Running command: ### ### /Library/Frameworks/R.framework/Resources/bin/R CMD INSTALL GenomAutomorphism ### ############################################################################## ############################################################################## * installing to library ‘/Library/Frameworks/R.framework/Versions/4.5-arm64/Resources/library’ * installing *source* package ‘GenomAutomorphism’ ... ** this is package ‘GenomAutomorphism’ version ‘1.9.1’ ** using staged installation ** R ** data ** inst ** byte-compile and prepare package for lazy loading ** help *** installing help indices *** copying figures ** building package indices ** installing vignettes ** testing if installed package can be loaded from temporary location ** testing if installed package can be loaded from final location ** testing if installed package keeps a record of temporary installation path * DONE (GenomAutomorphism)
GenomAutomorphism.Rcheck/tests/spelling.Rout
R Under development (unstable) (2025-01-20 r87609) -- "Unsuffered Consequences" Copyright (C) 2025 The R Foundation for Statistical Computing Platform: aarch64-apple-darwin20 R is free software and comes with ABSOLUTELY NO WARRANTY. You are welcome to redistribute it under certain conditions. Type 'license()' or 'licence()' for distribution details. R is a collaborative project with many contributors. Type 'contributors()' for more information and 'citation()' on how to cite R or R packages in publications. Type 'demo()' for some demos, 'help()' for on-line help, or 'help.start()' for an HTML browser interface to help. Type 'q()' to quit R. > if (requireNamespace("spelling", quietly = TRUE)) { + spelling::spell_check_test( + vignettes = TRUE, error = FALSE, + skip_on_cran = TRUE + ) + } NULL > > proc.time() user system elapsed 0.063 0.020 0.080
GenomAutomorphism.Rcheck/tests/testthat.Rout
R Under development (unstable) (2025-01-20 r87609) -- "Unsuffered Consequences" Copyright (C) 2025 The R Foundation for Statistical Computing Platform: aarch64-apple-darwin20 R is free software and comes with ABSOLUTELY NO WARRANTY. You are welcome to redistribute it under certain conditions. Type 'license()' or 'licence()' for distribution details. R is a collaborative project with many contributors. Type 'contributors()' for more information and 'citation()' on how to cite R or R packages in publications. Type 'demo()' for some demos, 'help()' for on-line help, or 'help.start()' for an HTML browser interface to help. Type 'q()' to quit R. > library(testthat) > library(GenomAutomorphism) > > test_check("GenomAutomorphism") [ FAIL 0 | WARN 0 | SKIP 0 | PASS 34 ] > > proc.time() user system elapsed 9.138 0.445 25.004
GenomAutomorphism.Rcheck/GenomAutomorphism-Ex.timings
name | user | system | elapsed | |
AutomorphismByCoef | 0.142 | 0.004 | 0.145 | |
AutomorphismList | 0.876 | 0.011 | 0.887 | |
CodonMatrix | 0.049 | 0.001 | 0.049 | |
CodonSeq | 0.119 | 0.006 | 0.124 | |
GRangesMatrixSeq | 0.066 | 0.001 | 0.067 | |
ListCodonMatrix | 0.067 | 0.000 | 0.069 | |
MatrixSeq | 0.039 | 0.002 | 0.041 | |
aa_phychem_index | 0.039 | 0.003 | 0.042 | |
aaindex1 | 0.014 | 0.000 | 0.015 | |
aaindex2 | 0.006 | 0.000 | 0.007 | |
aaindex3 | 0.004 | 0.001 | 0.005 | |
aln | 0.022 | 0.001 | 0.023 | |
aminoacid_dist | 1.147 | 0.341 | 3.376 | |
as.AutomorphismList | 0.183 | 0.021 | 0.205 | |
aut3D | 0.729 | 0.053 | 6.621 | |
autZ125 | 0.696 | 0.019 | 5.347 | |
autZ5 | 0.550 | 0.022 | 6.589 | |
autZ64 | 0.934 | 0.021 | 6.904 | |
autby_coef | 0.102 | 0.003 | 0.105 | |
autm | 0.024 | 0.001 | 0.025 | |
autm_3d | 0.036 | 0.002 | 0.038 | |
autm_z125 | 0.029 | 0.002 | 0.031 | |
automorphismByRanges | 0.045 | 0.004 | 0.049 | |
automorphism_bycoef | 0.040 | 0.002 | 0.042 | |
automorphism_prob | 0.355 | 0.013 | 0.369 | |
automorphisms | 2.482 | 0.058 | 20.298 | |
base2codon | 0.021 | 0.002 | 0.026 | |
base2int | 0.002 | 0.000 | 0.003 | |
base_methods | 0.126 | 0.013 | 0.139 | |
brca1_aln | 0.020 | 0.002 | 0.021 | |
brca1_aln2 | 0.018 | 0.001 | 0.020 | |
brca1_autm | 0.148 | 0.002 | 0.151 | |
cdm_z64 | 0.066 | 0.132 | 0.199 | |
codon_coord | 0.383 | 0.009 | 0.393 | |
codon_dist | 0.092 | 0.002 | 0.094 | |
codon_dist_matrix | 0.015 | 0.004 | 2.201 | |
codon_matrix | 0.169 | 0.007 | 0.176 | |
conserved_regions | 0.131 | 0.003 | 0.133 | |
covid_aln | 0.024 | 0.001 | 0.024 | |
covid_autm | 0.029 | 0.002 | 0.031 | |
cyc_aln | 0.029 | 0.002 | 0.030 | |
cyc_autm | 0.047 | 0.002 | 0.049 | |
dna_phyche | 0.002 | 0.001 | 0.002 | |
dna_phychem | 0.001 | 0.000 | 0.000 | |
extract-methods | 0.168 | 0.002 | 0.169 | |
getAutomorphisms | 0.059 | 0.003 | 0.063 | |
get_coord | 0.226 | 0.003 | 0.229 | |
get_mutscore | 0.062 | 0.002 | 0.064 | |
matrices | 0.203 | 0.006 | 0.209 | |
mod | 0.000 | 0.001 | 0.000 | |
modeq | 0.001 | 0.000 | 0.000 | |
modlineq | 0.000 | 0.000 | 0.001 | |
mut_type | 0.001 | 0.000 | 0.001 | |
peptide_phychem_index | 0.047 | 0.003 | 0.052 | |
reexports | 0.043 | 0.003 | 0.047 | |
seqranges | 0.220 | 0.002 | 0.223 | |
slapply | 0.001 | 0.000 | 0.001 | |
sortByChromAndStart | 0.018 | 0.000 | 0.018 | |
str2chr | 0 | 0 | 0 | |
str2dig | 0 | 0 | 0 | |
translation | 0.378 | 0.006 | 0.385 | |