Back to Multiple platform build/check report for BioC 3.21: simplified long |
|
This page was generated on 2025-02-04 11:42 -0500 (Tue, 04 Feb 2025).
Hostname | OS | Arch (*) | R version | Installed pkgs |
---|---|---|---|---|
nebbiolo1 | Linux (Ubuntu 24.04.1 LTS) | x86_64 | R Under development (unstable) (2025-01-20 r87609) -- "Unsuffered Consequences" | 4716 |
palomino7 | Windows Server 2022 Datacenter | x64 | R Under development (unstable) (2025-01-21 r87610 ucrt) -- "Unsuffered Consequences" | 4478 |
lconway | macOS 12.7.1 Monterey | x86_64 | R Under development (unstable) (2025-01-22 r87618) -- "Unsuffered Consequences" | 4489 |
kjohnson3 | macOS 13.7.1 Ventura | arm64 | R Under development (unstable) (2025-01-20 r87609) -- "Unsuffered Consequences" | 4442 |
Click on any hostname to see more info about the system (e.g. compilers) (*) as reported by 'uname -p', except on Windows and Mac OS X |
Package 820/2295 | Hostname | OS / Arch | INSTALL | BUILD | CHECK | BUILD BIN | ||||||||
GenomicDataCommons 1.31.0 (landing page) Sean Davis
| nebbiolo1 | Linux (Ubuntu 24.04.1 LTS) / x86_64 | OK | OK | ERROR | |||||||||
palomino7 | Windows Server 2022 Datacenter / x64 | OK | OK | ERROR | OK | |||||||||
lconway | macOS 12.7.1 Monterey / x86_64 | OK | OK | ERROR | OK | |||||||||
kjohnson3 | macOS 13.7.1 Ventura / arm64 | OK | OK | ERROR | OK | |||||||||
To the developers/maintainers of the GenomicDataCommons package: - Allow up to 24 hours (and sometimes 48 hours) for your latest push to git@git.bioconductor.org:packages/GenomicDataCommons.git to reflect on this report. See Troubleshooting Build Report for more information. - Use the following Renviron settings to reproduce errors and warnings. - If 'R CMD check' started to fail recently on the Linux builder(s) over a missing dependency, add the missing dependency to 'Suggests:' in your DESCRIPTION file. See Renviron.bioc for more information. |
Package: GenomicDataCommons |
Version: 1.31.0 |
Command: /Library/Frameworks/R.framework/Resources/bin/R CMD check --install=check:GenomicDataCommons.install-out.txt --library=/Library/Frameworks/R.framework/Resources/library --no-vignettes --timings GenomicDataCommons_1.31.0.tar.gz |
StartedAt: 2025-02-03 20:44:16 -0500 (Mon, 03 Feb 2025) |
EndedAt: 2025-02-03 20:46:18 -0500 (Mon, 03 Feb 2025) |
EllapsedTime: 122.0 seconds |
RetCode: 1 |
Status: ERROR |
CheckDir: GenomicDataCommons.Rcheck |
Warnings: NA |
############################################################################## ############################################################################## ### ### Running command: ### ### /Library/Frameworks/R.framework/Resources/bin/R CMD check --install=check:GenomicDataCommons.install-out.txt --library=/Library/Frameworks/R.framework/Resources/library --no-vignettes --timings GenomicDataCommons_1.31.0.tar.gz ### ############################################################################## ############################################################################## * using log directory ‘/Users/biocbuild/bbs-3.21-bioc/meat/GenomicDataCommons.Rcheck’ * using R Under development (unstable) (2025-01-22 r87618) * using platform: x86_64-apple-darwin20 * R was compiled by Apple clang version 14.0.0 (clang-1400.0.29.202) GNU Fortran (GCC) 14.2.0 * running under: macOS Monterey 12.7.6 * using session charset: UTF-8 * using option ‘--no-vignettes’ * checking for file ‘GenomicDataCommons/DESCRIPTION’ ... OK * checking extension type ... Package * this is package ‘GenomicDataCommons’ version ‘1.31.0’ * package encoding: UTF-8 * checking package namespace information ... OK * checking package dependencies ... OK * checking if this is a source package ... OK * checking if there is a namespace ... OK * checking for hidden files and directories ... OK * checking for portable file names ... OK * checking for sufficient/correct file permissions ... OK * checking whether package ‘GenomicDataCommons’ can be installed ... OK * checking installed package size ... OK * checking package directory ... OK * checking ‘build’ directory ... OK * checking DESCRIPTION meta-information ... OK * checking top-level files ... OK * checking for left-over files ... OK * checking index information ... OK * checking package subdirectories ... OK * checking code files for non-ASCII characters ... OK * checking R files for syntax errors ... OK * checking whether the package can be loaded ... OK * checking whether the package can be loaded with stated dependencies ... OK * checking whether the package can be unloaded cleanly ... OK * checking whether the namespace can be loaded with stated dependencies ... OK * checking whether the namespace can be unloaded cleanly ... OK * checking dependencies in R code ... OK * checking S3 generic/method consistency ... OK * checking replacement functions ... OK * checking foreign function calls ... OK * checking R code for possible problems ... OK * checking Rd files ... OK * checking Rd metadata ... OK * checking Rd cross-references ... OK * checking for missing documentation entries ... OK * checking for code/documentation mismatches ... OK * checking Rd \usage sections ... OK * checking Rd contents ... OK * checking for unstated dependencies in examples ... OK * checking R/sysdata.rda ... OK * checking files in ‘vignettes’ ... OK * checking examples ... OK * checking for unstated dependencies in ‘tests’ ... OK * checking tests ... Running ‘testthat.R’ ERROR Running the tests in ‘tests/testthat.R’ failed. Last 13 lines of output: > > test_check("GenomicDataCommons") [ FAIL 1 | WARN 0 | SKIP 0 | PASS 45 ] ══ Failed tests ════════════════════════════════════════════════════════════════ ── Failure ('test_clinical.R:17:5'): clinical data is structured properly ────── vapply(clinical_data, nrow, integer(1L)) not identical to c(...). 3/5 mismatches (average diff: 3) [2] 3 - 2 == 1 [3] 3 - 0 == 3 [4] 5 - 0 == 5 [ FAIL 1 | WARN 0 | SKIP 0 | PASS 45 ] Error: Test failures Execution halted * checking for unstated dependencies in vignettes ... OK * checking package vignettes ... OK * checking running R code from vignettes ... SKIPPED * checking re-building of vignette outputs ... SKIPPED * checking PDF version of manual ... OK * DONE Status: 1 ERROR See ‘/Users/biocbuild/bbs-3.21-bioc/meat/GenomicDataCommons.Rcheck/00check.log’ for details.
GenomicDataCommons.Rcheck/00install.out
############################################################################## ############################################################################## ### ### Running command: ### ### /Library/Frameworks/R.framework/Resources/bin/R CMD INSTALL GenomicDataCommons ### ############################################################################## ############################################################################## * installing to library ‘/Library/Frameworks/R.framework/Versions/4.5-x86_64/Resources/library’ * installing *source* package ‘GenomicDataCommons’ ... ** this is package ‘GenomicDataCommons’ version ‘1.31.0’ ** using staged installation ** R ** inst ** byte-compile and prepare package for lazy loading ** help *** installing help indices ** building package indices ** installing vignettes ** testing if installed package can be loaded from temporary location ** testing if installed package can be loaded from final location ** testing if installed package keeps a record of temporary installation path * DONE (GenomicDataCommons)
GenomicDataCommons.Rcheck/tests/testthat.Rout.fail
R Under development (unstable) (2025-01-22 r87618) -- "Unsuffered Consequences" Copyright (C) 2025 The R Foundation for Statistical Computing Platform: x86_64-apple-darwin20 R is free software and comes with ABSOLUTELY NO WARRANTY. You are welcome to redistribute it under certain conditions. Type 'license()' or 'licence()' for distribution details. R is a collaborative project with many contributors. Type 'contributors()' for more information and 'citation()' on how to cite R or R packages in publications. Type 'demo()' for some demos, 'help()' for on-line help, or 'help.start()' for an HTML browser interface to help. Type 'q()' to quit R. > library(testthat) > library(GenomicDataCommons) Attaching package: 'GenomicDataCommons' The following object is masked from 'package:stats': filter > > test_check("GenomicDataCommons") [ FAIL 1 | WARN 0 | SKIP 0 | PASS 45 ] ══ Failed tests ════════════════════════════════════════════════════════════════ ── Failure ('test_clinical.R:17:5'): clinical data is structured properly ────── vapply(clinical_data, nrow, integer(1L)) not identical to c(...). 3/5 mismatches (average diff: 3) [2] 3 - 2 == 1 [3] 3 - 0 == 3 [4] 5 - 0 == 5 [ FAIL 1 | WARN 0 | SKIP 0 | PASS 45 ] Error: Test failures Execution halted
GenomicDataCommons.Rcheck/GenomicDataCommons-Ex.timings
name | user | system | elapsed | |
aggregations | 0.095 | 0.015 | 0.626 | |
available_expand | 0.014 | 0.001 | 0.073 | |
available_fields | 0.025 | 0.002 | 0.123 | |
available_values | 0.027 | 0.001 | 0.563 | |
constants | 0.000 | 0.000 | 0.001 | |
count | 0.055 | 0.003 | 2.590 | |
default_fields | 0.031 | 0.002 | 0.153 | |
entity_name | 0.037 | 0.002 | 0.168 | |
expand | 0.073 | 0.005 | 0.281 | |
faceting | 0.048 | 0.003 | 1.754 | |
field_description | 0.151 | 0.007 | 0.481 | |
filtering | 0.418 | 0.019 | 2.858 | |
gdc_cache | 0.000 | 0.000 | 0.001 | |
gdc_client | 0.004 | 0.008 | 0.025 | |
gdc_clinical | 0.627 | 0.031 | 1.151 | |
gdc_token | 0.001 | 0.001 | 0.001 | |
gdcdata | 0.168 | 0.009 | 0.588 | |
grep_fields | 0.020 | 0.002 | 0.058 | |
id_field | 0.027 | 0.001 | 0.067 | |
ids | 0.183 | 0.007 | 2.814 | |
manifest | 0.101 | 0.003 | 0.293 | |
mapping | 0.013 | 0.002 | 0.044 | |
query | 0.066 | 0.002 | 0.187 | |
readDNAcopy | 0.278 | 0.033 | 0.320 | |
readHTSeqFile | 0.067 | 0.005 | 0.070 | |
response | 0.041 | 0.001 | 1.536 | |
results | 0.040 | 0.001 | 0.219 | |
results_all | 0.042 | 0.002 | 1.663 | |
select | 0.071 | 0.004 | 0.328 | |
slicing | 0.000 | 0.001 | 0.000 | |
status | 0.010 | 0.001 | 0.053 | |
transfer | 0 | 0 | 0 | |
write_manifest | 0.052 | 0.001 | 1.777 | |