Back to Multiple platform build/check report for BioC 3.21: simplified long |
|
This page was generated on 2025-02-04 11:41 -0500 (Tue, 04 Feb 2025).
Hostname | OS | Arch (*) | R version | Installed pkgs |
---|---|---|---|---|
nebbiolo1 | Linux (Ubuntu 24.04.1 LTS) | x86_64 | R Under development (unstable) (2025-01-20 r87609) -- "Unsuffered Consequences" | 4716 |
palomino7 | Windows Server 2022 Datacenter | x64 | R Under development (unstable) (2025-01-21 r87610 ucrt) -- "Unsuffered Consequences" | 4478 |
lconway | macOS 12.7.1 Monterey | x86_64 | R Under development (unstable) (2025-01-22 r87618) -- "Unsuffered Consequences" | 4489 |
kjohnson3 | macOS 13.7.1 Ventura | arm64 | R Under development (unstable) (2025-01-20 r87609) -- "Unsuffered Consequences" | 4442 |
Click on any hostname to see more info about the system (e.g. compilers) (*) as reported by 'uname -p', except on Windows and Mac OS X |
Package 1083/2295 | Hostname | OS / Arch | INSTALL | BUILD | CHECK | BUILD BIN | ||||||||
KEGGlincs 1.33.0 (landing page) Shana White
| nebbiolo1 | Linux (Ubuntu 24.04.1 LTS) / x86_64 | OK | OK | OK | |||||||||
palomino7 | Windows Server 2022 Datacenter / x64 | OK | OK | OK | OK | |||||||||
lconway | macOS 12.7.1 Monterey / x86_64 | OK | OK | OK | OK | |||||||||
kjohnson3 | macOS 13.7.1 Ventura / arm64 | OK | OK | OK | OK | |||||||||
To the developers/maintainers of the KEGGlincs package: - Allow up to 24 hours (and sometimes 48 hours) for your latest push to git@git.bioconductor.org:packages/KEGGlincs.git to reflect on this report. See Troubleshooting Build Report for more information. - Use the following Renviron settings to reproduce errors and warnings. - If 'R CMD check' started to fail recently on the Linux builder(s) over a missing dependency, add the missing dependency to 'Suggests:' in your DESCRIPTION file. See Renviron.bioc for more information. |
Package: KEGGlincs |
Version: 1.33.0 |
Command: E:\biocbuild\bbs-3.21-bioc\R\bin\R.exe CMD check --no-multiarch --install=check:KEGGlincs.install-out.txt --library=E:\biocbuild\bbs-3.21-bioc\R\library --no-vignettes --timings KEGGlincs_1.33.0.tar.gz |
StartedAt: 2025-02-04 02:47:43 -0500 (Tue, 04 Feb 2025) |
EndedAt: 2025-02-04 02:52:01 -0500 (Tue, 04 Feb 2025) |
EllapsedTime: 258.3 seconds |
RetCode: 0 |
Status: OK |
CheckDir: KEGGlincs.Rcheck |
Warnings: 0 |
############################################################################## ############################################################################## ### ### Running command: ### ### E:\biocbuild\bbs-3.21-bioc\R\bin\R.exe CMD check --no-multiarch --install=check:KEGGlincs.install-out.txt --library=E:\biocbuild\bbs-3.21-bioc\R\library --no-vignettes --timings KEGGlincs_1.33.0.tar.gz ### ############################################################################## ############################################################################## * using log directory 'E:/biocbuild/bbs-3.21-bioc/meat/KEGGlincs.Rcheck' * using R Under development (unstable) (2025-01-21 r87610 ucrt) * using platform: x86_64-w64-mingw32 * R was compiled by gcc.exe (GCC) 13.3.0 GNU Fortran (GCC) 13.3.0 * running under: Windows Server 2022 x64 (build 20348) * using session charset: UTF-8 * using option '--no-vignettes' * checking for file 'KEGGlincs/DESCRIPTION' ... OK * checking extension type ... Package * this is package 'KEGGlincs' version '1.33.0' * checking package namespace information ... OK * checking package dependencies ... OK * checking if this is a source package ... OK * checking if there is a namespace ... OK * checking for hidden files and directories ... OK * checking for portable file names ... OK * checking whether package 'KEGGlincs' can be installed ... OK * checking installed package size ... OK * checking package directory ... OK * checking 'build' directory ... OK * checking DESCRIPTION meta-information ... OK * checking top-level files ... OK * checking for left-over files ... OK * checking index information ... OK * checking package subdirectories ... OK * checking code files for non-ASCII characters ... OK * checking R files for syntax errors ... OK * checking whether the package can be loaded ... OK * checking whether the package can be loaded with stated dependencies ... OK * checking whether the package can be unloaded cleanly ... OK * checking whether the namespace can be loaded with stated dependencies ... OK * checking whether the namespace can be unloaded cleanly ... OK * checking dependencies in R code ... NOTE Namespace in Imports field not imported from: 'XML' All declared Imports should be used. * checking S3 generic/method consistency ... OK * checking replacement functions ... OK * checking foreign function calls ... OK * checking R code for possible problems ... OK * checking Rd files ... OK * checking Rd metadata ... OK * checking Rd cross-references ... OK * checking for missing documentation entries ... OK * checking for code/documentation mismatches ... OK * checking Rd \usage sections ... OK * checking Rd contents ... OK * checking for unstated dependencies in examples ... OK * checking files in 'vignettes' ... OK * checking examples ... OK Examples with CPU (user + system) or elapsed time > 5s user system elapsed overlap_info 23.45 2.31 26.00 add_edge_data 22.57 1.40 26.71 edge_mapping_info 15.02 1.16 16.37 path_genes_by_cell_type 14.89 1.21 18.62 refine_mappings 14.52 0.62 15.38 get_graph_object 13.76 0.77 14.72 * checking for unstated dependencies in vignettes ... OK * checking package vignettes ... OK * checking running R code from vignettes ... SKIPPED * checking re-building of vignette outputs ... SKIPPED * checking PDF version of manual ... OK * DONE Status: 1 NOTE See 'E:/biocbuild/bbs-3.21-bioc/meat/KEGGlincs.Rcheck/00check.log' for details.
KEGGlincs.Rcheck/00install.out
############################################################################## ############################################################################## ### ### Running command: ### ### E:\biocbuild\bbs-3.21-bioc\R\bin\R.exe CMD INSTALL KEGGlincs ### ############################################################################## ############################################################################## * installing to library 'E:/biocbuild/bbs-3.21-bioc/R/library' * installing *source* package 'KEGGlincs' ... ** this is package 'KEGGlincs' version '1.33.0' ** using staged installation ** R ** inst ** byte-compile and prepare package for lazy loading ** help *** installing help indices ** building package indices ** installing vignettes ** testing if installed package can be loaded from temporary location ** testing if installed package can be loaded from final location ** testing if installed package keeps a record of temporary installation path * DONE (KEGGlincs)
KEGGlincs.Rcheck/KEGGlincs-Ex.timings
name | user | system | elapsed | |
KEGG_lincs | 0 | 0 | 0 | |
KL_compare | 0 | 0 | 0 | |
add_edge_data | 22.57 | 1.40 | 26.71 | |
cyto_vis | 0.40 | 0.02 | 0.61 | |
edge_mapping_info | 15.02 | 1.16 | 16.37 | |
expand_KEGG_edges | 0.18 | 0.00 | 0.39 | |
expand_KEGG_mappings | 0.16 | 0.03 | 0.38 | |
generate_mappings | 0 | 0 | 0 | |
get_KGML | 0.42 | 0.06 | 1.05 | |
get_fisher_info | 0.02 | 0.00 | 0.01 | |
get_graph_object | 13.76 | 0.77 | 14.72 | |
keggerize_edges | 0 | 0 | 0 | |
node_mapping_info | 0.13 | 0.00 | 0.32 | |
overlap_info | 23.45 | 2.31 | 26.00 | |
path_genes_by_cell_type | 14.89 | 1.21 | 18.62 | |
refine_mappings | 14.52 | 0.62 | 15.38 | |
tidy_edge | 0 | 0 | 0 | |