Back to Multiple platform build/check report for BioC 3.21:   simplified   long
ABCDEFGHIJKLMNO[P]QRSTUVWXYZ

This page was generated on 2025-02-04 11:41 -0500 (Tue, 04 Feb 2025).

HostnameOSArch (*)R versionInstalled pkgs
nebbiolo1Linux (Ubuntu 24.04.1 LTS)x86_64R Under development (unstable) (2025-01-20 r87609) -- "Unsuffered Consequences" 4716
palomino7Windows Server 2022 Datacenterx64R Under development (unstable) (2025-01-21 r87610 ucrt) -- "Unsuffered Consequences" 4478
lconwaymacOS 12.7.1 Montereyx86_64R Under development (unstable) (2025-01-22 r87618) -- "Unsuffered Consequences" 4489
kjohnson3macOS 13.7.1 Venturaarm64R Under development (unstable) (2025-01-20 r87609) -- "Unsuffered Consequences" 4442
Click on any hostname to see more info about the system (e.g. compilers)      (*) as reported by 'uname -p', except on Windows and Mac OS X

Package 1555/2295HostnameOS / ArchINSTALLBUILDCHECKBUILD BIN
PICS 2.51.0  (landing page)
Renan Sauteraud
Snapshot Date: 2025-02-03 13:40 -0500 (Mon, 03 Feb 2025)
git_url: https://git.bioconductor.org/packages/PICS
git_branch: devel
git_last_commit: 59be92f
git_last_commit_date: 2024-10-29 09:33:53 -0500 (Tue, 29 Oct 2024)
nebbiolo1Linux (Ubuntu 24.04.1 LTS) / x86_64  ERROR    ERROR  skipped
palomino7Windows Server 2022 Datacenter / x64  ERROR    ERROR  skippedskipped
lconwaymacOS 12.7.1 Monterey / x86_64  ERROR    ERROR  skippedskipped
kjohnson3macOS 13.7.1 Ventura / arm64  ERROR    ERROR  skippedskipped


INSTALL results for PICS on palomino7

To the developers/maintainers of the PICS package:
- Allow up to 24 hours (and sometimes 48 hours) for your latest push to git@git.bioconductor.org:packages/PICS.git to reflect on this report. See Troubleshooting Build Report for more information.
- Use the following Renviron settings to reproduce errors and warnings.
- If 'R CMD check' started to fail recently on the Linux builder(s) over a missing dependency, add the missing dependency to 'Suggests:' in your DESCRIPTION file. See Renviron.bioc for more information.

raw results


Summary

Package: PICS
Version: 2.51.0
Command: E:\biocbuild\bbs-3.21-bioc\R\bin\R.exe CMD INSTALL PICS
StartedAt: 2025-02-03 16:26:09 -0500 (Mon, 03 Feb 2025)
EndedAt: 2025-02-03 16:26:20 -0500 (Mon, 03 Feb 2025)
EllapsedTime: 11.1 seconds
RetCode: 1
Status:   ERROR  

Command output

##############################################################################
##############################################################################
###
### Running command:
###
###   E:\biocbuild\bbs-3.21-bioc\R\bin\R.exe CMD INSTALL PICS
###
##############################################################################
##############################################################################


* installing to library 'E:/biocbuild/bbs-3.21-bioc/R/library'
* installing *source* package 'PICS' ...
** this is package 'PICS' version '2.51.0'
** using staged installation

   **********************************************
   WARNING: this package has a configure script
         It probably needs manual configuration
   **********************************************


** libs
using C compiler: 'gcc.exe (GCC) 13.3.0'
gcc  -I"E:/biocbuild/bbs-3.21-bioc/R/include" -DNDEBUG -Ifusion_sdk -D_USE_MEM_MAPPING_ -I/x64/include    -I"C:/rtools44/x86_64-w64-mingw32.static.posix/include"      -O2 -Wall  -mfpmath=sse -msse2 -mstackrealign   -c pics.c -o pics.o
pics.c: In function 'ECM2':
pics.c:1009:16: warning: variable 'chiSum' set but not used [-Wunused-but-set-variable]
 1009 |         double chiSum, etaF, etaR, dd, cc;
      |                ^~~~~~
pics.c: In function 'getInfMat':
pics.c:1633:83: warning: unused variable 'PhiRw' [-Wunused-variable]
 1633 |           double aNormF, aNormR, bNormF, bNormR, P0F=1, P0R=1, PhiF, PhiR, PhiFw, PhiRw, wPjF, wPjR;
      |                                                                                   ^~~~~
pics.c:1633:76: warning: unused variable 'PhiFw' [-Wunused-variable]
 1633 |           double aNormF, aNormR, bNormF, bNormR, P0F=1, P0R=1, PhiF, PhiR, PhiFw, PhiRw, wPjF, wPjR;
      |                                                                            ^~~~~
pics.c: In function 'mergePeak':
pics.c:1889:11: warning: unused variable 'j' [-Wunused-variable]
 1889 |   int i=0,j=0,k=0,l=0,kMerge=0,flag=0;
      |           ^
pics.c:1889:7: warning: unused variable 'i' [-Wunused-variable]
 1889 |   int i=0,j=0,k=0,l=0,kMerge=0,flag=0;
      |       ^
pics.c: In function 'BIC':
pics.c:1307:13: warning: 'penalty' may be used uninitialized [-Wmaybe-uninitialized]
 1307 |         bic = logDensityMix(yF, w, muF, sigmaSqF, K, NF) + logDensityMix(yR, w, muR, sigmaSqR, K,NR) - penalty;
      |         ~~~~^~~~~~~~~~~~~~~~~~~~~~~~~~~~~~~~~~~~~~~~~~~~~~~~~~~~~~~~~~~~~~~~~~~~~~~~~~~~~~~~~~~~~~~~~~~~~~~~~~
pics.c:1275:42: note: 'penalty' was declared here
 1275 |         double bic, tmp, muF[K], muR[K], penalty, distance;
      |                                          ^~~~~~~
pics.c: In function 'fitModelK':
pics.c:494:23: warning: 'firstFit' may be used uninitialized [-Wmaybe-uninitialized]
  494 |                 return(ans);
      |                       ^
pics.c:421:25: note: 'firstFit' was declared here
  421 |         SEXP ans, temp, firstFit;
      |                         ^~~~~~~~
gcc  -I"E:/biocbuild/bbs-3.21-bioc/R/include" -DNDEBUG -Ifusion_sdk -D_USE_MEM_MAPPING_ -I/x64/include    -I"C:/rtools44/x86_64-w64-mingw32.static.posix/include"      -O2 -Wall  -mfpmath=sse -msse2 -mstackrealign   -c segment.c -o segment.o
segment.c: In function 'segReads':
segment.c:147:22: warning: implicit declaration of function 'Calloc'; did you mean 'calloc'? [-Wimplicit-function-declaration]
  147 |   scoreRegionF=(int*)Calloc((M-m)/(2*INTEGER_VALUE(width)), int);
      |                      ^~~~~~
      |                      calloc
segment.c:147:61: error: expected expression before 'int'
  147 |   scoreRegionF=(int*)Calloc((M-m)/(2*INTEGER_VALUE(width)), int);
      |                                                             ^~~
segment.c:148:61: error: expected expression before 'int'
  148 |   scoreRegionR=(int*)Calloc((M-m)/(2*INTEGER_VALUE(width)), int);
      |                                                             ^~~
segment.c: In function 'getDensity':
segment.c:1494:19: warning: variable 'chr' set but not used [-Wunused-but-set-variable]
 1494 |   SEXP ans, x, y, chr, names;
      |                   ^~~
segment.c:1490:8: warning: unused variable 'filter1' [-Wunused-variable]
 1490 |   SEXP filter1;
      |        ^~~~~~~
segment.c:1489:11: warning: unused variable 'muFilter' [-Wunused-variable]
 1489 |   double *muFilter, *deltaFilter, *sFFilter, *sRFilter, *seFilter, *seFilterF, *seFilterR, *scoreFilter, *score;
      |           ^~~~~~~~
make: *** [E:/biocbuild/bbs-3.21-bioc/R/etc/x64/Makeconf:289: segment.o] Error 1
ERROR: compilation failed for package 'PICS'
* removing 'E:/biocbuild/bbs-3.21-bioc/R/library/PICS'