Back to Multiple platform build/check report for BioC 3.21: simplified long |
|
This page was generated on 2025-02-04 11:41 -0500 (Tue, 04 Feb 2025).
Hostname | OS | Arch (*) | R version | Installed pkgs |
---|---|---|---|---|
nebbiolo1 | Linux (Ubuntu 24.04.1 LTS) | x86_64 | R Under development (unstable) (2025-01-20 r87609) -- "Unsuffered Consequences" | 4716 |
palomino7 | Windows Server 2022 Datacenter | x64 | R Under development (unstable) (2025-01-21 r87610 ucrt) -- "Unsuffered Consequences" | 4478 |
lconway | macOS 12.7.1 Monterey | x86_64 | R Under development (unstable) (2025-01-22 r87618) -- "Unsuffered Consequences" | 4489 |
kjohnson3 | macOS 13.7.1 Ventura | arm64 | R Under development (unstable) (2025-01-20 r87609) -- "Unsuffered Consequences" | 4442 |
Click on any hostname to see more info about the system (e.g. compilers) (*) as reported by 'uname -p', except on Windows and Mac OS X |
Package 1607/2295 | Hostname | OS / Arch | INSTALL | BUILD | CHECK | BUILD BIN | ||||||||
PRONE 1.1.2 (landing page) Lis Arend
| nebbiolo1 | Linux (Ubuntu 24.04.1 LTS) / x86_64 | OK | OK | OK | |||||||||
palomino7 | Windows Server 2022 Datacenter / x64 | OK | OK | OK | OK | |||||||||
lconway | macOS 12.7.1 Monterey / x86_64 | OK | OK | OK | OK | |||||||||
kjohnson3 | macOS 13.7.1 Ventura / arm64 | OK | OK | OK | OK | |||||||||
To the developers/maintainers of the PRONE package: - Allow up to 24 hours (and sometimes 48 hours) for your latest push to git@git.bioconductor.org:packages/PRONE.git to reflect on this report. See Troubleshooting Build Report for more information. - Use the following Renviron settings to reproduce errors and warnings. - If 'R CMD check' started to fail recently on the Linux builder(s) over a missing dependency, add the missing dependency to 'Suggests:' in your DESCRIPTION file. See Renviron.bioc for more information. |
Package: PRONE |
Version: 1.1.2 |
Command: E:\biocbuild\bbs-3.21-bioc\R\bin\R.exe CMD check --no-multiarch --install=check:PRONE.install-out.txt --library=E:\biocbuild\bbs-3.21-bioc\R\library --no-vignettes --timings PRONE_1.1.2.tar.gz |
StartedAt: 2025-02-04 04:44:19 -0500 (Tue, 04 Feb 2025) |
EndedAt: 2025-02-04 04:50:13 -0500 (Tue, 04 Feb 2025) |
EllapsedTime: 354.1 seconds |
RetCode: 0 |
Status: OK |
CheckDir: PRONE.Rcheck |
Warnings: 0 |
############################################################################## ############################################################################## ### ### Running command: ### ### E:\biocbuild\bbs-3.21-bioc\R\bin\R.exe CMD check --no-multiarch --install=check:PRONE.install-out.txt --library=E:\biocbuild\bbs-3.21-bioc\R\library --no-vignettes --timings PRONE_1.1.2.tar.gz ### ############################################################################## ############################################################################## * using log directory 'E:/biocbuild/bbs-3.21-bioc/meat/PRONE.Rcheck' * using R Under development (unstable) (2025-01-21 r87610 ucrt) * using platform: x86_64-w64-mingw32 * R was compiled by gcc.exe (GCC) 13.3.0 GNU Fortran (GCC) 13.3.0 * running under: Windows Server 2022 x64 (build 20348) * using session charset: UTF-8 * using option '--no-vignettes' * checking for file 'PRONE/DESCRIPTION' ... OK * checking extension type ... Package * this is package 'PRONE' version '1.1.2' * package encoding: UTF-8 * checking package namespace information ... OK * checking package dependencies ... OK * checking if this is a source package ... OK * checking if there is a namespace ... OK * checking for hidden files and directories ... OK * checking for portable file names ... OK * checking whether package 'PRONE' can be installed ... OK * checking installed package size ... OK * checking package directory ... OK * checking 'build' directory ... OK * checking DESCRIPTION meta-information ... OK * checking top-level files ... OK * checking for left-over files ... OK * checking index information ... OK * checking package subdirectories ... OK * checking code files for non-ASCII characters ... OK * checking R files for syntax errors ... OK * checking whether the package can be loaded ... OK * checking whether the package can be loaded with stated dependencies ... OK * checking whether the package can be unloaded cleanly ... OK * checking whether the namespace can be loaded with stated dependencies ... OK * checking whether the namespace can be unloaded cleanly ... OK * checking dependencies in R code ... NOTE Unexported objects imported by ':::' calls: 'NormalyzerDE:::calculateAvgMadMem' 'NormalyzerDE:::calculateAvgReplicateVariation' 'NormalyzerDE:::calculatePercentageAvgDiffInMat' 'NormalyzerDE:::calculateReplicateCV' 'NormalyzerDE:::calculateSummarizedCorrelationVector' See the note in ?`:::` about the use of this operator. * checking S3 generic/method consistency ... OK * checking replacement functions ... OK * checking foreign function calls ... OK * checking R code for possible problems ... OK * checking Rd files ... OK * checking Rd metadata ... OK * checking Rd cross-references ... OK * checking for missing documentation entries ... OK * checking for code/documentation mismatches ... OK * checking Rd \usage sections ... OK * checking Rd contents ... OK * checking for unstated dependencies in examples ... OK * checking contents of 'data' directory ... OK * checking data for non-ASCII characters ... OK * checking data for ASCII and uncompressed saves ... OK * checking files in 'vignettes' ... OK * checking examples ... OK Examples with CPU (user + system) or elapsed time > 5s user system elapsed plot_intersection_enrichment 2.05 0.08 10.36 * checking for unstated dependencies in vignettes ... OK * checking package vignettes ... OK * checking running R code from vignettes ... SKIPPED * checking re-building of vignette outputs ... SKIPPED * checking PDF version of manual ... OK * DONE Status: 1 NOTE See 'E:/biocbuild/bbs-3.21-bioc/meat/PRONE.Rcheck/00check.log' for details.
PRONE.Rcheck/00install.out
############################################################################## ############################################################################## ### ### Running command: ### ### E:\biocbuild\bbs-3.21-bioc\R\bin\R.exe CMD INSTALL PRONE ### ############################################################################## ############################################################################## * installing to library 'E:/biocbuild/bbs-3.21-bioc/R/library' * installing *source* package 'PRONE' ... ** this is package 'PRONE' version '1.1.2' ** using staged installation ** R ** data ** inst ** byte-compile and prepare package for lazy loading ** help *** installing help indices *** copying figures ** building package indices ** installing vignettes ** testing if installed package can be loaded from temporary location ** testing if installed package can be loaded from final location ** testing if installed package keeps a record of temporary installation path * DONE (PRONE)
PRONE.Rcheck/PRONE-Ex.timings
name | user | system | elapsed | |
apply_thresholds | 0.07 | 0.00 | 0.08 | |
detect_outliers_POMA | 1.86 | 0.16 | 2.01 | |
eigenMSNorm | 0.61 | 0.06 | 0.67 | |
export_data | 0.01 | 0.02 | 0.03 | |
extract_consensus_DE_candidates | 0.10 | 0.01 | 0.11 | |
filter_out_NA_proteins_by_threshold | 0.23 | 0.00 | 0.24 | |
filter_out_complete_NA_proteins | 0.07 | 0.02 | 0.08 | |
filter_out_proteins_by_ID | 0.21 | 0.03 | 0.25 | |
filter_out_proteins_by_value | 0.13 | 0.01 | 0.14 | |
get_NA_overview | 0.04 | 0.00 | 0.03 | |
get_normalization_methods | 0.01 | 0.00 | 0.02 | |
get_overview_DE | 0.05 | 0.00 | 0.05 | |
get_proteins_by_value | 0.11 | 0.04 | 0.14 | |
get_spiked_stats_DE | 0.06 | 0.01 | 0.07 | |
globalIntNorm | 0.16 | 0.00 | 0.16 | |
globalMeanNorm | 0.19 | 0.00 | 0.18 | |
globalMedianNorm | 0.19 | 0.00 | 0.19 | |
impute_se | 0.97 | 0.02 | 1.00 | |
irsNorm | 0.04 | 0.00 | 0.05 | |
limmaNorm | 0.07 | 0.00 | 0.06 | |
load_data | 0.06 | 0.01 | 0.08 | |
load_spike_data | 0.04 | 0.00 | 0.05 | |
loessCycNorm | 0.11 | 0.00 | 0.10 | |
loessFNorm | 0.08 | 0.00 | 0.08 | |
meanNorm | 0.03 | 0.02 | 0.05 | |
medianAbsDevNorm | 0.08 | 0.00 | 0.08 | |
medianNorm | 0.05 | 0.00 | 0.05 | |
normalize_se | 3.81 | 0.04 | 3.84 | |
normalize_se_combination | 4.20 | 0.12 | 4.33 | |
normalize_se_single | 4.03 | 0.05 | 4.08 | |
normicsNorm | 4.00 | 0.03 | 4.03 | |
plot_NA_density | 0.39 | 0.01 | 0.40 | |
plot_NA_frequency | 0.19 | 0.02 | 0.21 | |
plot_NA_heatmap | 1.89 | 0.52 | 1.68 | |
plot_PCA | 1.75 | 0.01 | 1.77 | |
plot_ROC_AUC_spiked | 1.11 | 0.08 | 1.20 | |
plot_TP_FP_spiked_bar | 0.33 | 0.01 | 0.35 | |
plot_TP_FP_spiked_box | 0.33 | 0.00 | 0.32 | |
plot_TP_FP_spiked_scatter | 0.34 | 0.04 | 0.38 | |
plot_boxplots | 4.69 | 0.07 | 4.77 | |
plot_condition_overview | 0.17 | 0.02 | 0.19 | |
plot_densities | 2.80 | 0.06 | 2.86 | |
plot_fold_changes_spiked | 0.43 | 0.01 | 0.45 | |
plot_heatmap | 4.53 | 0.10 | 4.64 | |
plot_heatmap_DE | 1.49 | 0.08 | 1.56 | |
plot_histogram_spiked | 0.26 | 0.01 | 0.29 | |
plot_identified_spiked_proteins | 0.41 | 0.05 | 0.45 | |
plot_intersection_enrichment | 2.05 | 0.08 | 10.36 | |
plot_intragroup_PCV | 0.59 | 0.00 | 0.59 | |
plot_intragroup_PEV | 0.39 | 0.01 | 0.41 | |
plot_intragroup_PMAD | 0.50 | 0.03 | 0.53 | |
plot_intragroup_correlation | 0.49 | 0.07 | 0.55 | |
plot_jaccard_heatmap | 0.21 | 0.01 | 0.23 | |
plot_logFC_thresholds_spiked | 0.63 | 0.02 | 0.64 | |
plot_markers_boxplots | 0.86 | 0.03 | 0.89 | |
plot_nr_prot_samples | 0.30 | 0.00 | 0.29 | |
plot_overview_DE_bar | 0.53 | 0.01 | 0.55 | |
plot_overview_DE_tile | 0.25 | 0.00 | 0.25 | |
plot_profiles_spiked | 0.78 | 0.00 | 0.78 | |
plot_pvalues_spiked | 0.39 | 0.01 | 0.40 | |
plot_stats_spiked_heatmap | 0.41 | 0.02 | 0.43 | |
plot_tot_int_samples | 0.24 | 0.02 | 0.25 | |
plot_upset | 0.73 | 0.03 | 0.76 | |
plot_upset_DE | 0.98 | 0.04 | 1.14 | |
plot_volcano_DE | 3.66 | 0.05 | 3.71 | |
quantileNorm | 0.03 | 0.00 | 0.03 | |
readPRONE_example | 0.00 | 0.02 | 0.01 | |
remove_POMA_outliers | 0.67 | 0.04 | 0.72 | |
remove_assays_from_SE | 0.03 | 0.03 | 0.06 | |
remove_reference_samples | 0.07 | 0.02 | 0.08 | |
remove_samples_manually | 0.03 | 0.00 | 0.03 | |
rlrMACycNorm | 0.87 | 0.03 | 0.91 | |
rlrMANorm | 0.08 | 0.02 | 0.09 | |
rlrNorm | 0.10 | 0.01 | 0.11 | |
robnormNorm | 0.10 | 0.00 | 0.11 | |
run_DE | 2.74 | 0.03 | 2.76 | |
specify_comparisons | 0.01 | 0.00 | 0.02 | |
subset_SE_by_norm | 0.08 | 0.00 | 0.08 | |
tmmNorm | 0.13 | 0.02 | 0.14 | |
vsnNorm | 0.08 | 0.00 | 0.08 | |