Back to Multiple platform build/check report for BioC 3.21:   simplified   long
ABCDEFGHIJKLMNO[P]QRSTUVWXYZ

This page was generated on 2025-02-06 11:44 -0500 (Thu, 06 Feb 2025).

HostnameOSArch (*)R versionInstalled pkgs
nebbiolo1Linux (Ubuntu 24.04.1 LTS)x86_64R Under development (unstable) (2025-01-20 r87609) -- "Unsuffered Consequences" 4719
palomino7Windows Server 2022 Datacenterx64R Under development (unstable) (2025-01-21 r87610 ucrt) -- "Unsuffered Consequences" 4480
lconwaymacOS 12.7.1 Montereyx86_64R Under development (unstable) (2025-01-22 r87618) -- "Unsuffered Consequences" 4491
kjohnson3macOS 13.7.1 Venturaarm64R Under development (unstable) (2025-01-20 r87609) -- "Unsuffered Consequences" 4444
Click on any hostname to see more info about the system (e.g. compilers)      (*) as reported by 'uname -p', except on Windows and Mac OS X

Package 1549/2295HostnameOS / ArchINSTALLBUILDCHECKBUILD BIN
PhosR 1.17.0  (landing page)
Taiyun Kim
Snapshot Date: 2025-02-05 13:48 -0500 (Wed, 05 Feb 2025)
git_url: https://git.bioconductor.org/packages/PhosR
git_branch: devel
git_last_commit: 1e4d7a4
git_last_commit_date: 2024-10-29 10:50:46 -0500 (Tue, 29 Oct 2024)
nebbiolo1Linux (Ubuntu 24.04.1 LTS) / x86_64  OK    OK    OK  UNNEEDED, same version is already published
palomino7Windows Server 2022 Datacenter / x64  OK    OK    OK    OK  UNNEEDED, same version is already published
lconwaymacOS 12.7.1 Monterey / x86_64  OK    OK    OK    OK  UNNEEDED, same version is already published
kjohnson3macOS 13.7.1 Ventura / arm64  OK    OK    OK    OK  UNNEEDED, same version is already published


CHECK results for PhosR on kjohnson3

To the developers/maintainers of the PhosR package:
- Allow up to 24 hours (and sometimes 48 hours) for your latest push to git@git.bioconductor.org:packages/PhosR.git to reflect on this report. See Troubleshooting Build Report for more information.
- Use the following Renviron settings to reproduce errors and warnings.
- If 'R CMD check' started to fail recently on the Linux builder(s) over a missing dependency, add the missing dependency to 'Suggests:' in your DESCRIPTION file. See Renviron.bioc for more information.

raw results


Summary

Package: PhosR
Version: 1.17.0
Command: /Library/Frameworks/R.framework/Resources/bin/R CMD check --install=check:PhosR.install-out.txt --library=/Library/Frameworks/R.framework/Resources/library --no-vignettes --timings PhosR_1.17.0.tar.gz
StartedAt: 2025-02-05 20:45:35 -0500 (Wed, 05 Feb 2025)
EndedAt: 2025-02-05 20:47:43 -0500 (Wed, 05 Feb 2025)
EllapsedTime: 127.6 seconds
RetCode: 0
Status:   OK  
CheckDir: PhosR.Rcheck
Warnings: 0

Command output

##############################################################################
##############################################################################
###
### Running command:
###
###   /Library/Frameworks/R.framework/Resources/bin/R CMD check --install=check:PhosR.install-out.txt --library=/Library/Frameworks/R.framework/Resources/library --no-vignettes --timings PhosR_1.17.0.tar.gz
###
##############################################################################
##############################################################################


* using log directory ‘/Users/biocbuild/bbs-3.21-bioc/meat/PhosR.Rcheck’
* using R Under development (unstable) (2025-01-20 r87609)
* using platform: aarch64-apple-darwin20
* R was compiled by
    Apple clang version 14.0.0 (clang-1400.0.29.202)
    GNU Fortran (GCC) 14.2.0
* running under: macOS Ventura 13.7.1
* using session charset: UTF-8
* using option ‘--no-vignettes’
* checking for file ‘PhosR/DESCRIPTION’ ... OK
* checking extension type ... Package
* this is package ‘PhosR’ version ‘1.17.0’
* package encoding: UTF-8
* checking package namespace information ... OK
* checking package dependencies ... INFO
Imports includes 24 non-default packages.
Importing from so many packages makes the package vulnerable to any of
them becoming unavailable.  Move as many as possible to Suggests and
use conditionally.
* checking if this is a source package ... OK
* checking if there is a namespace ... OK
* checking for hidden files and directories ... NOTE
Found the following hidden files and directories:
  .travis.yml
These were most likely included in error. See section ‘Package
structure’ in the ‘Writing R Extensions’ manual.
* checking for portable file names ... OK
* checking for sufficient/correct file permissions ... OK
* checking whether package ‘PhosR’ can be installed ... OK
* checking installed package size ... OK
* checking package directory ... OK
* checking ‘build’ directory ... OK
* checking DESCRIPTION meta-information ... OK
* checking top-level files ... OK
* checking for left-over files ... OK
* checking index information ... OK
* checking package subdirectories ... OK
* checking code files for non-ASCII characters ... OK
* checking R files for syntax errors ... OK
* checking whether the package can be loaded ... OK
* checking whether the package can be loaded with stated dependencies ... OK
* checking whether the package can be unloaded cleanly ... OK
* checking whether the namespace can be loaded with stated dependencies ... OK
* checking whether the namespace can be unloaded cleanly ... OK
* checking whether startup messages can be suppressed ... OK
* checking dependencies in R code ... NOTE
Namespace in Imports field not imported from: ‘stringi’
  All declared Imports should be used.
Unexported objects imported by ':::' calls:
  ‘BiocGenerics:::replaceSlots’ ‘S4Vectors:::disableValidity’
  ‘SummarizedExperiment:::.SummarizedExperiment.charbound’
  See the note in ?`:::` about the use of this operator.
* checking S3 generic/method consistency ... OK
* checking replacement functions ... OK
* checking foreign function calls ... OK
* checking R code for possible problems ... NOTE
abundPlot: no visible binding for global variable ‘.’
Undefined global functions or variables:
  .
* checking Rd files ... OK
* checking Rd metadata ... OK
* checking Rd cross-references ... NOTE
Found the following Rd file(s) with Rd \link{} targets missing package
anchors:
  PhosphoExperiment-operate.Rd: SummarizedExperiment-class
  PhosphoExperiment.Rd: SummarizedExperiment-class
Please provide package anchors for all Rd \link{} targets not in the
package itself and the base packages.
* checking for missing documentation entries ... OK
* checking for code/documentation mismatches ... OK
* checking Rd \usage sections ... OK
* checking Rd contents ... OK
* checking for unstated dependencies in examples ... OK
* checking contents of ‘data’ directory ... OK
* checking data for non-ASCII characters ... OK
* checking data for ASCII and uncompressed saves ... OK
* checking files in ‘vignettes’ ... OK
* checking examples ... OK
Examples with CPU (user + system) or elapsed time > 5s
                      user system elapsed
siteAnnotate         8.833  0.364   9.234
kinaseSubstratePred  8.343  0.295   8.672
kinaseSubstrateScore 5.676  0.164   5.900
minmax               5.343  0.175   5.528
* checking for unstated dependencies in ‘tests’ ... OK
* checking tests ...
  Running ‘testthat.R’
 OK
* checking for unstated dependencies in vignettes ... OK
* checking package vignettes ... OK
* checking running R code from vignettes ... SKIPPED
* checking re-building of vignette outputs ... SKIPPED
* checking PDF version of manual ... OK
* DONE

Status: 4 NOTEs
See
  ‘/Users/biocbuild/bbs-3.21-bioc/meat/PhosR.Rcheck/00check.log’
for details.


Installation output

PhosR.Rcheck/00install.out

##############################################################################
##############################################################################
###
### Running command:
###
###   /Library/Frameworks/R.framework/Resources/bin/R CMD INSTALL PhosR
###
##############################################################################
##############################################################################


* installing to library ‘/Library/Frameworks/R.framework/Versions/4.5-arm64/Resources/library’
* installing *source* package ‘PhosR’ ...
** this is package ‘PhosR’ version ‘1.17.0’
** using staged installation
** R
** data
** inst
** byte-compile and prepare package for lazy loading
** help
*** installing help indices
*** copying figures
** building package indices
** installing vignettes
** testing if installed package can be loaded from temporary location
** testing if installed package can be loaded from final location
** testing if installed package keeps a record of temporary installation path
* DONE (PhosR)

Tests output

PhosR.Rcheck/tests/testthat.Rout


R Under development (unstable) (2025-01-20 r87609) -- "Unsuffered Consequences"
Copyright (C) 2025 The R Foundation for Statistical Computing
Platform: aarch64-apple-darwin20

R is free software and comes with ABSOLUTELY NO WARRANTY.
You are welcome to redistribute it under certain conditions.
Type 'license()' or 'licence()' for distribution details.

R is a collaborative project with many contributors.
Type 'contributors()' for more information and
'citation()' on how to cite R or R packages in publications.

Type 'demo()' for some demos, 'help()' for on-line help, or
'help.start()' for an HTML browser interface to help.
Type 'q()' to quit R.

> library(testthat)
> library(PhosR)
> 
> test_check("PhosR")
[ FAIL 0 | WARN 0 | SKIP 0 | PASS 58 ]
> 
> proc.time()
   user  system elapsed 
  3.603   0.166   3.770 

Example timings

PhosR.Rcheck/PhosR-Ex.timings

nameusersystemelapsed
PhosphoExperiment-methods0.1230.0030.128
PhosphoExperiment-operate0.1740.0040.182
PhosphoExperiment0.1050.0020.107
RUVphospho0.0830.0030.086
Signalomes000
createFrequencyMat0.0470.0010.048
frequencyScoring0.1600.0040.164
getSPS0.8020.0160.820
kinaseSubstrateHeatmap000
kinaseSubstratePred8.3430.2958.672
kinaseSubstrateProfile2.6270.0122.669
kinaseSubstrateScore5.6760.1645.900
mIntersect0.3550.0050.360
matANOVA2.5560.0062.565
meanAbundance0.1010.0040.106
medianScaling0.0790.0030.081
minmax5.3430.1755.528
pathwayOverrepresent000
pathwayRankBasedEnrichment0.0000.0010.000
phosCollapse0.3050.0110.317
plotQC1.3110.0311.351
ptImpute0.0760.0010.081
scImpute0.1780.0020.181
selectGrps0.0520.0020.054
selectLocalisedSites0.0400.0020.042
selectOverallPercent0.0200.0010.021
selectTimes0.0050.0010.006
siteAnnotate8.8330.3649.234
standardise2.5380.0142.552
tImpute0.0630.0030.067