Back to Multiple platform build/check report for BioC 3.21:   simplified   long
ABCDEFGHIJKLMNOP[Q]RSTUVWXYZ

This page was generated on 2025-02-06 11:41 -0500 (Thu, 06 Feb 2025).

HostnameOSArch (*)R versionInstalled pkgs
nebbiolo1Linux (Ubuntu 24.04.1 LTS)x86_64R Under development (unstable) (2025-01-20 r87609) -- "Unsuffered Consequences" 4719
palomino7Windows Server 2022 Datacenterx64R Under development (unstable) (2025-01-21 r87610 ucrt) -- "Unsuffered Consequences" 4480
lconwaymacOS 12.7.1 Montereyx86_64R Under development (unstable) (2025-01-22 r87618) -- "Unsuffered Consequences" 4491
kjohnson3macOS 13.7.1 Venturaarm64R Under development (unstable) (2025-01-20 r87609) -- "Unsuffered Consequences" 4444
Click on any hostname to see more info about the system (e.g. compilers)      (*) as reported by 'uname -p', except on Windows and Mac OS X

Package 1636/2295HostnameOS / ArchINSTALLBUILDCHECKBUILD BIN
QSutils 1.25.0  (landing page)
Mercedes Guerrero-Murillo
Snapshot Date: 2025-02-05 13:48 -0500 (Wed, 05 Feb 2025)
git_url: https://git.bioconductor.org/packages/QSutils
git_branch: devel
git_last_commit: 4274cf1
git_last_commit_date: 2024-10-29 10:32:30 -0500 (Tue, 29 Oct 2024)
nebbiolo1Linux (Ubuntu 24.04.1 LTS) / x86_64  OK    OK    OK  UNNEEDED, same version is already published
palomino7Windows Server 2022 Datacenter / x64  OK    OK    OK    OK  UNNEEDED, same version is already published
lconwaymacOS 12.7.1 Monterey / x86_64  OK    OK    OK    OK  UNNEEDED, same version is already published
kjohnson3macOS 13.7.1 Ventura / arm64  OK    OK    OK    OK  UNNEEDED, same version is already published


CHECK results for QSutils on palomino7

To the developers/maintainers of the QSutils package:
- Allow up to 24 hours (and sometimes 48 hours) for your latest push to git@git.bioconductor.org:packages/QSutils.git to reflect on this report. See Troubleshooting Build Report for more information.
- Use the following Renviron settings to reproduce errors and warnings.
- If 'R CMD check' started to fail recently on the Linux builder(s) over a missing dependency, add the missing dependency to 'Suggests:' in your DESCRIPTION file. See Renviron.bioc for more information.

raw results


Summary

Package: QSutils
Version: 1.25.0
Command: E:\biocbuild\bbs-3.21-bioc\R\bin\R.exe CMD check --no-multiarch --install=check:QSutils.install-out.txt --library=E:\biocbuild\bbs-3.21-bioc\R\library --no-vignettes --timings QSutils_1.25.0.tar.gz
StartedAt: 2025-02-06 04:52:33 -0500 (Thu, 06 Feb 2025)
EndedAt: 2025-02-06 04:54:17 -0500 (Thu, 06 Feb 2025)
EllapsedTime: 104.0 seconds
RetCode: 0
Status:   OK  
CheckDir: QSutils.Rcheck
Warnings: 0

Command output

##############################################################################
##############################################################################
###
### Running command:
###
###   E:\biocbuild\bbs-3.21-bioc\R\bin\R.exe CMD check --no-multiarch --install=check:QSutils.install-out.txt --library=E:\biocbuild\bbs-3.21-bioc\R\library --no-vignettes --timings QSutils_1.25.0.tar.gz
###
##############################################################################
##############################################################################


* using log directory 'E:/biocbuild/bbs-3.21-bioc/meat/QSutils.Rcheck'
* using R Under development (unstable) (2025-01-21 r87610 ucrt)
* using platform: x86_64-w64-mingw32
* R was compiled by
    gcc.exe (GCC) 13.3.0
    GNU Fortran (GCC) 13.3.0
* running under: Windows Server 2022 x64 (build 20348)
* using session charset: UTF-8
* using option '--no-vignettes'
* checking for file 'QSutils/DESCRIPTION' ... OK
* checking extension type ... Package
* this is package 'QSutils' version '1.25.0'
* package encoding: UTF-8
* checking package namespace information ... OK
* checking package dependencies ... OK
* checking if this is a source package ... OK
* checking if there is a namespace ... OK
* checking for hidden files and directories ... OK
* checking for portable file names ... OK
* checking whether package 'QSutils' can be installed ... OK
* checking installed package size ... OK
* checking package directory ... OK
* checking 'build' directory ... OK
* checking DESCRIPTION meta-information ... OK
* checking top-level files ... NOTE
File
  LICENSE
is not mentioned in the DESCRIPTION file.
* checking for left-over files ... OK
* checking index information ... OK
* checking package subdirectories ... NOTE
Problems with news in 'NEWS':
  Cannot process chunk/lines:
    CHANGES IN VERSION 0.99.8
    	Internal changes:
    		- QSutils review correction:
    			· Add exports to NAMESPACE
  Cannot process chunk/lines:
    CHANGES IN VERSION 0.99.4,5, and 7
    	Internal changes:
    		- QSutils review correction:
    			· fn.ab function correction
  Cannot process chunk/lines:
    CHANGES IN VERSION 0.99.3
    	Internal changes:
    	  - QSutils review correction:
    	  		· Vignette: add chunk names
    			· R Change class -> is()
    			· R hide helper functions
    			· R join more than one function in one file
    			· R vectorize some apply
    			· R Change fn.ab.1,fn.ab.2 and fn.ab.3 -> fn.ab with 3 agruments in fn
  Cannot process chunk/lines:
    CHANGES IN VERSION 0.99.2
    	Internal changes:
    	  - Biocheck NOTEs correction:
    	  		· Change sapply()->vapply()
    			· Change 1:... -> seq_len()
  Cannot process chunk/lines:
    CHANGES IN VERSION 0.99.1
    	Internal changes:
    	  - Correction of WARNINGS and ERRORS
    	    with Biocheck:
    		  · Collapse() example ERROR.
    		  · Change class == -> is() or !is()
    		  · Update R version dependency from 3.4.0 to 3.5.
    		  · Correct -> 'VignetteIndexEntry{VignetteTitle}' in QSUtils-Alignment.Rmd
* checking code files for non-ASCII characters ... OK
* checking R files for syntax errors ... OK
* checking whether the package can be loaded ... OK
* checking whether the package can be loaded with stated dependencies ... OK
* checking whether the package can be unloaded cleanly ... OK
* checking whether the namespace can be loaded with stated dependencies ... OK
* checking whether the namespace can be unloaded cleanly ... OK
* checking dependencies in R code ... OK
* checking S3 generic/method consistency ... OK
* checking replacement functions ... OK
* checking foreign function calls ... OK
* checking R code for possible problems ... OK
* checking Rd files ... OK
* checking Rd metadata ... OK
* checking Rd cross-references ... OK
* checking for missing documentation entries ... OK
* checking for code/documentation mismatches ... OK
* checking Rd \usage sections ... OK
* checking Rd contents ... OK
* checking for unstated dependencies in examples ... OK
* checking files in 'vignettes' ... OK
* checking examples ... OK
* checking for unstated dependencies in vignettes ... OK
* checking package vignettes ... OK
* checking running R code from vignettes ... SKIPPED
* checking re-building of vignette outputs ... SKIPPED
* checking PDF version of manual ... OK
* DONE

Status: 2 NOTEs
See
  'E:/biocbuild/bbs-3.21-bioc/meat/QSutils.Rcheck/00check.log'
for details.


Installation output

QSutils.Rcheck/00install.out

##############################################################################
##############################################################################
###
### Running command:
###
###   E:\biocbuild\bbs-3.21-bioc\R\bin\R.exe CMD INSTALL QSutils
###
##############################################################################
##############################################################################


* installing to library 'E:/biocbuild/bbs-3.21-bioc/R/library'
* installing *source* package 'QSutils' ...
** this is package 'QSutils' version '1.25.0'
** using staged installation
** R
** inst
** byte-compile and prepare package for lazy loading
** help
*** installing help indices
** building package indices
** installing vignettes
** testing if installed package can be loaded from temporary location
** testing if installed package can be loaded from final location
** testing if installed package keeps a record of temporary installation path
* DONE (QSutils)

Tests output


Example timings

QSutils.Rcheck/QSutils-Ex.timings

nameusersystemelapsed
Collapse0.130.040.19
ConsSeq0.040.000.04
CorrectGapsAndNs000
DBrule0.080.020.12
DNA.dist0.020.000.02
DSFT000
Diverge000
DottedAlignment0.010.000.01
FAD0.020.000.02
FreqMat0.010.000.01
GenerateVars000
GenotypeStandards_A-H.fas0.000.010.01
GetInfProfile0.020.000.02
GetQSData0.440.080.52
GetRandomSeq000
GiniSimpson0.000.020.01
HCq000
Hill000
IntersectStrandHpls0.090.010.16
MutationFreq0.620.040.65
MutsTbl0.020.010.03
NucleotideDiversity000
PolyDist0.030.000.04
Rao0.020.020.03
ReadAmplSeqs0.030.000.03
Renyi000
ReportVariants0.020.000.02
SegSites0.010.000.02
Shannon000
SortByMutations0.680.000.67
SummaryMuts0.010.000.01
TotalMutations0.030.000.03
Toy.GapsAndNs.fna0.050.010.07
ToyData_10_50_1000.fna0.030.000.03
ToyData_FWReads.fna0.080.020.09
ToyData_RVReads.fna0.090.000.10
UniqueMutations0.020.000.01
Unknown-Genotype.fna0.010.010.03
fn.ab000
geom.series000