Back to Multiple platform build/check report for BioC 3.21:   simplified   long
ABCDEFGHIJKLMNOPQ[R]STUVWXYZ

This page was generated on 2025-02-06 11:42 -0500 (Thu, 06 Feb 2025).

HostnameOSArch (*)R versionInstalled pkgs
nebbiolo1Linux (Ubuntu 24.04.1 LTS)x86_64R Under development (unstable) (2025-01-20 r87609) -- "Unsuffered Consequences" 4719
palomino7Windows Server 2022 Datacenterx64R Under development (unstable) (2025-01-21 r87610 ucrt) -- "Unsuffered Consequences" 4480
lconwaymacOS 12.7.1 Montereyx86_64R Under development (unstable) (2025-01-22 r87618) -- "Unsuffered Consequences" 4491
kjohnson3macOS 13.7.1 Venturaarm64R Under development (unstable) (2025-01-20 r87609) -- "Unsuffered Consequences" 4444
Click on any hostname to see more info about the system (e.g. compilers)      (*) as reported by 'uname -p', except on Windows and Mac OS X

Package 1692/2295HostnameOS / ArchINSTALLBUILDCHECKBUILD BIN
RCy3 2.27.0  (landing page)
Alex Pico
Snapshot Date: 2025-02-05 13:48 -0500 (Wed, 05 Feb 2025)
git_url: https://git.bioconductor.org/packages/RCy3
git_branch: devel
git_last_commit: 6d1a209
git_last_commit_date: 2024-10-29 10:04:47 -0500 (Tue, 29 Oct 2024)
nebbiolo1Linux (Ubuntu 24.04.1 LTS) / x86_64  OK    OK    OK  UNNEEDED, same version is already published
palomino7Windows Server 2022 Datacenter / x64  OK    OK    OK    OK  UNNEEDED, same version is already published
lconwaymacOS 12.7.1 Monterey / x86_64  OK    OK    OK    OK  UNNEEDED, same version is already published
kjohnson3macOS 13.7.1 Ventura / arm64  OK    OK    OK    OK  UNNEEDED, same version is already published


CHECK results for RCy3 on lconway

To the developers/maintainers of the RCy3 package:
- Allow up to 24 hours (and sometimes 48 hours) for your latest push to git@git.bioconductor.org:packages/RCy3.git to reflect on this report. See Troubleshooting Build Report for more information.
- Use the following Renviron settings to reproduce errors and warnings.
- If 'R CMD check' started to fail recently on the Linux builder(s) over a missing dependency, add the missing dependency to 'Suggests:' in your DESCRIPTION file. See Renviron.bioc for more information.

raw results


Summary

Package: RCy3
Version: 2.27.0
Command: /Library/Frameworks/R.framework/Resources/bin/R CMD check --install=check:RCy3.install-out.txt --library=/Library/Frameworks/R.framework/Resources/library --no-vignettes --timings RCy3_2.27.0.tar.gz
StartedAt: 2025-02-05 22:41:25 -0500 (Wed, 05 Feb 2025)
EndedAt: 2025-02-05 22:43:00 -0500 (Wed, 05 Feb 2025)
EllapsedTime: 94.8 seconds
RetCode: 0
Status:   OK  
CheckDir: RCy3.Rcheck
Warnings: 0

Command output

##############################################################################
##############################################################################
###
### Running command:
###
###   /Library/Frameworks/R.framework/Resources/bin/R CMD check --install=check:RCy3.install-out.txt --library=/Library/Frameworks/R.framework/Resources/library --no-vignettes --timings RCy3_2.27.0.tar.gz
###
##############################################################################
##############################################################################


* using log directory ‘/Users/biocbuild/bbs-3.21-bioc/meat/RCy3.Rcheck’
* using R Under development (unstable) (2025-01-22 r87618)
* using platform: x86_64-apple-darwin20
* R was compiled by
    Apple clang version 14.0.0 (clang-1400.0.29.202)
    GNU Fortran (GCC) 14.2.0
* running under: macOS Monterey 12.7.6
* using session charset: UTF-8
* using option ‘--no-vignettes’
* checking for file ‘RCy3/DESCRIPTION’ ... OK
* checking extension type ... Package
* this is package ‘RCy3’ version ‘2.27.0’
* package encoding: UTF-8
* checking package namespace information ... OK
* checking package dependencies ... OK
* checking if this is a source package ... OK
* checking if there is a namespace ... OK
* checking for hidden files and directories ... NOTE
Found the following hidden files and directories:
  .travis.yml
These were most likely included in error. See section ‘Package
structure’ in the ‘Writing R Extensions’ manual.
* checking for portable file names ... OK
* checking for sufficient/correct file permissions ... OK
* checking whether package ‘RCy3’ can be installed ... OK
* checking installed package size ... OK
* checking package directory ... OK
* checking ‘build’ directory ... OK
* checking DESCRIPTION meta-information ... NOTE
License stub is invalid DCF.
* checking top-level files ... OK
* checking for left-over files ... OK
* checking index information ... OK
* checking package subdirectories ... OK
* checking code files for non-ASCII characters ... OK
* checking R files for syntax errors ... OK
* checking whether the package can be loaded ... OK
* checking whether the package can be loaded with stated dependencies ... OK
* checking whether the package can be unloaded cleanly ... OK
* checking whether the namespace can be loaded with stated dependencies ... OK
* checking whether the namespace can be unloaded cleanly ... OK
* checking dependencies in R code ... OK
* checking S3 generic/method consistency ... OK
* checking replacement functions ... OK
* checking foreign function calls ... OK
* checking R code for possible problems ... NOTE
.checkHexColor: no visible global function definition for ‘colors’
.edgeNameToEdgeSUID: no visible binding for global variable ‘SUID’
.nodeNameToNodeSUID: no visible binding for global variable ‘SUID’
createNetworkFromDataFrames: no visible binding for global variable
  ‘SUID’
Undefined global functions or variables:
  SUID colors
Consider adding
  importFrom("grDevices", "colors")
to your NAMESPACE file.
* checking Rd files ... NOTE
checkRd: (-1) importFileFromUrl.Rd:24: Lost braces; missing escapes or markup?
    24 | dict: {'filePath': <new file's absolute path in Cytoscape workstation>, 'fileByteCount': number of bytes read}
       |       ^
checkRd: (-1) sandboxGetFileInfo.Rd:17: Lost braces; missing escapes or markup?
    17 | dict: {'filePath': <full path on Cytoscape workstation>, 'modifiedTime': <last changed time, '' if file doesn't exist>, 'isFile': <True if file, False if directory>}
       |       ^
checkRd: (-1) sandboxRemove.Rd:15: Lost braces; missing escapes or markup?
    15 | dict: {'sandboxPath': <directory on Cytoscape workstation>, 'existed': <True if sandbox existed>}
       |       ^
checkRd: (-1) sandboxRemoveFile.Rd:17: Lost braces; missing escapes or markup?
    17 | dict: {'filePath': <file's absolute path in Cytoscape workstation>, 'existed': True if file existed before being deleted}
       |       ^
checkRd: (-1) sandboxUrlTo.Rd:27: Lost braces; missing escapes or markup?
    27 | dict: {'filePath': <new file's absolute path in Cytoscape workstation>, 'fileByteCount': number of bytes read}
       |       ^
* checking Rd metadata ... OK
* checking Rd cross-references ... OK
* checking for missing documentation entries ... OK
* checking for code/documentation mismatches ... OK
* checking Rd \usage sections ... OK
* checking Rd contents ... OK
* checking for unstated dependencies in examples ... OK
* checking files in ‘vignettes’ ... OK
* checking examples ... OK
* checking for unstated dependencies in ‘tests’ ... OK
* checking tests ...
  Running ‘runTests.R’
 OK
* checking for unstated dependencies in vignettes ... OK
* checking package vignettes ... OK
* checking running R code from vignettes ... SKIPPED
* checking re-building of vignette outputs ... SKIPPED
* checking PDF version of manual ... OK
* DONE

Status: 4 NOTEs
See
  ‘/Users/biocbuild/bbs-3.21-bioc/meat/RCy3.Rcheck/00check.log’
for details.


Installation output

RCy3.Rcheck/00install.out

##############################################################################
##############################################################################
###
### Running command:
###
###   /Library/Frameworks/R.framework/Resources/bin/R CMD INSTALL RCy3
###
##############################################################################
##############################################################################


* installing to library ‘/Library/Frameworks/R.framework/Versions/4.5-x86_64/Resources/library’
* installing *source* package ‘RCy3’ ...
** this is package ‘RCy3’ version ‘2.27.0’
** using staged installation
** R
** inst
** byte-compile and prepare package for lazy loading
** help
*** installing help indices
** building package indices
** installing vignettes
** testing if installed package can be loaded from temporary location
** testing if installed package can be loaded from final location
** testing if installed package keeps a record of temporary installation path
* DONE (RCy3)

Tests output

RCy3.Rcheck/tests/runTests.Rout


R Under development (unstable) (2025-01-22 r87618) -- "Unsuffered Consequences"
Copyright (C) 2025 The R Foundation for Statistical Computing
Platform: x86_64-apple-darwin20

R is free software and comes with ABSOLUTELY NO WARRANTY.
You are welcome to redistribute it under certain conditions.
Type 'license()' or 'licence()' for distribution details.

R is a collaborative project with many contributors.
Type 'contributors()' for more information and
'citation()' on how to cite R or R packages in publications.

Type 'demo()' for some demos, 'help()' for on-line help, or
'help.start()' for an HTML browser interface to help.
Type 'q()' to quit R.

> # tests disabled as the Bioconductor build system no longer supports interactive sessions
> #require(RCy3) || stop("unable to load RCy3")
> #BiocGenerics:::testPackage('RCy3')
> 
> proc.time()
   user  system elapsed 
  0.205   0.077   0.272 

Example timings

RCy3.Rcheck/RCy3-Ex.timings

nameusersystemelapsed
AddToGroup0.0000.0010.000
RemoveFromGroup000
UpdateAnnotationBoundedText0.0000.0010.000
addAnnotationBoundedText000
addAnnotationImage000
addAnnotationShape000
addAnnotationText000
addCyEdges000
addCyNodes0.0000.0000.001
analyzeNetwork000
applyFilter000
bundleEdges0.0000.0000.001
checkNotebookIsRunning000
checkRunningRemote000
clearEdgeBends000
clearEdgePropertyBypass000
clearNetworkCenterBypass000
clearNetworkPropertyBypass000
clearNetworkZoomBypass000
clearNodeOpacityBypass000
clearNodePropertyBypass0.0000.0010.000
clearSelection0.0000.0000.001
cloneNetwork000
closeSession000
collapseGroup000
commandEcho000
commandOpenDialog000
commandPause0.0000.0010.000
commandQuit000
commandRunFile0.0010.0010.000
commandSleep000
commandsAPI000
commandsGET000
commandsHelp000
commandsPOST000
commandsRun000
copyVisualStyle000
createColumnFilter000
createCompositeFilter000
createCytoscapejsFromNetwork000
createDegreeFilter000
createGraphFromNetwork0.0010.0000.000
createGroup0.0000.0010.000
createGroupByColumn000
createIgraphFromNetwork000
createNetworkFromCytoscapejs000
createNetworkFromDataFrames000
createNetworkFromGraph0.0000.0000.001
createNetworkFromIgraph0.0000.0010.000
createSubnetwork000
createView000
createVisualStyle000
cybrowserClose000
cybrowserDialog0.0000.0000.001
cybrowserHide0.0000.0010.000
cybrowserList000
cybrowserSend000
cybrowserShow000
cybrowserVersion000
cyrestAPI000
cyrestDELETE000
cyrestGET000
cyrestPOST0.0010.0000.000
cyrestPUT000
cytoscapeApiVersions0.0000.0000.001
cytoscapeFreeMemory0.0000.0010.001
cytoscapeMemoryStatus000
cytoscapeNumberOfCores0.0000.0010.000
cytoscapePing000
cytoscapeVersionInfo000
deleteAllNetworks0.0000.0010.000
deleteAllVisualStyle0.0010.0000.000
deleteAnnotation000
deleteDuplicateEdges000
deleteGroup0.0000.0010.000
deleteNetwork0.0010.0000.000
deleteSelectedEdges0.0000.0010.000
deleteSelectedNodes000
deleteSelfLoops000
deleteStyleMapping000
deleteTableColumn000
deleteVisualStyle000
diffusionAdvanced000
diffusionBasic0.0000.0000.001
disableApp0.0000.0000.001
doInitializeSandbox000
doRequestRemote000
doSetSandbox000
dockPanel000
dot-exportShowImage000
dot-getDefaultSandbox000
dot-getRequester0.0010.0000.000
enableApp000
expandGroup000
exportFilters000
exportImage000
exportJPG0.0000.0000.001
exportNetwork0.0000.0000.001
exportNetworkToNDEx000
exportPDF000
exportPNG000
exportPS000
exportSVG000
exportVisualStyles000
findRemoteCytoscape000
fitContent000
floatPanel000
getAbsSandboxPath000
getAllEdges0.0000.0000.001
getAllNodes000
getAllStyleMappings0.0010.0000.000
getAnnotationList0.0000.0010.000
getAppInformation0.0010.0000.000
getAppStatus000
getAppUpdates000
getArrowShapes000
getAvailableApps000
getBackgroundColorDefault000
getBrowserClientChannel000
getBrowserClientJs000
getCollectionList000
getCollectionName000
getCollectionNetworks000
getCollectionSuid000
getCurrentSandbox0.0000.0000.001
getCurrentSandboxName000
getCurrentSandboxPath0.0010.0000.000
getCurrentStyle000
getDefaultSandbox0.0010.0000.000
getDefaultSandboxPath0.0000.0010.001
getDisabledApps000
getEdgeColor000
getEdgeCount000
getEdgeInfo000
getEdgeLineStyle000
getEdgeLineWidth000
getEdgeProperty000
getEdgeSelectionColorDefault000
getEdgeTargetArrowShape000
getFilterList000
getFirstNeighbors000
getGroupInfo000
getInstalledApps000
getJupyterBridgeURL000
getLayoutNameMapping000
getLayoutNames000
getLayoutPropertyNames000
getLayoutPropertyType000
getLayoutPropertyValue000
getLineStyles000
getNetworkCenter000
getNetworkCount000
getNetworkList0.0000.0000.001
getNetworkNDExId000
getNetworkName000
getNetworkProperty000
getNetworkSuid000
getNetworkViewSuid0.0000.0010.001
getNetworkViews000
getNetworkZoom000
getNodeColor000
getNodeCount000
getNodeHeight0.0000.0000.001
getNodeLabelPosition000
getNodeLabelPositionDefault000
getNodePosition000
getNodeProperty000
getNodeSelectionColorDefault000
getNodeShapes0.0010.0000.001
getNodeSize0.0000.0010.000
getNodeWidth000
getNotebookIsRunning000
getSandboxReinitialize000
getSelectedEdgeCount000
getSelectedEdges000
getSelectedNodeCount000
getSelectedNodes0.0000.0010.001
getStyleDependencies0.0000.0000.001
getStyleMapping0.0000.0010.000
getTableColumnNames000
getTableColumnTypes000
getTableColumns000
getTableValue000
getUninstalledApps000
getVisualPropertyDefault0.0000.0000.001
getVisualPropertyNames0.0000.0000.001
getVisualStyleJSON0.0000.0000.001
getVisualStyleNames0.0000.0010.000
groupAnnotation000
hideAllPanels0.0000.0010.000
hideEdges000
hideNodes0.0000.0000.001
hidePanel0.0000.0000.001
hideSelectedEdges000
hideSelectedNodes000
importFileFromUrl000
importFilters000
importNetworkFromFile000
importNetworkFromNDEx0.0010.0000.000
importVisualStyles000
installApp0.0000.0000.001
invertEdgeSelection0.0000.0000.001
invertNodeSelection0.0000.0000.001
layoutCopycat000
layoutNetwork000
listGroups000
lockNodeDimensions000
makeSimpleGraph0.0640.0010.066
makeSimpleIgraph0.0840.0090.093
mapTableColumn000
mapVisualProperty000
matchArrowColorToEdge000
mergeNetworks000
notebookExportShowImage000
notebookShowImage000
openAppStore0.0000.0000.001
openSession000
paletteColorBrewerAccent0.0050.0010.006
paletteColorBrewerBlues000
paletteColorBrewerBrBG0.0010.0000.000
paletteColorBrewerBuGn0.0000.0000.001
paletteColorBrewerBuPu0.0000.0010.000
paletteColorBrewerDark2000
paletteColorBrewerGnBu0.0000.0000.001
paletteColorBrewerGreens0.0000.0010.000
paletteColorBrewerGreys0.0010.0000.000
paletteColorBrewerOrRd0.0000.0000.001
paletteColorBrewerOranges0.0000.0000.001
paletteColorBrewerPRGn000
paletteColorBrewerPaired0.0000.0000.001
paletteColorBrewerPastel10.0000.0000.001
paletteColorBrewerPastel20.0010.0000.000
paletteColorBrewerPiYG0.0000.0000.001
paletteColorBrewerPuBu000
paletteColorBrewerPuBuGn0.0010.0000.001
paletteColorBrewerPuOr000
paletteColorBrewerPuRd000
paletteColorBrewerPurples0.0000.0000.001
paletteColorBrewerRdBu0.0010.0000.000
paletteColorBrewerRdPu0.0000.0000.001
paletteColorBrewerRdYlBu000
paletteColorBrewerReds000
paletteColorBrewerSet10.0000.0000.001
paletteColorBrewerSet2000
paletteColorBrewerSet3000
paletteColorBrewerYlGn0.0000.0000.001
paletteColorBrewerYlGnBu000
paletteColorBrewerYlOrBr000
paletteColorBrewerYlOrRd0.0000.0010.001
paletteColorRandom0.0000.0000.001
paletteColorVirdis000
removeNodeCustomGraphics000
renameNetwork000
renameTableColumn000
resetDefaultSandbox000
rotateLayout0.0000.0000.001
runningRemoteCheck0.0000.0010.001
sandboxGetFileInfo000
sandboxGetFrom000
sandboxInitializer000
sandboxRemove000
sandboxRemoveFile0.0010.0000.000
sandboxSendTo000
sandboxSet0.0000.0000.001
sandboxUrlTo000
saveSession000
scaleLayout000
selectAll000
selectAllEdges000
selectAllNodes000
selectEdges0.0010.0010.001
selectEdgesAdjacentToNodes000
selectEdgesAdjacentToSelectedNodes0.0010.0000.000
selectEdgesConnectingSelectedNodes000
selectFirstNeighbors000
selectNodes000
selectNodesConnectedBySelectedEdges000
setBackgroundColorDefault0.0010.0000.000
setCatchupFilterSecs0.0000.0010.001
setCatchupNetworkSecs000
setCurrentNetwork000
setCurrentSandbox0.0000.0000.001
setCurrentView0.0000.0010.001
setDefaultSandbox000
setDefaultSandboxPath0.0000.0010.000
setEdgeColorBypass000
setEdgeColorDefault0.0000.0000.001
setEdgeColorMapping000
setEdgeFontFaceBypass0.0000.0010.000
setEdgeFontFaceDefault0.0010.0000.001
setEdgeFontFaceMapping000
setEdgeFontSizeBypass0.0010.0000.001
setEdgeFontSizeDefault0.0000.0010.000
setEdgeFontSizeMapping000
setEdgeLabelBypass000
setEdgeLabelColorBypass000
setEdgeLabelColorDefault000
setEdgeLabelColorMapping000
setEdgeLabelDefault000
setEdgeLabelMapping000
setEdgeLabelOpacityBypass000
setEdgeLabelOpacityDefault000
setEdgeLabelOpacityMapping000
setEdgeLineStyleBypass000
setEdgeLineStyleDefault0.0000.0000.001
setEdgeLineStyleMapping000
setEdgeLineWidthBypass000
setEdgeLineWidthDefault000
setEdgeLineWidthMapping000
setEdgeOpacityBypass000
setEdgeOpacityDefault000
setEdgeOpacityMapping000
setEdgePropertyBypass000
setEdgeSelectionColorDefault000
setEdgeSourceArrowColorBypass000
setEdgeSourceArrowColorDefault000
setEdgeSourceArrowColorMapping000
setEdgeSourceArrowMapping000
setEdgeSourceArrowShapeBypass000
setEdgeSourceArrowShapeDefault000
setEdgeSourceArrowShapeMapping0.0000.0000.001
setEdgeTargetArrowColorBypass0.0000.0010.000
setEdgeTargetArrowColorDefault000
setEdgeTargetArrowColorMapping0.0000.0000.001
setEdgeTargetArrowMapping000
setEdgeTargetArrowShapeBypass000
setEdgeTargetArrowShapeDefault000
setEdgeTargetArrowShapeMapping0.0000.0010.000
setEdgeTooltipBypass000
setEdgeTooltipDefault000
setEdgeTooltipMapping0.0010.0000.000
setLayoutProperties000
setModelPropagationSecs0.0000.0000.001
setNetworkCenterBypass000
setNetworkPropertyBypass0.0000.0010.000
setNetworkZoomBypass000
setNodeBorderColorBypass000
setNodeBorderColorDefault000
setNodeBorderColorMapping000
setNodeBorderOpacityBypass0.0000.0010.000
setNodeBorderOpacityDefault000
setNodeBorderOpacityMapping000
setNodeBorderWidthBypass0.0010.0000.000
setNodeBorderWidthDefault000
setNodeBorderWidthMapping000
setNodeColorBypass000
setNodeColorDefault000
setNodeColorMapping000
setNodeComboOpacityMapping0.0000.0000.001
setNodeCustomBarChart0.0000.0000.001
setNodeCustomBoxChart0.0000.0010.001
setNodeCustomHeatMapChart000
setNodeCustomLineChart0.0000.0000.001
setNodeCustomLinearGradient000
setNodeCustomPieChart000
setNodeCustomPosition000
setNodeCustomRadialGradient000
setNodeCustomRingChart000
setNodeFillOpacityBypass000
setNodeFillOpacityDefault000
setNodeFillOpacityMapping000
setNodeFontFaceBypass000
setNodeFontFaceDefault0.0010.0000.000
setNodeFontFaceMapping000
setNodeFontSizeBypass000
setNodeFontSizeDefault000
setNodeFontSizeMapping000
setNodeHeightBypass000
setNodeHeightDefault000
setNodeHeightMapping000
setNodeLabelBypass0.0000.0000.001
setNodeLabelColorBypass0.0000.0010.000
setNodeLabelColorDefault000
setNodeLabelColorMapping000
setNodeLabelDefault000
setNodeLabelMapping000
setNodeLabelOpacityBypass000
setNodeLabelOpacityDefault0.0000.0000.001
setNodeLabelOpacityMapping000
setNodeLabelPositionBypass000
setNodeLabelPositionDefault000
setNodeOpacityBypass0.0000.0000.001
setNodePositionBypass0.0010.0000.001
setNodePropertyBypass000
setNodeSelectionColorDefault000
setNodeShapeBypass000
setNodeShapeDefault0.0000.0010.000
setNodeShapeMapping000
setNodeSizeBypass000
setNodeSizeDefault0.0000.0000.001
setNodeSizeMapping0.0000.0000.001
setNodeTooltipBypass000
setNodeTooltipDefault0.0000.0000.003
setNodeTooltipMapping000
setNodeWidthBypass0.0000.0000.001
setNodeWidthDefault000
setNodeWidthMapping0.0000.0000.001
setNotebookIsRunning000
setSandboxReinitialize000
setStyleDependencies0.0000.0010.000
setVisualPropertyDefault000
setVisualStyle000
syncNodeCustomGraphicsSize000
toggleGraphicsDetails000
ungroupAnnotation0.0010.0000.001
unhideAll000
unhideEdges0.0000.0010.000
unhideNodes000
uninstallApp000
updateAnnotationImage000
updateAnnotationShape0.0000.0000.001
updateAnnotationText0.0010.0000.000
updateApp000
updateGroupAnnotation0.0000.0010.000
updateNetworkInNDEx000
updateStyleDefaults000
updateStyleMapping000