Back to Multiple platform build/check report for BioC 3.21: simplified long |
|
This page was generated on 2025-02-04 11:45 -0500 (Tue, 04 Feb 2025).
Hostname | OS | Arch (*) | R version | Installed pkgs |
---|---|---|---|---|
nebbiolo1 | Linux (Ubuntu 24.04.1 LTS) | x86_64 | R Under development (unstable) (2025-01-20 r87609) -- "Unsuffered Consequences" | 4716 |
palomino7 | Windows Server 2022 Datacenter | x64 | R Under development (unstable) (2025-01-21 r87610 ucrt) -- "Unsuffered Consequences" | 4478 |
lconway | macOS 12.7.1 Monterey | x86_64 | R Under development (unstable) (2025-01-22 r87618) -- "Unsuffered Consequences" | 4489 |
kjohnson3 | macOS 13.7.1 Ventura | arm64 | R Under development (unstable) (2025-01-20 r87609) -- "Unsuffered Consequences" | 4442 |
Click on any hostname to see more info about the system (e.g. compilers) (*) as reported by 'uname -p', except on Windows and Mac OS X |
Package 1726/2295 | Hostname | OS / Arch | INSTALL | BUILD | CHECK | BUILD BIN | ||||||||
RESOLVE 1.9.0 (landing page) Luca De Sano
| nebbiolo1 | Linux (Ubuntu 24.04.1 LTS) / x86_64 | OK | OK | OK | |||||||||
palomino7 | Windows Server 2022 Datacenter / x64 | OK | OK | OK | OK | |||||||||
lconway | macOS 12.7.1 Monterey / x86_64 | OK | OK | OK | OK | |||||||||
kjohnson3 | macOS 13.7.1 Ventura / arm64 | OK | OK | OK | OK | |||||||||
To the developers/maintainers of the RESOLVE package: - Allow up to 24 hours (and sometimes 48 hours) for your latest push to git@git.bioconductor.org:packages/RESOLVE.git to reflect on this report. See Troubleshooting Build Report for more information. - Use the following Renviron settings to reproduce errors and warnings. - If 'R CMD check' started to fail recently on the Linux builder(s) over a missing dependency, add the missing dependency to 'Suggests:' in your DESCRIPTION file. See Renviron.bioc for more information. |
Package: RESOLVE |
Version: 1.9.0 |
Command: /Library/Frameworks/R.framework/Resources/bin/R CMD check --install=check:RESOLVE.install-out.txt --library=/Library/Frameworks/R.framework/Resources/library --no-vignettes --timings RESOLVE_1.9.0.tar.gz |
StartedAt: 2025-02-03 21:32:44 -0500 (Mon, 03 Feb 2025) |
EndedAt: 2025-02-03 21:38:42 -0500 (Mon, 03 Feb 2025) |
EllapsedTime: 358.6 seconds |
RetCode: 0 |
Status: OK |
CheckDir: RESOLVE.Rcheck |
Warnings: 0 |
############################################################################## ############################################################################## ### ### Running command: ### ### /Library/Frameworks/R.framework/Resources/bin/R CMD check --install=check:RESOLVE.install-out.txt --library=/Library/Frameworks/R.framework/Resources/library --no-vignettes --timings RESOLVE_1.9.0.tar.gz ### ############################################################################## ############################################################################## * using log directory ‘/Users/biocbuild/bbs-3.21-bioc/meat/RESOLVE.Rcheck’ * using R Under development (unstable) (2025-01-20 r87609) * using platform: aarch64-apple-darwin20 * R was compiled by Apple clang version 14.0.0 (clang-1400.0.29.202) GNU Fortran (GCC) 14.2.0 * running under: macOS Ventura 13.7.1 * using session charset: UTF-8 * using option ‘--no-vignettes’ * checking for file ‘RESOLVE/DESCRIPTION’ ... OK * this is package ‘RESOLVE’ version ‘1.9.0’ * package encoding: UTF-8 * checking package namespace information ... OK * checking package dependencies ... OK * checking if this is a source package ... OK * checking if there is a namespace ... OK * checking for hidden files and directories ... OK * checking for portable file names ... OK * checking for sufficient/correct file permissions ... OK * checking whether package ‘RESOLVE’ can be installed ... OK * checking installed package size ... OK * checking package directory ... OK * checking ‘build’ directory ... OK * checking DESCRIPTION meta-information ... OK * checking top-level files ... OK * checking for left-over files ... OK * checking index information ... OK * checking package subdirectories ... OK * checking code files for non-ASCII characters ... OK * checking R files for syntax errors ... OK * checking whether the package can be loaded ... OK * checking whether the package can be loaded with stated dependencies ... OK * checking whether the package can be unloaded cleanly ... OK * checking whether the namespace can be loaded with stated dependencies ... OK * checking whether the namespace can be unloaded cleanly ... OK * checking dependencies in R code ... OK * checking S3 generic/method consistency ... OK * checking replacement functions ... OK * checking foreign function calls ... OK * checking R code for possible problems ... OK * checking Rd files ... OK * checking Rd metadata ... OK * checking Rd cross-references ... OK * checking for missing documentation entries ... OK * checking for code/documentation mismatches ... OK * checking Rd \usage sections ... OK * checking Rd contents ... OK * checking for unstated dependencies in examples ... OK * checking contents of ‘data’ directory ... OK * checking data for non-ASCII characters ... OK * checking data for ASCII and uncompressed saves ... OK * checking files in ‘vignettes’ ... OK * checking examples ... OK Examples with CPU (user + system) or elapsed time > 5s user system elapsed signaturesSignificance 62.686 0.062 62.945 signaturesCV 46.783 0.085 47.097 signaturesDecomposition 33.030 0.056 33.128 signaturesAssignment 18.075 0.034 19.493 * checking for unstated dependencies in ‘tests’ ... OK * checking tests ... Running ‘testthat.R’ OK * checking for unstated dependencies in vignettes ... OK * checking package vignettes ... OK * checking running R code from vignettes ... SKIPPED * checking re-building of vignette outputs ... SKIPPED * checking PDF version of manual ... OK * DONE Status: OK
RESOLVE.Rcheck/00install.out
############################################################################## ############################################################################## ### ### Running command: ### ### /Library/Frameworks/R.framework/Resources/bin/R CMD INSTALL RESOLVE ### ############################################################################## ############################################################################## * installing to library ‘/Library/Frameworks/R.framework/Versions/4.5-arm64/Resources/library’ * installing *source* package ‘RESOLVE’ ... ** this is package ‘RESOLVE’ version ‘1.9.0’ ** using staged installation ** R ** data ** inst ** byte-compile and prepare package for lazy loading ** help *** installing help indices ** building package indices ** installing vignettes ** testing if installed package can be loaded from temporary location ** testing if installed package can be loaded from final location ** testing if installed package keeps a record of temporary installation path * DONE (RESOLVE)
RESOLVE.Rcheck/tests/testthat.Rout
R Under development (unstable) (2025-01-20 r87609) -- "Unsuffered Consequences" Copyright (C) 2025 The R Foundation for Statistical Computing Platform: aarch64-apple-darwin20 R is free software and comes with ABSOLUTELY NO WARRANTY. You are welcome to redistribute it under certain conditions. Type 'license()' or 'licence()' for distribution details. R is a collaborative project with many contributors. Type 'contributors()' for more information and 'citation()' on how to cite R or R packages in publications. Type 'demo()' for some demos, 'help()' for on-line help, or 'help.start()' for an HTML browser interface to help. Type 'q()' to quit R. > Sys.setenv("R_TESTS" = "") > > library("testthat") > library("RESOLVE") > > test_check("RESOLVE") [ FAIL 0 | WARN 203 | SKIP 0 | PASS 6 ] [ FAIL 0 | WARN 203 | SKIP 0 | PASS 6 ] > > proc.time() user system elapsed 85.907 0.477 86.648
RESOLVE.Rcheck/RESOLVE-Ex.timings
name | user | system | elapsed | |
getCNCounts | 0.005 | 0.001 | 0.007 | |
getIDCounts | 1.586 | 0.118 | 1.763 | |
getMNVCounts | 3.656 | 0.045 | 3.706 | |
getSBSCounts | 0.405 | 0.280 | 1.903 | |
groupsCNPlot | 0.970 | 0.023 | 0.806 | |
groupsCXPlot | 0.493 | 0.005 | 0.502 | |
groupsIDPlot | 1.136 | 0.014 | 1.158 | |
groupsMNVPlot | 1.114 | 0.070 | 1.189 | |
groupsSBSPlot | 0.946 | 0.025 | 0.981 | |
patientsCNPlot | 0.367 | 0.003 | 0.370 | |
patientsCXPlot | 0.199 | 0.003 | 0.219 | |
patientsIDPlot | 0.542 | 0.003 | 0.569 | |
patientsMNVPlot | 0.374 | 0.004 | 0.393 | |
patientsSBSPlot | 0.244 | 0.003 | 0.254 | |
signaturesAssignment | 18.075 | 0.034 | 19.493 | |
signaturesCNPlot | 0.528 | 0.018 | 0.685 | |
signaturesCV | 46.783 | 0.085 | 47.097 | |
signaturesCXPlot | 0.256 | 0.007 | 0.268 | |
signaturesDecomposition | 33.030 | 0.056 | 33.128 | |
signaturesIDPlot | 0.792 | 0.015 | 0.816 | |
signaturesMNVPlot | 0.520 | 0.002 | 0.523 | |
signaturesSBSPlot | 0.347 | 0.003 | 0.350 | |
signaturesSignificance | 62.686 | 0.062 | 62.945 | |