Back to Multiple platform build/check report for BioC 3.21:   simplified   long
ABCDEFGHIJKLMNOPQ[R]STUVWXYZ

This page was generated on 2025-02-06 11:41 -0500 (Thu, 06 Feb 2025).

HostnameOSArch (*)R versionInstalled pkgs
nebbiolo1Linux (Ubuntu 24.04.1 LTS)x86_64R Under development (unstable) (2025-01-20 r87609) -- "Unsuffered Consequences" 4719
palomino7Windows Server 2022 Datacenterx64R Under development (unstable) (2025-01-21 r87610 ucrt) -- "Unsuffered Consequences" 4480
lconwaymacOS 12.7.1 Montereyx86_64R Under development (unstable) (2025-01-22 r87618) -- "Unsuffered Consequences" 4491
kjohnson3macOS 13.7.1 Venturaarm64R Under development (unstable) (2025-01-20 r87609) -- "Unsuffered Consequences" 4444
Click on any hostname to see more info about the system (e.g. compilers)      (*) as reported by 'uname -p', except on Windows and Mac OS X

Package 1752/2295HostnameOS / ArchINSTALLBUILDCHECKBUILD BIN
RiboProfiling 1.37.0  (landing page)
A. Popa
Snapshot Date: 2025-02-05 13:48 -0500 (Wed, 05 Feb 2025)
git_url: https://git.bioconductor.org/packages/RiboProfiling
git_branch: devel
git_last_commit: c7c7bd6
git_last_commit_date: 2024-10-29 10:04:38 -0500 (Tue, 29 Oct 2024)
nebbiolo1Linux (Ubuntu 24.04.1 LTS) / x86_64  OK    OK    WARNINGS  UNNEEDED, same version is already published
palomino7Windows Server 2022 Datacenter / x64  OK    OK    WARNINGS    OK  UNNEEDED, same version is already published
lconwaymacOS 12.7.1 Monterey / x86_64  OK    OK    WARNINGS    OK  YES
kjohnson3macOS 13.7.1 Ventura / arm64  OK    OK    WARNINGS    OK  YES


BUILD results for RiboProfiling on palomino7

To the developers/maintainers of the RiboProfiling package:
- Allow up to 24 hours (and sometimes 48 hours) for your latest push to git@git.bioconductor.org:packages/RiboProfiling.git to reflect on this report. See Troubleshooting Build Report for more information.
- Use the following Renviron settings to reproduce errors and warnings.
- If 'R CMD check' started to fail recently on the Linux builder(s) over a missing dependency, add the missing dependency to 'Suggests:' in your DESCRIPTION file. See Renviron.bioc for more information.

raw results


Summary

Package: RiboProfiling
Version: 1.37.0
Command: chmod a+r RiboProfiling -R && E:\biocbuild\bbs-3.21-bioc\R\bin\R.exe CMD build --keep-empty-dirs --no-resave-data RiboProfiling
StartedAt: 2025-02-05 21:18:08 -0500 (Wed, 05 Feb 2025)
EndedAt: 2025-02-05 21:22:08 -0500 (Wed, 05 Feb 2025)
EllapsedTime: 239.7 seconds
RetCode: 0
Status:   OK  
PackageFile: RiboProfiling_1.37.0.tar.gz
PackageFileSize: 4.42 MiB

Command output

##############################################################################
##############################################################################
###
### Running command:
###
###   chmod a+r RiboProfiling -R && E:\biocbuild\bbs-3.21-bioc\R\bin\R.exe CMD build --keep-empty-dirs --no-resave-data RiboProfiling
###
##############################################################################
##############################################################################


* checking for file 'RiboProfiling/DESCRIPTION' ... OK
* preparing 'RiboProfiling':
* checking DESCRIPTION meta-information ... OK
* installing the package to build vignettes
* creating vignettes ... OK
* checking for LF line-endings in source and make files and shell scripts
* checking for empty or unneeded directories
* looking to see if a 'data/datalist' file should be added
  NB: this package now depends on R (>= 3.5.0)
  WARNING: Added dependency on R >= 3.5.0 because serialized objects in
  serialize/load version 3 cannot be read in older versions of R.
  File(s) containing such objects:
    'RiboProfiling/data/ctrlGAlignments.rda'
* building 'RiboProfiling_1.37.0.tar.gz'