Back to Multiple platform build/check report for BioC 3.21: simplified long |
|
This page was generated on 2025-02-04 11:42 -0500 (Tue, 04 Feb 2025).
Hostname | OS | Arch (*) | R version | Installed pkgs |
---|---|---|---|---|
nebbiolo1 | Linux (Ubuntu 24.04.1 LTS) | x86_64 | R Under development (unstable) (2025-01-20 r87609) -- "Unsuffered Consequences" | 4716 |
palomino7 | Windows Server 2022 Datacenter | x64 | R Under development (unstable) (2025-01-21 r87610 ucrt) -- "Unsuffered Consequences" | 4478 |
lconway | macOS 12.7.1 Monterey | x86_64 | R Under development (unstable) (2025-01-22 r87618) -- "Unsuffered Consequences" | 4489 |
kjohnson3 | macOS 13.7.1 Ventura | arm64 | R Under development (unstable) (2025-01-20 r87609) -- "Unsuffered Consequences" | 4442 |
Click on any hostname to see more info about the system (e.g. compilers) (*) as reported by 'uname -p', except on Windows and Mac OS X |
Package 1920/2295 | Hostname | OS / Arch | INSTALL | BUILD | CHECK | BUILD BIN | ||||||||
SELEX 1.39.0 (landing page) Harmen J. Bussemaker
| nebbiolo1 | Linux (Ubuntu 24.04.1 LTS) / x86_64 | OK | OK | OK | |||||||||
palomino7 | Windows Server 2022 Datacenter / x64 | OK | OK | OK | OK | |||||||||
lconway | macOS 12.7.1 Monterey / x86_64 | OK | OK | OK | OK | |||||||||
kjohnson3 | macOS 13.7.1 Ventura / arm64 | OK | OK | OK | OK | |||||||||
To the developers/maintainers of the SELEX package: - Allow up to 24 hours (and sometimes 48 hours) for your latest push to git@git.bioconductor.org:packages/SELEX.git to reflect on this report. See Troubleshooting Build Report for more information. - Use the following Renviron settings to reproduce errors and warnings. - If 'R CMD check' started to fail recently on the Linux builder(s) over a missing dependency, add the missing dependency to 'Suggests:' in your DESCRIPTION file. See Renviron.bioc for more information. |
Package: SELEX |
Version: 1.39.0 |
Command: E:\biocbuild\bbs-3.21-bioc\R\bin\R.exe CMD check --no-multiarch --install=check:SELEX.install-out.txt --library=E:\biocbuild\bbs-3.21-bioc\R\library --no-vignettes --timings SELEX_1.39.0.tar.gz |
StartedAt: 2025-02-04 05:46:10 -0500 (Tue, 04 Feb 2025) |
EndedAt: 2025-02-04 05:48:13 -0500 (Tue, 04 Feb 2025) |
EllapsedTime: 123.4 seconds |
RetCode: 0 |
Status: OK |
CheckDir: SELEX.Rcheck |
Warnings: 0 |
############################################################################## ############################################################################## ### ### Running command: ### ### E:\biocbuild\bbs-3.21-bioc\R\bin\R.exe CMD check --no-multiarch --install=check:SELEX.install-out.txt --library=E:\biocbuild\bbs-3.21-bioc\R\library --no-vignettes --timings SELEX_1.39.0.tar.gz ### ############################################################################## ############################################################################## * using log directory 'E:/biocbuild/bbs-3.21-bioc/meat/SELEX.Rcheck' * using R Under development (unstable) (2025-01-21 r87610 ucrt) * using platform: x86_64-w64-mingw32 * R was compiled by gcc.exe (GCC) 13.3.0 GNU Fortran (GCC) 13.3.0 * running under: Windows Server 2022 x64 (build 20348) * using session charset: UTF-8 * using option '--no-vignettes' * checking for file 'SELEX/DESCRIPTION' ... OK * this is package 'SELEX' version '1.39.0' * checking package namespace information ... OK * checking package dependencies ... OK * checking if this is a source package ... OK * checking if there is a namespace ... OK * checking for hidden files and directories ... OK * checking for portable file names ... OK * checking whether package 'SELEX' can be installed ... OK * checking installed package size ... OK * checking package directory ... OK * checking 'build' directory ... OK * checking DESCRIPTION meta-information ... OK * checking top-level files ... OK * checking for left-over files ... OK * checking index information ... OK * checking package subdirectories ... OK * checking code files for non-ASCII characters ... OK * checking R files for syntax errors ... OK * checking whether the package can be loaded ... OK * checking whether the package can be loaded with stated dependencies ... OK * checking whether the package can be unloaded cleanly ... OK * checking whether the namespace can be loaded with stated dependencies ... OK * checking whether the namespace can be unloaded cleanly ... OK * checking whether startup messages can be suppressed ... OK * checking dependencies in R code ... OK * checking S3 generic/method consistency ... OK * checking replacement functions ... OK * checking foreign function calls ... OK * checking R code for possible problems ... OK * checking Rd files ... NOTE checkRd: (-1) SELEX.Rd:114: Lost braces 114 | \href{http://www.ncbi.nlm.nih.gov/pubmed/22153072}{{C}ofactor binding evokes latent differences in {D}{N}{A} binding specificity between {H}ox proteins.} | ^ checkRd: (-1) SELEX.Rd:114: Lost braces 114 | \href{http://www.ncbi.nlm.nih.gov/pubmed/22153072}{{C}ofactor binding evokes latent differences in {D}{N}{A} binding specificity between {H}ox proteins.} | ^ checkRd: (-1) SELEX.Rd:118: Lost braces 118 | \href{http://www.ncbi.nlm.nih.gov/pubmed/25151169}{{S}{E}{L}{E}{X}-seq: a method for characterizing the complete repertoire of binding site preferences for transcription factor complexes.} | ^ checkRd: (-1) SELEX.Rd:118: Lost braces 118 | \href{http://www.ncbi.nlm.nih.gov/pubmed/25151169}{{S}{E}{L}{E}{X}-seq: a method for characterizing the complete repertoire of binding site preferences for transcription factor complexes.} | ^ checkRd: (-1) SELEX.Rd:118: Lost braces 118 | \href{http://www.ncbi.nlm.nih.gov/pubmed/25151169}{{S}{E}{L}{E}{X}-seq: a method for characterizing the complete repertoire of binding site preferences for transcription factor complexes.} | ^ checkRd: (-1) SELEX.Rd:118: Lost braces 118 | \href{http://www.ncbi.nlm.nih.gov/pubmed/25151169}{{S}{E}{L}{E}{X}-seq: a method for characterizing the complete repertoire of binding site preferences for transcription factor complexes.} | ^ checkRd: (-1) selex.affinities.Rd:33: Lost braces 33 | \href{http://www.ncbi.nlm.nih.gov/pubmed/22153072}{{C}ofactor binding evokes latent differences in {D}{N}{A} binding specificity between {H}ox proteins.} | ^ checkRd: (-1) selex.affinities.Rd:33: Lost braces 33 | \href{http://www.ncbi.nlm.nih.gov/pubmed/22153072}{{C}ofactor binding evokes latent differences in {D}{N}{A} binding specificity between {H}ox proteins.} | ^ checkRd: (-1) selex.affinities.Rd:37: Lost braces 37 | \href{http://www.ncbi.nlm.nih.gov/pubmed/25151169}{{S}{E}{L}{E}{X}-seq: a method for characterizing the complete repertoire of binding site preferences for transcription factor complexes.} | ^ checkRd: (-1) selex.affinities.Rd:37: Lost braces 37 | \href{http://www.ncbi.nlm.nih.gov/pubmed/25151169}{{S}{E}{L}{E}{X}-seq: a method for characterizing the complete repertoire of binding site preferences for transcription factor complexes.} | ^ checkRd: (-1) selex.affinities.Rd:37: Lost braces 37 | \href{http://www.ncbi.nlm.nih.gov/pubmed/25151169}{{S}{E}{L}{E}{X}-seq: a method for characterizing the complete repertoire of binding site preferences for transcription factor complexes.} | ^ checkRd: (-1) selex.affinities.Rd:37: Lost braces 37 | \href{http://www.ncbi.nlm.nih.gov/pubmed/25151169}{{S}{E}{L}{E}{X}-seq: a method for characterizing the complete repertoire of binding site preferences for transcription factor complexes.} | ^ checkRd: (-1) selex.counts.Rd:38: Lost braces 38 | \href{http://www.ncbi.nlm.nih.gov/pubmed/22153072}{{C}ofactor binding evokes latent differences in {D}{N}{A} binding specificity between {H}ox proteins.} | ^ checkRd: (-1) selex.counts.Rd:38: Lost braces 38 | \href{http://www.ncbi.nlm.nih.gov/pubmed/22153072}{{C}ofactor binding evokes latent differences in {D}{N}{A} binding specificity between {H}ox proteins.} | ^ checkRd: (-1) selex.counts.Rd:42: Lost braces 42 | \href{http://www.ncbi.nlm.nih.gov/pubmed/25151169}{{S}{E}{L}{E}{X}-seq: a method for characterizing the complete repertoire of binding site preferences for transcription factor complexes.} | ^ checkRd: (-1) selex.counts.Rd:42: Lost braces 42 | \href{http://www.ncbi.nlm.nih.gov/pubmed/25151169}{{S}{E}{L}{E}{X}-seq: a method for characterizing the complete repertoire of binding site preferences for transcription factor complexes.} | ^ checkRd: (-1) selex.counts.Rd:42: Lost braces 42 | \href{http://www.ncbi.nlm.nih.gov/pubmed/25151169}{{S}{E}{L}{E}{X}-seq: a method for characterizing the complete repertoire of binding site preferences for transcription factor complexes.} | ^ checkRd: (-1) selex.counts.Rd:42: Lost braces 42 | \href{http://www.ncbi.nlm.nih.gov/pubmed/25151169}{{S}{E}{L}{E}{X}-seq: a method for characterizing the complete repertoire of binding site preferences for transcription factor complexes.} | ^ checkRd: (-1) selex.infogain.Rd:27: Lost braces 27 | \href{http://www.ncbi.nlm.nih.gov/pubmed/22153072}{{C}ofactor binding evokes latent differences in {D}{N}{A} binding specificity between {H}ox proteins.} | ^ checkRd: (-1) selex.infogain.Rd:27: Lost braces 27 | \href{http://www.ncbi.nlm.nih.gov/pubmed/22153072}{{C}ofactor binding evokes latent differences in {D}{N}{A} binding specificity between {H}ox proteins.} | ^ checkRd: (-1) selex.infogain.Rd:31: Lost braces 31 | \href{http://www.ncbi.nlm.nih.gov/pubmed/25151169}{{S}{E}{L}{E}{X}-seq: a method for characterizing the complete repertoire of binding site preferences for transcription factor complexes.} | ^ checkRd: (-1) selex.infogain.Rd:31: Lost braces 31 | \href{http://www.ncbi.nlm.nih.gov/pubmed/25151169}{{S}{E}{L}{E}{X}-seq: a method for characterizing the complete repertoire of binding site preferences for transcription factor complexes.} | ^ checkRd: (-1) selex.infogain.Rd:31: Lost braces 31 | \href{http://www.ncbi.nlm.nih.gov/pubmed/25151169}{{S}{E}{L}{E}{X}-seq: a method for characterizing the complete repertoire of binding site preferences for transcription factor complexes.} | ^ checkRd: (-1) selex.infogain.Rd:31: Lost braces 31 | \href{http://www.ncbi.nlm.nih.gov/pubmed/25151169}{{S}{E}{L}{E}{X}-seq: a method for characterizing the complete repertoire of binding site preferences for transcription factor complexes.} | ^ checkRd: (-1) selex.mm.Rd:60: Lost braces 60 | \href{http://www.ncbi.nlm.nih.gov/pubmed/22153072}{{C}ofactor binding evokes latent differences in {D}{N}{A} binding specificity between {H}ox proteins.} | ^ checkRd: (-1) selex.mm.Rd:60: Lost braces 60 | \href{http://www.ncbi.nlm.nih.gov/pubmed/22153072}{{C}ofactor binding evokes latent differences in {D}{N}{A} binding specificity between {H}ox proteins.} | ^ checkRd: (-1) selex.mm.Rd:64: Lost braces 64 | \href{http://www.ncbi.nlm.nih.gov/pubmed/25151169}{{S}{E}{L}{E}{X}-seq: a method for characterizing the complete repertoire of binding site preferences for transcription factor complexes.} | ^ checkRd: (-1) selex.mm.Rd:64: Lost braces 64 | \href{http://www.ncbi.nlm.nih.gov/pubmed/25151169}{{S}{E}{L}{E}{X}-seq: a method for characterizing the complete repertoire of binding site preferences for transcription factor complexes.} | ^ checkRd: (-1) selex.mm.Rd:64: Lost braces 64 | \href{http://www.ncbi.nlm.nih.gov/pubmed/25151169}{{S}{E}{L}{E}{X}-seq: a method for characterizing the complete repertoire of binding site preferences for transcription factor complexes.} | ^ checkRd: (-1) selex.mm.Rd:64: Lost braces 64 | \href{http://www.ncbi.nlm.nih.gov/pubmed/25151169}{{S}{E}{L}{E}{X}-seq: a method for characterizing the complete repertoire of binding site preferences for transcription factor complexes.} | ^ checkRd: (-1) selex.mmProb.Rd:39: Lost braces 39 | \href{http://www.ncbi.nlm.nih.gov/pubmed/22153072}{{C}ofactor binding evokes latent differences in {D}{N}{A} binding specificity between {H}ox proteins.} | ^ checkRd: (-1) selex.mmProb.Rd:39: Lost braces 39 | \href{http://www.ncbi.nlm.nih.gov/pubmed/22153072}{{C}ofactor binding evokes latent differences in {D}{N}{A} binding specificity between {H}ox proteins.} | ^ checkRd: (-1) selex.mmProb.Rd:43: Lost braces 43 | \href{http://www.ncbi.nlm.nih.gov/pubmed/25151169}{{S}{E}{L}{E}{X}-seq: a method for characterizing the complete repertoire of binding site preferences for transcription factor complexes.} | ^ checkRd: (-1) selex.mmProb.Rd:43: Lost braces 43 | \href{http://www.ncbi.nlm.nih.gov/pubmed/25151169}{{S}{E}{L}{E}{X}-seq: a method for characterizing the complete repertoire of binding site preferences for transcription factor complexes.} | ^ checkRd: (-1) selex.mmProb.Rd:43: Lost braces 43 | \href{http://www.ncbi.nlm.nih.gov/pubmed/25151169}{{S}{E}{L}{E}{X}-seq: a method for characterizing the complete repertoire of binding site preferences for transcription factor complexes.} | ^ checkRd: (-1) selex.mmProb.Rd:43: Lost braces 43 | \href{http://www.ncbi.nlm.nih.gov/pubmed/25151169}{{S}{E}{L}{E}{X}-seq: a method for characterizing the complete repertoire of binding site preferences for transcription factor complexes.} | ^ checkRd: (-1) selex.run.Rd:34: Lost braces 34 | \href{http://www.ncbi.nlm.nih.gov/pubmed/22153072}{{C}ofactor binding evokes latent differences in {D}{N}{A} binding specificity between {H}ox proteins.} | ^ checkRd: (-1) selex.run.Rd:34: Lost braces 34 | \href{http://www.ncbi.nlm.nih.gov/pubmed/22153072}{{C}ofactor binding evokes latent differences in {D}{N}{A} binding specificity between {H}ox proteins.} | ^ checkRd: (-1) selex.run.Rd:38: Lost braces 38 | \href{http://www.ncbi.nlm.nih.gov/pubmed/25151169}{{S}{E}{L}{E}{X}-seq: a method for characterizing the complete repertoire of binding site preferences for transcription factor complexes.} | ^ checkRd: (-1) selex.run.Rd:38: Lost braces 38 | \href{http://www.ncbi.nlm.nih.gov/pubmed/25151169}{{S}{E}{L}{E}{X}-seq: a method for characterizing the complete repertoire of binding site preferences for transcription factor complexes.} | ^ checkRd: (-1) selex.run.Rd:38: Lost braces 38 | \href{http://www.ncbi.nlm.nih.gov/pubmed/25151169}{{S}{E}{L}{E}{X}-seq: a method for characterizing the complete repertoire of binding site preferences for transcription factor complexes.} | ^ checkRd: (-1) selex.run.Rd:38: Lost braces 38 | \href{http://www.ncbi.nlm.nih.gov/pubmed/25151169}{{S}{E}{L}{E}{X}-seq: a method for characterizing the complete repertoire of binding site preferences for transcription factor complexes.} | ^ * checking Rd metadata ... OK * checking Rd cross-references ... OK * checking for missing documentation entries ... OK * checking for code/documentation mismatches ... OK * checking Rd \usage sections ... OK * checking Rd contents ... OK * checking for unstated dependencies in examples ... OK * checking line endings in Makefiles ... OK * checking for GNU extensions in Makefiles ... OK * checking include directives in Makefiles ... OK * checking sizes of PDF files under 'inst/doc' ... OK * checking files in 'vignettes' ... NOTE The following directory looks like a leftover from 'knitr': 'cache' Please remove from your package. * checking examples ... OK Examples with CPU (user + system) or elapsed time > 5s user system elapsed SELEX 21.51 3.08 10.13 selex.seqfilter 11.19 1.81 4.45 * checking for unstated dependencies in vignettes ... OK * checking package vignettes ... OK * checking running R code from vignettes ... SKIPPED * checking re-building of vignette outputs ... SKIPPED * checking PDF version of manual ... OK * DONE Status: 2 NOTEs See 'E:/biocbuild/bbs-3.21-bioc/meat/SELEX.Rcheck/00check.log' for details.
SELEX.Rcheck/00install.out
############################################################################## ############################################################################## ### ### Running command: ### ### E:\biocbuild\bbs-3.21-bioc\R\bin\R.exe CMD INSTALL SELEX ### ############################################################################## ############################################################################## * installing to library 'E:/biocbuild/bbs-3.21-bioc/R/library' * installing *source* package 'SELEX' ... ** this is package 'SELEX' version '1.39.0' ** using staged installation ** R ** inst ** byte-compile and prepare package for lazy loading ** help *** installing help indices ** building package indices ** installing vignettes ** testing if installed package can be loaded from temporary location ** testing if installed package can be loaded from final location ** testing if installed package keeps a record of temporary installation path * DONE (SELEX)
SELEX.Rcheck/SELEX-Ex.timings
name | user | system | elapsed | |
SELEX | 21.51 | 3.08 | 10.13 | |
selex.affinities | 0.94 | 0.03 | 0.53 | |
selex.config | 0.24 | 0.00 | 0.08 | |
selex.countSummary | 1.37 | 0.07 | 0.41 | |
selex.counts | 1.44 | 0.07 | 0.54 | |
selex.defineSample | 0.13 | 0.00 | 0.07 | |
selex.exampledata | 0.12 | 0.03 | 0.04 | |
selex.fastqPSFM | 0.92 | 0.04 | 0.32 | |
selex.getAttributes | 0.27 | 0.00 | 0.07 | |
selex.getRound0 | 0.34 | 0.03 | 0.13 | |
selex.getSeqfilter | 0.13 | 0.00 | 0.05 | |
selex.infogain | 2.23 | 0.00 | 0.57 | |
selex.infogainSummary | 1.13 | 0.01 | 0.36 | |
selex.jvmStatus | 0.11 | 0.00 | 0.07 | |
selex.kmax | 1.79 | 0.27 | 0.95 | |
selex.kmerPSFM | 0.36 | 0.05 | 0.26 | |
selex.loadAnnotation | 0.36 | 0.01 | 0.13 | |
selex.mm | 0.55 | 0.03 | 0.25 | |
selex.mmProb | 0.47 | 0.05 | 0.27 | |
selex.mmSummary | 0.48 | 0.03 | 0.29 | |
selex.revcomp | 0.78 | 0.08 | 0.47 | |
selex.run | 1.50 | 0.06 | 0.52 | |
selex.sample | 0.24 | 0.02 | 0.09 | |
selex.samplePSFM | 0.70 | 0.01 | 0.23 | |
selex.sampleSummary | 0.36 | 0.00 | 0.11 | |
selex.saveAnnotation | 0.09 | 0.00 | 0.05 | |
selex.seqfilter | 11.19 | 1.81 | 4.45 | |
selex.setwd | 0.09 | 0.00 | 0.04 | |
selex.split | 0.46 | 0.02 | 0.21 | |
selex.summary | 1.47 | 0.11 | 0.66 | |