Back to Multiple platform build/check report for BioC 3.21:   simplified   long
ABCDEFGHIJKLMNOPQR[S]TUVWXYZ

This page was generated on 2025-02-04 11:42 -0500 (Tue, 04 Feb 2025).

HostnameOSArch (*)R versionInstalled pkgs
nebbiolo1Linux (Ubuntu 24.04.1 LTS)x86_64R Under development (unstable) (2025-01-20 r87609) -- "Unsuffered Consequences" 4716
palomino7Windows Server 2022 Datacenterx64R Under development (unstable) (2025-01-21 r87610 ucrt) -- "Unsuffered Consequences" 4478
lconwaymacOS 12.7.1 Montereyx86_64R Under development (unstable) (2025-01-22 r87618) -- "Unsuffered Consequences" 4489
kjohnson3macOS 13.7.1 Venturaarm64R Under development (unstable) (2025-01-20 r87609) -- "Unsuffered Consequences" 4442
Click on any hostname to see more info about the system (e.g. compilers)      (*) as reported by 'uname -p', except on Windows and Mac OS X

Package 1937/2295HostnameOS / ArchINSTALLBUILDCHECKBUILD BIN
SeqVarTools 1.45.0  (landing page)
Stephanie M. Gogarten
Snapshot Date: 2025-02-03 13:40 -0500 (Mon, 03 Feb 2025)
git_url: https://git.bioconductor.org/packages/SeqVarTools
git_branch: devel
git_last_commit: 6162bf6
git_last_commit_date: 2024-10-29 09:47:21 -0500 (Tue, 29 Oct 2024)
nebbiolo1Linux (Ubuntu 24.04.1 LTS) / x86_64  OK    OK    OK  UNNEEDED, same version is already published
palomino7Windows Server 2022 Datacenter / x64  OK    OK    OK    OK  UNNEEDED, same version is already published
lconwaymacOS 12.7.1 Monterey / x86_64  OK    OK    OK    OK  UNNEEDED, same version is already published
kjohnson3macOS 13.7.1 Ventura / arm64  OK    OK    OK    OK  UNNEEDED, same version is already published


CHECK results for SeqVarTools on palomino7

To the developers/maintainers of the SeqVarTools package:
- Allow up to 24 hours (and sometimes 48 hours) for your latest push to git@git.bioconductor.org:packages/SeqVarTools.git to reflect on this report. See Troubleshooting Build Report for more information.
- Use the following Renviron settings to reproduce errors and warnings.
- If 'R CMD check' started to fail recently on the Linux builder(s) over a missing dependency, add the missing dependency to 'Suggests:' in your DESCRIPTION file. See Renviron.bioc for more information.

raw results


Summary

Package: SeqVarTools
Version: 1.45.0
Command: E:\biocbuild\bbs-3.21-bioc\R\bin\R.exe CMD check --no-multiarch --install=check:SeqVarTools.install-out.txt --library=E:\biocbuild\bbs-3.21-bioc\R\library --no-vignettes --timings SeqVarTools_1.45.0.tar.gz
StartedAt: 2025-02-04 05:50:04 -0500 (Tue, 04 Feb 2025)
EndedAt: 2025-02-04 05:54:43 -0500 (Tue, 04 Feb 2025)
EllapsedTime: 279.2 seconds
RetCode: 0
Status:   OK  
CheckDir: SeqVarTools.Rcheck
Warnings: 0

Command output

##############################################################################
##############################################################################
###
### Running command:
###
###   E:\biocbuild\bbs-3.21-bioc\R\bin\R.exe CMD check --no-multiarch --install=check:SeqVarTools.install-out.txt --library=E:\biocbuild\bbs-3.21-bioc\R\library --no-vignettes --timings SeqVarTools_1.45.0.tar.gz
###
##############################################################################
##############################################################################


* using log directory 'E:/biocbuild/bbs-3.21-bioc/meat/SeqVarTools.Rcheck'
* using R Under development (unstable) (2025-01-21 r87610 ucrt)
* using platform: x86_64-w64-mingw32
* R was compiled by
    gcc.exe (GCC) 13.3.0
    GNU Fortran (GCC) 13.3.0
* running under: Windows Server 2022 x64 (build 20348)
* using session charset: UTF-8
* using option '--no-vignettes'
* checking for file 'SeqVarTools/DESCRIPTION' ... OK
* checking extension type ... Package
* this is package 'SeqVarTools' version '1.45.0'
* checking package namespace information ... OK
* checking package dependencies ... OK
* checking if this is a source package ... OK
* checking if there is a namespace ... OK
* checking for hidden files and directories ... OK
* checking for portable file names ... OK
* checking whether package 'SeqVarTools' can be installed ... OK
* checking installed package size ... OK
* checking package directory ... OK
* checking 'build' directory ... OK
* checking DESCRIPTION meta-information ... OK
* checking top-level files ... OK
* checking for left-over files ... OK
* checking index information ... OK
* checking package subdirectories ... OK
* checking code files for non-ASCII characters ... OK
* checking R files for syntax errors ... OK
* checking whether the package can be loaded ... OK
* checking whether the package can be loaded with stated dependencies ... OK
* checking whether the package can be unloaded cleanly ... OK
* checking whether the namespace can be loaded with stated dependencies ... OK
* checking whether the namespace can be unloaded cleanly ... OK
* checking dependencies in R code ... OK
* checking S3 generic/method consistency ... OK
* checking replacement functions ... OK
* checking foreign function calls ... OK
* checking R code for possible problems ... OK
* checking Rd files ... OK
* checking Rd metadata ... OK
* checking Rd cross-references ... NOTE
Found the following Rd file(s) with Rd \link{} targets missing package
anchors:
  Iterator-class.Rd: GRanges, GRangesList, DataFrame, SeqVarGDSClass,
    seqSetFilter
  SeqVarData-class.Rd: SeqVarGDSClass, AnnotatedDataFrame,
    seqSetFilter, GRanges, seqVCF2GDS, seqOpen, seqGetData, seqApply,
    seqClose
  SeqVarTools-package.Rd: SeqArray
  allele-methods.Rd: SeqVarGDSClass
  alleleFrequency.Rd: SeqVarGDSClass, seqParallel
  alternateAlleleDetection.Rd: seqSetFilter, SeqVarGDSClass
  applyMethod.Rd: SeqVarGDSClass, seqSetFilter
  chromWithPAR.Rd: SeqVarGDSClass
  countSingletons.Rd: SeqVarGDSClass
  duplicateDiscordance.Rd: seqSetFilter
  getGenotype.Rd: SeqVarGDSClass, seqParallel, Matrix, seqBlockApply,
    seqGetData, seqSetFilter
  getVariableLengthData.Rd: SeqVarGDSClass, seqParallel, seqGetData
  heterozygosity.Rd: SeqVarGDSClass, seqParallel
  hwe.Rd: SeqVarGDSClass, seqParallel, HWExact, GWASExactHW
  imputedDosage.Rd: SeqVarGDSClass
  inbreedCoeff.Rd: SeqVarGDSClass, seqParallel
  isSNV.Rd: SeqVarGDSClass
  isVariant.Rd: SeqVarGDSClass, seqParallel
  meanBySample.Rd: SeqVarGDSClass, seqApply
  mendelErr.Rd: SeqVarGDSClass
  missingGenotypeRate.Rd: SeqVarGDSClass, seqParallel
  pca.Rd: SeqVarGDSClass
  refFrac.Rd: SeqVarGDSClass, seqParallel
  regression.Rd: logistf, seqParallel, seqSetFilter
  setVariantID.Rd: seqVCF2GDS, SeqVarGDSClass
  titv.Rd: SeqVarGDSClass
  variantInfo.Rd: SeqVarGDSClass
Please provide package anchors for all Rd \link{} targets not in the
package itself and the base packages.
* checking for missing documentation entries ... OK
* checking for code/documentation mismatches ... OK
* checking Rd \usage sections ... OK
* checking Rd contents ... OK
* checking for unstated dependencies in examples ... OK
* checking contents of 'data' directory ... OK
* checking data for non-ASCII characters ... OK
* checking LazyData ... OK
* checking data for ASCII and uncompressed saves ... OK
* checking sizes of PDF files under 'inst/doc' ... OK
* checking files in 'vignettes' ... OK
* checking examples ... OK
* checking for unstated dependencies in 'tests' ... OK
* checking tests ...
  Running 'test.R'
 OK
* checking for unstated dependencies in vignettes ... OK
* checking package vignettes ... OK
* checking running R code from vignettes ... SKIPPED
* checking re-building of vignette outputs ... SKIPPED
* checking PDF version of manual ... OK
* DONE

Status: 1 NOTE
See
  'E:/biocbuild/bbs-3.21-bioc/meat/SeqVarTools.Rcheck/00check.log'
for details.


Installation output

SeqVarTools.Rcheck/00install.out

##############################################################################
##############################################################################
###
### Running command:
###
###   E:\biocbuild\bbs-3.21-bioc\R\bin\R.exe CMD INSTALL SeqVarTools
###
##############################################################################
##############################################################################


* installing to library 'E:/biocbuild/bbs-3.21-bioc/R/library'
* installing *source* package 'SeqVarTools' ...
** this is package 'SeqVarTools' version '1.45.0'
** using staged installation
** R
** data
*** moving datasets to lazyload DB
** inst
** byte-compile and prepare package for lazy loading
** help
*** installing help indices
** building package indices
** installing vignettes
** testing if installed package can be loaded from temporary location
** testing if installed package can be loaded from final location
** testing if installed package keeps a record of temporary installation path
* DONE (SeqVarTools)

Tests output

SeqVarTools.Rcheck/tests/test.Rout


R Under development (unstable) (2025-01-21 r87610 ucrt) -- "Unsuffered Consequences"
Copyright (C) 2025 The R Foundation for Statistical Computing
Platform: x86_64-w64-mingw32/x64

R is free software and comes with ABSOLUTELY NO WARRANTY.
You are welcome to redistribute it under certain conditions.
Type 'license()' or 'licence()' for distribution details.

R is a collaborative project with many contributors.
Type 'contributors()' for more information and
'citation()' on how to cite R or R packages in publications.

Type 'demo()' for some demos, 'help()' for on-line help, or
'help.start()' for an HTML browser interface to help.
Type 'q()' to quit R.

> library(GenomicRanges)
Loading required package: stats4
Loading required package: BiocGenerics
Loading required package: generics

Attaching package: 'generics'

The following objects are masked from 'package:base':

    as.difftime, as.factor, as.ordered, intersect, is.element, setdiff,
    setequal, union


Attaching package: 'BiocGenerics'

The following objects are masked from 'package:stats':

    IQR, mad, sd, var, xtabs

The following objects are masked from 'package:base':

    Filter, Find, Map, Position, Reduce, anyDuplicated, aperm, append,
    as.data.frame, basename, cbind, colnames, dirname, do.call,
    duplicated, eval, evalq, get, grep, grepl, is.unsorted, lapply,
    mapply, match, mget, order, paste, pmax, pmax.int, pmin, pmin.int,
    rank, rbind, rownames, sapply, saveRDS, table, tapply, unique,
    unsplit, which.max, which.min

Loading required package: S4Vectors

Attaching package: 'S4Vectors'

The following object is masked from 'package:utils':

    findMatches

The following objects are masked from 'package:base':

    I, expand.grid, unname

Loading required package: IRanges

Attaching package: 'IRanges'

The following object is masked from 'package:grDevices':

    windows

Loading required package: GenomeInfoDb
> BiocGenerics:::testPackage("SeqVarTools")
Loading required package: Biobase
Welcome to Bioconductor

    Vignettes contain introductory material; view with
    'browseVignettes()'. To cite Bioconductor, see
    'citation("Biobase")', and for packages 'citation("pkgname")'.

# of selected samples: 5
# of selected variants: 5
# of selected samples: 5
# of selected variants: 10
# of selected samples: 90
# of selected variants: 1,348
# of selected samples: 90
# of selected variants: 1,348
# of selected samples: 3
# of selected samples: 3
matching samples... 2 pairs identified!
matching variants... 1346 non-overlapping variant matches identified!
# of selected samples: 2
# of selected variants: 1,346
# of selected samples: 90
# of selected variants: 1,348
# of selected samples: 90
# of selected variants: 1,348
# of selected samples: 2
# of selected variants: 50
# of selected samples: 2
# of selected variants: 51
matching samples... 2 pairs identified!
matching variants... 26 non-overlapping variant matches identified!
# of selected variants: 26
# of selected samples: 90
# of selected variants: 1,348
# of selected samples: 5
# of selected variants: 10
# of selected samples: 5
# of selected variants: 10
File: E:\biocbuild\bbs-3.21-bioc\R\library\SeqArray\extdata\CEU_Exon.gds (287.6K)
+    [  ] *
|--+ description   [  ] *
|--+ sample.id   { Str8 90 LZMA_ra(34.7%), 257B } *
|--+ variant.id   { Int32 1348 LZMA_ra(16.7%), 905B } *
|--+ position   { Int32 1348 LZMA_ra(64.4%), 3.4K } *
|--+ chromosome   { Str8 1348 LZMA_ra(4.39%), 157B } *
|--+ allele   { Str8 1348 LZMA_ra(16.6%), 901B } *
|--+ genotype   [  ] *
|  |--+ data   { Bit2 2x90x1348 LZMA_ra(26.3%), 15.6K } *
|  |--+ ~data   { Bit2 2x1348x90 LZMA_ra(29.2%), 17.3K } *
|  |--+ extra.index   { Int32 3x0 LZMA_ra, 18B } *
|  \--+ extra   { Int16 0 LZMA_ra, 18B }
|--+ phase   [  ]
|  |--+ data   { Bit1 90x1348 LZMA_ra(0.86%), 137B } *
|  |--+ ~data   { Bit1 1348x90 LZMA_ra(0.86%), 137B } *
|  |--+ extra.index   { Int32 3x0 LZMA_ra, 18B } *
|  \--+ extra   { Bit1 0 LZMA_ra, 18B }
|--+ annotation   [  ]
|  |--+ id   { Str8 1348 LZMA_ra(38.3%), 5.5K } *
|  |--+ qual   { Float32 1348 LZMA_ra(2.11%), 121B } *
|  |--+ filter   { Int32,factor 1348 LZMA_ra(2.11%), 121B } *
|  |--+ info   [  ]
|  |  |--+ AA   { Str8 1328 LZMA_ra(22.1%), 593B } *
|  |  |--+ AC   { Int32 1348 LZMA_ra(24.1%), 1.3K } *
|  |  |--+ AN   { Int32 1348 LZMA_ra(19.6%), 1.0K } *
|  |  |--+ DP   { Int32 1348 LZMA_ra(47.7%), 2.5K } *
|  |  |--+ HM2   { Bit1 1348 LZMA_ra(145.6%), 253B } *
|  |  |--+ HM3   { Bit1 1348 LZMA_ra(145.6%), 253B } *
|  |  |--+ OR   { Str8 1348 LZMA_ra(19.6%), 341B } *
|  |  |--+ GP   { Str8 1348 LZMA_ra(24.3%), 3.8K } *
|  |  \--+ BN   { Int32 1348 LZMA_ra(20.7%), 1.1K } *
|  \--+ format   [  ]
|     \--+ DP   [  ] *
|        |--+ data   { VL_Int 90x1348 LZMA_ra(70.8%), 115.2K } *
|        \--+ ~data   { VL_Int 1348x90 LZMA_ra(65.1%), 105.9K } *
\--+ sample.annotation   [  ]
   \--+ family   { Str8 90 LZMA_ra(55.0%), 221B } *
# of selected variants: 142
# of selected samples: 90
# of selected variants: 1,348
# of selected variants: 5
# of selected samples: 90
# of selected variants: 1,348
# of selected samples: 5
# of selected variants: 5
# of selected samples: 90
# of selected variants: 1,348
# of selected samples: 90
# of selected variants: 1,348
# of selected samples: 3
# of selected samples: 3
matching samples... 2 pairs identified!
matching variants... 1346 variant matches identified!
matching samples... 2 pairs identified!
matching variants... 1346 variant matches identified!
# of selected samples: 90
# of selected variants: 1,348
# of selected samples: 90
# of selected variants: 1,348
# of selected samples: 2
# of selected variants: 50
# of selected samples: 2
# of selected variants: 51
matching samples... 2 pairs identified!
matching variants... 26 variant matches identified!
matching samples... 2 pairs identified!
matching variants... 26 variant matches identified!
# of selected variants: 26
# of selected samples: 90
# of selected variants: 1,348
# of selected samples: 90
# of selected variants: 1,348
# of selected samples: 3
# of selected samples: 3
matching samples... 2 pairs identified!
matching variants... 1346 variant matches identified!
matching samples... 2 pairs identified!
matching variants... 1346 variant matches identified!
matching samples... 2 pairs identified!
matching variants... 1346 variant matches identified!
matching samples... 2 pairs identified!
matching variants... 1346 variant matches identified!
# of selected samples: 90
# of selected variants: 1,348
# of selected samples: 90
# of selected variants: 1,348
# of selected samples: 2
# of selected variants: 50
# of selected samples: 2
# of selected variants: 51
matching samples... 2 pairs identified!
matching variants... 26 variant matches identified!
matching samples... 2 pairs identified!
matching variants... 26 variant matches identified!
# of selected variants: 26
Warning in SeqVarTools:::.samplePairs1(samples) :
  More than two samples for subject 4
Selecting first two samples: samp7, samp8
# of selected samples: 5
# of selected variants: 10
# of selected samples: 5
# of selected variants: 10
# of selected samples: 5
# of selected variants: 10
# of selected samples: 5
# of selected variants: 10
# of selected samples: 5
# of selected variants: 10
# of selected samples: 90
# of selected variants: 1,348
# of selected samples: 5
# of selected variants: 10
# of selected samples: 5
# of selected variants: 10
# of selected samples: 5
# of selected variants: 10
# of selected samples: 90
# of selected variants: 1,348
# of selected samples: 5
# of selected variants: 10
# of selected samples: 5
# of selected variants: 10
# of selected variants: 1,346
# of selected variants: 1,330
# of selected samples: 5
# of selected variants: 10
# of selected samples: 90
# of selected variants: 1,348
# of selected samples: 5
# of selected variants: 10
# of selected samples: 5
# of selected variants: 10
# of selected samples: 5
# of selected variants: 10
# of selected samples: 90
# of selected variants: 1,348
# of selected samples: 5
# of selected variants: 10
# of selected samples: 3
# of selected variants: 10
# of selected samples: 3
# of selected samples: 90
# of selected variants: 1,348
# of selected variants: 10
# of selected samples: 3
# of selected samples: 5
# of selected variants: 10
# of selected samples: 90
# of selected variants: 1,348
# of selected samples: 5
# of selected variants: 10
# of selected samples: 5
# of selected variants: 10
starting worker pid=58544 on localhost:11408 at 05:53:12.375
starting worker pid=82748 on localhost:11408 at 05:53:12.452
starting worker pid=130996 on localhost:11408 at 05:53:12.453
starting worker pid=90164 on localhost:11408 at 05:53:12.485
starting worker pid=37352 on localhost:11408 at 05:53:12.504
starting worker pid=105744 on localhost:11408 at 05:53:12.504
starting worker pid=99096 on localhost:11408 at 05:53:12.579
starting worker pid=29028 on localhost:11408 at 05:53:12.681
starting worker pid=50004 on localhost:11408 at 05:53:12.694
starting worker pid=96284 on localhost:11408 at 05:53:12.696
starting worker pid=13760 on localhost:11408 at 05:53:12.705
starting worker pid=69112 on localhost:11408 at 05:53:12.716
starting worker pid=76408 on localhost:11408 at 05:53:12.741
starting worker pid=54328 on localhost:11408 at 05:53:12.744
starting worker pid=84300 on localhost:11408 at 05:53:12.762
starting worker pid=72108 on localhost:11408 at 05:53:12.769
starting worker pid=48784 on localhost:11408 at 05:53:12.770
starting worker pid=102876 on localhost:11408 at 05:53:12.770
starting worker pid=136224 on localhost:11408 at 05:53:12.789
starting worker pid=104652 on localhost:11408 at 05:53:12.793
starting worker pid=108028 on localhost:11408 at 05:53:12.795
starting worker pid=87880 on localhost:11408 at 05:53:12.802
starting worker pid=117052 on localhost:11408 at 05:53:12.803
starting worker pid=7636 on localhost:11408 at 05:53:12.807
starting worker pid=103012 on localhost:11408 at 05:53:12.846
starting worker pid=106192 on localhost:11408 at 05:53:12.847
starting worker pid=44208 on localhost:11408 at 05:53:12.864
starting worker pid=20600 on localhost:11408 at 05:53:12.866
starting worker pid=14136 on localhost:11408 at 05:53:12.926
starting worker pid=59644 on localhost:11408 at 05:53:12.929
starting worker pid=81320 on localhost:11408 at 05:53:13.042
starting worker pid=35716 on localhost:11408 at 05:53:22.598
starting worker pid=133168 on localhost:11408 at 05:53:22.608
starting worker pid=119184 on localhost:11408 at 05:53:22.609
starting worker pid=105456 on localhost:11408 at 05:53:22.643
starting worker pid=104624 on localhost:11408 at 05:53:22.650
starting worker pid=22532 on localhost:11408 at 05:53:22.662
starting worker pid=131704 on localhost:11408 at 05:53:22.665
starting worker pid=27264 on localhost:11408 at 05:53:22.697
starting worker pid=10512 on localhost:11408 at 05:53:22.712
starting worker pid=29192 on localhost:11408 at 05:53:22.713
starting worker pid=111828 on localhost:11408 at 05:53:22.713
starting worker pid=29432 on localhost:11408 at 05:53:22.716
starting worker pid=140776 on localhost:11408 at 05:53:22.722
starting worker pid=108420 on localhost:11408 at 05:53:22.748
starting worker pid=87224 on localhost:11408 at 05:53:22.751
starting worker pid=34416 on localhost:11408 at 05:53:22.726
starting worker pid=72972 on localhost:11408 at 05:53:22.782
starting worker pid=36160 on localhost:11408 at 05:53:22.785
starting worker pid=38000 on localhost:11408 at 05:53:22.788
starting worker pid=64736 on localhost:11408 at 05:53:22.790
starting worker pid=123324 on localhost:11408 at 05:53:22.796
starting worker pid=29196 on localhost:11408 at 05:53:22.803
starting worker pid=28816 on localhost:11408 at 05:53:22.810
starting worker pid=89248 on localhost:11408 at 05:53:22.829
starting worker pid=50828 on localhost:11408 at 05:53:22.874
starting worker pid=120928 on localhost:11408 at 05:53:22.874
starting worker pid=138504 on localhost:11408 at 05:53:22.900
starting worker pid=84904 on localhost:11408 at 05:53:22.901
starting worker pid=58328 on localhost:11408 at 05:53:22.936
starting worker pid=103400 on localhost:11408 at 05:53:22.936
starting worker pid=35240 on localhost:11408 at 05:53:23.055
starting worker pid=17632 on localhost:11408 at 05:53:41.551
starting worker pid=113896 on localhost:11408 at 05:53:41.585
starting worker pid=19552 on localhost:11408 at 05:53:41.629
starting worker pid=138424 on localhost:11408 at 05:53:41.650
starting worker pid=116728 on localhost:11408 at 05:53:41.741
starting worker pid=25364 on localhost:11408 at 05:53:41.769
starting worker pid=68752 on localhost:11408 at 05:53:41.773
starting worker pid=121612 on localhost:11408 at 05:53:41.774
starting worker pid=119408 on localhost:11408 at 05:53:41.799
starting worker pid=111204 on localhost:11408 at 05:53:41.828
starting worker pid=29612 on localhost:11408 at 05:53:41.846
starting worker pid=104960 on localhost:11408 at 05:53:41.860
starting worker pid=71292 on localhost:11408 at 05:53:41.893
starting worker pid=99660 on localhost:11408 at 05:53:41.893
starting worker pid=53256 on localhost:11408 at 05:53:41.895
starting worker pid=51692 on localhost:11408 at 05:53:41.922
starting worker pid=1636 on localhost:11408 at 05:53:41.948
starting worker pid=48600 on localhost:11408 at 05:53:41.952
starting worker pid=14312 on localhost:11408 at 05:53:41.989
starting worker pid=121660 on localhost:11408 at 05:53:42.005
starting worker pid=46736 on localhost:11408 at 05:53:42.010
starting worker pid=42328 on localhost:11408 at 05:53:42.011
starting worker pid=141256 on localhost:11408 at 05:53:42.021
starting worker pid=15516 on localhost:11408 at 05:53:42.022
starting worker pid=80144 on localhost:11408 at 05:53:42.048
starting worker pid=14952 on localhost:11408 at 05:53:42.052
starting worker pid=133604 on localhost:11408 at 05:53:42.052
starting worker pid=94212 on localhost:11408 at 05:53:42.064
starting worker pid=87364 on localhost:11408 at 05:53:42.076
starting worker pid=23508 on localhost:11408 at 05:53:42.100
starting worker pid=69228 on localhost:11408 at 05:53:42.182
starting worker pid=15736 on localhost:11408 at 05:53:51.528
starting worker pid=16112 on localhost:11408 at 05:53:51.529
starting worker pid=28308 on localhost:11408 at 05:53:51.634
starting worker pid=133288 on localhost:11408 at 05:53:51.691
starting worker pid=103156 on localhost:11408 at 05:53:51.700
starting worker pid=100408 on localhost:11408 at 05:53:51.710
starting worker pid=84212 on localhost:11408 at 05:53:51.718
starting worker pid=78420 on localhost:11408 at 05:53:51.748
starting worker pid=41704 on localhost:11408 at 05:53:51.758
starting worker pid=114868 on localhost:11408 at 05:53:51.761
starting worker pid=41004 on localhost:11408 at 05:53:51.792
starting worker pid=26108 on localhost:11408 at 05:53:51.803
starting worker pid=71872 on localhost:11408 at 05:53:51.821
starting worker pid=117212 on localhost:11408 at 05:53:51.833
starting worker pid=99032 on localhost:11408 at 05:53:51.840
starting worker pid=31248 on localhost:11408 at 05:53:51.843
starting worker pid=65324 on localhost:11408 at 05:53:51.852
starting worker pid=21128 on localhost:11408 at 05:53:51.861
starting worker pid=92480 on localhost:11408 at 05:53:51.868
starting worker pid=20616 on localhost:11408 at 05:53:51.896
starting worker pid=29708 on localhost:11408 at 05:53:51.904
starting worker pid=98524 on localhost:11408 at 05:53:51.916
starting worker pid=141936 on localhost:11408 at 05:53:51.927
starting worker pid=114500 on localhost:11408 at 05:53:51.962
starting worker pid=51840 on localhost:11408 at 05:53:51.962
starting worker pid=88816 on localhost:11408 at 05:53:52.015
starting worker pid=100484 on localhost:11408 at 05:53:52.023
starting worker pid=136448 on localhost:11408 at 05:53:52.026
starting worker pid=42572 on localhost:11408 at 05:53:52.030
starting worker pid=11996 on localhost:11408 at 05:53:52.052
starting worker pid=77256 on localhost:11408 at 05:53:52.073
starting worker pid=84776 on localhost:11408 at 05:54:08.698
starting worker pid=127260 on localhost:11408 at 05:54:08.712
starting worker pid=21608 on localhost:11408 at 05:54:08.728
starting worker pid=52916 on localhost:11408 at 05:54:08.819
starting worker pid=69980 on localhost:11408 at 05:54:08.829
starting worker pid=91632 on localhost:11408 at 05:54:08.836
starting worker pid=132252 on localhost:11408 at 05:54:08.886
starting worker pid=75268 on localhost:11408 at 05:54:08.901
starting worker pid=113792 on localhost:11408 at 05:54:08.906
starting worker pid=103884 on localhost:11408 at 05:54:08.919
starting worker pid=115128 on localhost:11408 at 05:54:08.921
starting worker pid=132936 on localhost:11408 at 05:54:08.922
starting worker pid=12808 on localhost:11408 at 05:54:08.939
starting worker pid=9480 on localhost:11408 at 05:54:08.941
starting worker pid=87444 on localhost:11408 at 05:54:08.953
starting worker pid=127124 on localhost:11408 at 05:54:08.979
starting worker pid=122296 on localhost:11408 at 05:54:09.026
starting worker pid=65540 on localhost:11408 at 05:54:09.033
starting worker pid=108292 on localhost:11408 at 05:54:09.040
starting worker pid=132368 on localhost:11408 at 05:54:09.054
starting worker pid=24936 on localhost:11408 at 05:54:09.054
starting worker pid=43476 on localhost:11408 at 05:54:09.077
starting worker pid=88216 on localhost:11408 at 05:54:09.110
starting worker pid=77204 on localhost:11408 at 05:54:09.113
starting worker pid=27788 on localhost:11408 at 05:54:09.129
starting worker pid=30228 on localhost:11408 at 05:54:09.136
starting worker pid=100004 on localhost:11408 at 05:54:09.143
starting worker pid=116692 on localhost:11408 at 05:54:09.151
starting worker pid=97656 on localhost:11408 at 05:54:09.171
starting worker pid=99704 on localhost:11408 at 05:54:09.180
starting worker pid=18016 on localhost:11408 at 05:54:09.191
# of selected samples: 5
# of selected variants: 10
# of selected samples: 90
# of selected variants: 1,348
# of selected samples: 5
# of selected variants: 10
# of selected variants: 903
# of selected samples: 59
# of selected samples: 58
# of selected samples: 32
# of selected samples: 5
# of selected variants: 10
# of selected samples: 90
# of selected variants: 1,348
# of selected samples: 5
# of selected variants: 10
# of selected samples: 5
# of selected variants: 10
# of selected samples: 90
# of selected variants: 1,348
# of selected samples: 5
# of selected variants: 10
# of selected samples: 10
# of selected samples: 10
# of selected variants: 10
# of selected samples: 10


RUNIT TEST PROTOCOL -- Tue Feb  4 05:54:31 2025 
*********************************************** 
Number of test functions: 152 
Number of errors: 0 
Number of failures: 0 

 
1 Test Suite : 
SeqVarTools RUnit Tests - 152 test functions, 0 errors, 0 failures
Number of test functions: 152 
Number of errors: 0 
Number of failures: 0 
> 
> proc.time()
   user  system elapsed 
  24.32    2.15  101.37 

Example timings

SeqVarTools.Rcheck/SeqVarTools-Ex.timings

nameusersystemelapsed
Iterator-class0.670.050.74
SeqVarData-class0.080.020.09
allele-methods0.020.000.02
alleleFrequency0.010.000.01
alternateAlleleDetection000
applyMethod0.200.010.22
countSingletons0.040.000.03
duplicateDiscordance0.140.020.16
getGenotype0.040.010.06
getVariableLengthData0.000.000.02
heterozygosity0.170.000.18
hwe0.050.000.04
imputedDosage0.240.050.35
inbreedCoeff0.140.000.14
isSNV000
isVariant0.010.000.01
meanBySample0.030.000.03
mendelErr0.030.000.07
missingGenotypeRate0.020.000.01
pca0.670.060.74
pedigree000
refFrac0.040.000.06
regression0.100.010.11
setVariantID0.000.020.05
titv0.180.030.20
variantInfo0.030.000.03