Back to Multiple platform build/check report for BioC 3.21:   simplified   long
A[B]CDEFGHIJKLMNOPQRSTUVWXYZ

This page was generated on 2025-02-04 11:40 -0500 (Tue, 04 Feb 2025).

HostnameOSArch (*)R versionInstalled pkgs
nebbiolo1Linux (Ubuntu 24.04.1 LTS)x86_64R Under development (unstable) (2025-01-20 r87609) -- "Unsuffered Consequences" 4716
palomino7Windows Server 2022 Datacenterx64R Under development (unstable) (2025-01-21 r87610 ucrt) -- "Unsuffered Consequences" 4478
lconwaymacOS 12.7.1 Montereyx86_64R Under development (unstable) (2025-01-22 r87618) -- "Unsuffered Consequences" 4489
kjohnson3macOS 13.7.1 Venturaarm64R Under development (unstable) (2025-01-20 r87609) -- "Unsuffered Consequences" 4442
Click on any hostname to see more info about the system (e.g. compilers)      (*) as reported by 'uname -p', except on Windows and Mac OS X

Package 199/2295HostnameOS / ArchINSTALLBUILDCHECKBUILD BIN
biocViews 1.75.0  (landing page)
Bioconductor Package Maintainer
Snapshot Date: 2025-02-03 13:40 -0500 (Mon, 03 Feb 2025)
git_url: https://git.bioconductor.org/packages/biocViews
git_branch: devel
git_last_commit: 8aa6daf
git_last_commit_date: 2024-10-29 09:25:07 -0500 (Tue, 29 Oct 2024)
nebbiolo1Linux (Ubuntu 24.04.1 LTS) / x86_64  OK    OK    OK  UNNEEDED, same version is already published
palomino7Windows Server 2022 Datacenter / x64  OK    OK    OK    OK  UNNEEDED, same version is already published
lconwaymacOS 12.7.1 Monterey / x86_64  OK    OK    OK    OK  UNNEEDED, same version is already published
kjohnson3macOS 13.7.1 Ventura / arm64  OK    OK    OK    OK  UNNEEDED, same version is already published


CHECK results for biocViews on palomino7

To the developers/maintainers of the biocViews package:
- Allow up to 24 hours (and sometimes 48 hours) for your latest push to git@git.bioconductor.org:packages/biocViews.git to reflect on this report. See Troubleshooting Build Report for more information.
- Use the following Renviron settings to reproduce errors and warnings.
- If 'R CMD check' started to fail recently on the Linux builder(s) over a missing dependency, add the missing dependency to 'Suggests:' in your DESCRIPTION file. See Renviron.bioc for more information.

raw results


Summary

Package: biocViews
Version: 1.75.0
Command: E:\biocbuild\bbs-3.21-bioc\R\bin\R.exe CMD check --no-multiarch --install=check:biocViews.install-out.txt --library=E:\biocbuild\bbs-3.21-bioc\R\library --no-vignettes --timings biocViews_1.75.0.tar.gz
StartedAt: 2025-02-03 23:30:59 -0500 (Mon, 03 Feb 2025)
EndedAt: 2025-02-03 23:33:56 -0500 (Mon, 03 Feb 2025)
EllapsedTime: 176.9 seconds
RetCode: 0
Status:   OK  
CheckDir: biocViews.Rcheck
Warnings: 0

Command output

##############################################################################
##############################################################################
###
### Running command:
###
###   E:\biocbuild\bbs-3.21-bioc\R\bin\R.exe CMD check --no-multiarch --install=check:biocViews.install-out.txt --library=E:\biocbuild\bbs-3.21-bioc\R\library --no-vignettes --timings biocViews_1.75.0.tar.gz
###
##############################################################################
##############################################################################


* using log directory 'E:/biocbuild/bbs-3.21-bioc/meat/biocViews.Rcheck'
* using R Under development (unstable) (2025-01-21 r87610 ucrt)
* using platform: x86_64-w64-mingw32
* R was compiled by
    gcc.exe (GCC) 13.3.0
    GNU Fortran (GCC) 13.3.0
* running under: Windows Server 2022 x64 (build 20348)
* using session charset: UTF-8
* using option '--no-vignettes'
* checking for file 'biocViews/DESCRIPTION' ... OK
* this is package 'biocViews' version '1.75.0'
* checking package namespace information ... OK
* checking package dependencies ... OK
* checking if this is a source package ... OK
* checking if there is a namespace ... OK
* checking for hidden files and directories ... OK
* checking for portable file names ... OK
* checking whether package 'biocViews' can be installed ... OK
* checking installed package size ... OK
* checking package directory ... OK
* checking 'build' directory ... OK
* checking DESCRIPTION meta-information ... OK
* checking top-level files ... OK
* checking for left-over files ... OK
* checking index information ... OK
* checking package subdirectories ... OK
* checking code files for non-ASCII characters ... OK
* checking R files for syntax errors ... OK
* checking whether the package can be loaded ... OK
* checking whether the package can be loaded with stated dependencies ... OK
* checking whether the package can be unloaded cleanly ... OK
* checking whether the namespace can be loaded with stated dependencies ... OK
* checking whether the namespace can be unloaded cleanly ... OK
* checking dependencies in R code ... NOTE
':::' call which should be '::': 'tools:::vignetteInfo'
  See the note in ?`:::` about the use of this operator.
Unexported objects imported by ':::' calls:
  'tools:::.build_news_db_from_package_NEWS_Rd'
  'tools:::.build_news_db_from_package_NEWS_md'
  'tools:::.build_repository_package_db'
  'tools:::.expand_package_description_db_R_fields'
  'tools:::.get_standard_repository_db_fields'
  'tools:::.news_reader_default' 'tools:::.read_description'
  'tools:::.split_dependencies'
  See the note in ?`:::` about the use of this operator.
* checking S3 generic/method consistency ... OK
* checking replacement functions ... OK
* checking foreign function calls ... OK
* checking R code for possible problems ... NOTE
dump_concept: no visible binding for global variable 'biocViewsVocab'
getPackageNEWS : getNews: no visible binding for global variable
  'Version'
getReverseDepends : <anonymous>: no visible binding for global variable
  'Package'
Undefined global functions or variables:
  Package Version biocViewsVocab
* checking Rd files ... OK
* checking Rd metadata ... OK
* checking Rd cross-references ... OK
* checking for missing documentation entries ... OK
* checking for code/documentation mismatches ... OK
* checking Rd \usage sections ... OK
* checking Rd contents ... OK
* checking for unstated dependencies in examples ... OK
* checking contents of 'data' directory ... OK
* checking data for non-ASCII characters ... OK
* checking data for ASCII and uncompressed saves ... OK
* checking installed files from 'inst/doc' ... OK
* checking files in 'vignettes' ... OK
* checking examples ... OK
* checking for unstated dependencies in 'tests' ... OK
* checking tests ...
  Running 'runTests.R'
 OK
* checking for unstated dependencies in vignettes ... OK
* checking package vignettes ... OK
* checking running R code from vignettes ... SKIPPED
* checking re-building of vignette outputs ... SKIPPED
* checking PDF version of manual ... OK
* DONE

Status: 2 NOTEs
See
  'E:/biocbuild/bbs-3.21-bioc/meat/biocViews.Rcheck/00check.log'
for details.


Installation output

biocViews.Rcheck/00install.out

##############################################################################
##############################################################################
###
### Running command:
###
###   E:\biocbuild\bbs-3.21-bioc\R\bin\R.exe CMD INSTALL biocViews
###
##############################################################################
##############################################################################


* installing to library 'E:/biocbuild/bbs-3.21-bioc/R/library'
* installing *source* package 'biocViews' ...
** this is package 'biocViews' version '1.75.0'
** using staged installation
** R
** data
** inst
** byte-compile and prepare package for lazy loading
** help
*** installing help indices
** building package indices
** installing vignettes
** testing if installed package can be loaded from temporary location
** testing if installed package can be loaded from final location
** testing if installed package keeps a record of temporary installation path
* DONE (biocViews)

Tests output

biocViews.Rcheck/tests/runTests.Rout


R Under development (unstable) (2025-01-21 r87610 ucrt) -- "Unsuffered Consequences"
Copyright (C) 2025 The R Foundation for Statistical Computing
Platform: x86_64-w64-mingw32/x64

R is free software and comes with ABSOLUTELY NO WARRANTY.
You are welcome to redistribute it under certain conditions.
Type 'license()' or 'licence()' for distribution details.

R is a collaborative project with many contributors.
Type 'contributors()' for more information and
'citation()' on how to cite R or R packages in publications.

Type 'demo()' for some demos, 'help()' for on-line help, or
'help.start()' for an HTML browser interface to help.
Type 'q()' to quit R.

> BiocGenerics:::testPackage("biocViews")
Generate citation for E:\biocbuild\bbs-3.21-bioc\tmpdir\RtmpUhkqbx/testing/testrepos/src/contrib/biocViews2_1.75.0.tar.gz ... (try to process CITATION file) OK
Generate citation for E:\biocbuild\bbs-3.21-bioc\tmpdir\RtmpUhkqbx/testing/testrepos/src/contrib/biocViews_1.75.0.tar.gz ... tar.exe: biocViews/inst/CITATION: Not found in archive
tar.exe: Error exit delayed from previous errors.
(auto-generate from DESCRIPTION file) OK


RUNIT TEST PROTOCOL -- Mon Feb  3 23:33:45 2025 
*********************************************** 
Number of test functions: 5 
Number of errors: 0 
Number of failures: 0 

 
1 Test Suite : 
biocViews RUnit Tests - 5 test functions, 0 errors, 0 failures
Number of test functions: 5 
Number of errors: 0 
Number of failures: 0 
Warning messages:
1: In packageDescription(pkgname, lib.loc = tmpdir) :
  no package 'biocViews2' was found
2: In untar(tarball, tpaths, exdir = tmpdir) :
  'tar.exe -xf "E:\biocbuild\bbs-3.21-bioc\tmpdir\RtmpUhkqbx/testing/testrepos/src/contrib/biocViews_1.75.0.tar.gz" -C "E:/biocbuild/bbs-3.21-bioc/tmpdir/RtmpUhkqbx" "biocViews/DESCRIPTION" "biocViews/inst/CITATION"' returned error code 1
> 
> proc.time()
   user  system elapsed 
   3.73    0.29    5.06 

Example timings

biocViews.Rcheck/biocViews-Ex.timings

nameusersystemelapsed
PackageDetail-class0.110.000.11
biocViews-package0.140.000.14
biocViewsVocab0.010.000.02
dump_concept000
getBiocSubViews0.890.041.11
getBiocViews0.670.030.70
getCurrentbiocViews0.020.000.06
getPackageTitles000
getSubTerms0.120.000.13
guessPackageType0.020.000.01
recommendPackages0.550.020.64
validation_tests0.010.000.02